BEGIN:VCALENDAR
VERSION:2.0
PRODID:-//GoiásFomento - Agência de Fomento - ECPv6.15.20//NONSGML v1.0//EN
CALSCALE:GREGORIAN
METHOD:PUBLISH
X-ORIGINAL-URL:https://www.goiasfomento.com
X-WR-CALDESC:Eventos para GoiásFomento - Agência de Fomento
REFRESH-INTERVAL;VALUE=DURATION:PT1H
X-Robots-Tag:noindex
X-PUBLISHED-TTL:PT1H
BEGIN:VTIMEZONE
TZID:America/Sao_Paulo
BEGIN:STANDARD
TZOFFSETFROM:-0300
TZOFFSETTO:-0300
TZNAME:-03
DTSTART:20230101T000000
END:STANDARD
END:VTIMEZONE
BEGIN:VEVENT
DTSTART;TZID=America/Sao_Paulo:20240708T080000
DTEND;TZID=America/Sao_Paulo:20240708T100000
DTSTAMP:20260425T095534
CREATED:20240708T200214Z
LAST-MODIFIED:20240708T200214Z
UID:35490-1720425600-1720432800@www.goiasfomento.com
SUMMARY:Lucas Fernandes: Despachos Internos.
DESCRIPTION:
URL:https://www.goiasfomento.com/agenda/lucas-fernandes-despachos-internos-440/
LOCATION:Gabinete da Diretoria Administrativa e Financeira – Agência de Fomento de Goiás.
CATEGORIES:Diretoria Administrativa e Financeira
END:VEVENT
BEGIN:VEVENT
DTSTART;TZID=America/Sao_Paulo:20240708T100000
DTEND;TZID=America/Sao_Paulo:20240708T120000
DTSTAMP:20260425T095534
CREATED:20240708T201729Z
LAST-MODIFIED:20240708T201729Z
UID:35492-1720432800-1720440000@www.goiasfomento.com
SUMMARY:Lucas Fernandes: Reunião com os Gerentes da Agência de Fomento de Goiás.
DESCRIPTION:
URL:https://www.goiasfomento.com/agenda/lucas-fernandes-reuniao-com-os-gerentes-da-agencia-de-fomento-de-goias-2/
LOCATION:Gabinete da Diretoria Administrativa e Financeira – Agência de Fomento de Goiás.
CATEGORIES:Diretoria Administrativa e Financeira
END:VEVENT
BEGIN:VEVENT
DTSTART;TZID=America/Sao_Paulo:20240708T140000
DTEND;TZID=America/Sao_Paulo:20240708T150000
DTSTAMP:20260425T095534
CREATED:20240708T202024Z
LAST-MODIFIED:20240708T202024Z
UID:35494-1720447200-1720450800@www.goiasfomento.com
SUMMARY:Lucas Fernandes: Despachos Internos.
DESCRIPTION:
URL:https://www.goiasfomento.com/agenda/lucas-fernandes-despachos-internos-441/
LOCATION:Gabinete da Diretoria Administrativa e Financeira – Agência de Fomento de Goiás.
CATEGORIES:Diretoria Administrativa e Financeira
END:VEVENT
BEGIN:VEVENT
DTSTART;TZID=America/Sao_Paulo:20240708T150000
DTEND;TZID=America/Sao_Paulo:20240708T170000
DTSTAMP:20260425T095534
CREATED:20240708T202509Z
LAST-MODIFIED:20240708T202509Z
UID:35496-1720450800-1720458000@www.goiasfomento.com
SUMMARY:Lucas Fernandes: Assinatura do Decreto que Regulamenta a Lei Estadual de Liberdade Econômica.
DESCRIPTION:
URL:https://www.goiasfomento.com/agenda/lucas-fernandes-assinatura-do-decreto-que-regulamenta-a-lei-estadual-de-liberdade-economica/
LOCATION:Centro Administrativo _ Auditório “Governador Mauro Borges”.
CATEGORIES:Diretoria Administrativa e Financeira
END:VEVENT
BEGIN:VEVENT
DTSTART;TZID=America/Sao_Paulo:20240708T180000
DTEND;TZID=America/Sao_Paulo:20240708T180000
DTSTAMP:20260425T095534
CREATED:20240708T202556Z
LAST-MODIFIED:20240708T202556Z
UID:35499-1720461600-1720461600@www.goiasfomento.com
SUMMARY:Lucas Fernandes: Despachos Internos.
DESCRIPTION:
URL:https://www.goiasfomento.com/agenda/lucas-fernandes-despachos-internos-442/
LOCATION:Gabinete da Diretoria Administrativa e Financeira – Agência de Fomento de Goiás.
CATEGORIES:Diretoria Administrativa e Financeira
END:VEVENT
END:VCALENDAR