BEGIN:VCALENDAR
VERSION:2.0
PRODID:-//GoiásFomento - Agência de Fomento - ECPv6.15.20//NONSGML v1.0//EN
CALSCALE:GREGORIAN
METHOD:PUBLISH
X-ORIGINAL-URL:https://www.goiasfomento.com
X-WR-CALDESC:Eventos para GoiásFomento - Agência de Fomento
REFRESH-INTERVAL;VALUE=DURATION:PT1H
X-Robots-Tag:noindex
X-PUBLISHED-TTL:PT1H
BEGIN:VTIMEZONE
TZID:America/Sao_Paulo
BEGIN:STANDARD
TZOFFSETFROM:-0300
TZOFFSETTO:-0300
TZNAME:-03
DTSTART:20230101T000000
END:STANDARD
END:VTIMEZONE
BEGIN:VEVENT
DTSTART;TZID=America/Sao_Paulo:20240704T080000
DTEND;TZID=America/Sao_Paulo:20240704T120000
DTSTAMP:20260425T095535
CREATED:20240705T134347Z
LAST-MODIFIED:20240705T134347Z
UID:35427-1720080000-1720094400@www.goiasfomento.com
SUMMARY:Lucas Fernandes: Convenção de Vendas e Negócios AVECON.
DESCRIPTION:
URL:https://www.goiasfomento.com/agenda/lucas-fernandes-convencao-de-vendas-e-negocios-avecon/
LOCATION:R. MP 12\, s/n – Res. Mar Del Plata\, Goiânia – GO\, 74766-186
CATEGORIES:Diretoria Administrativa e Financeira
END:VEVENT
BEGIN:VEVENT
DTSTART;TZID=America/Sao_Paulo:20240704T140000
DTEND;TZID=America/Sao_Paulo:20240704T180000
DTSTAMP:20260425T095535
CREATED:20240705T135027Z
LAST-MODIFIED:20240705T135027Z
UID:35438-1720101600-1720116000@www.goiasfomento.com
SUMMARY:Lucas Fernandes: Despachos Internos.
DESCRIPTION:
URL:https://www.goiasfomento.com/agenda/lucas-fernandes-despachos-internos-437/
LOCATION:Gabinete da Diretoria Administrativa e Financeira – Agência de Fomento de Goiás.
CATEGORIES:Diretoria Administrativa e Financeira
END:VEVENT
END:VCALENDAR