BEGIN:VCALENDAR
VERSION:2.0
PRODID:-//GoiásFomento - Agência de Fomento - ECPv6.15.20//NONSGML v1.0//EN
CALSCALE:GREGORIAN
METHOD:PUBLISH
X-ORIGINAL-URL:https://www.goiasfomento.com
X-WR-CALDESC:Eventos para GoiásFomento - Agência de Fomento
REFRESH-INTERVAL;VALUE=DURATION:PT1H
X-Robots-Tag:noindex
X-PUBLISHED-TTL:PT1H
BEGIN:VTIMEZONE
TZID:America/Sao_Paulo
BEGIN:STANDARD
TZOFFSETFROM:-0300
TZOFFSETTO:-0300
TZNAME:-03
DTSTART:20230101T000000
END:STANDARD
END:VTIMEZONE
BEGIN:VEVENT
DTSTART;TZID=America/Sao_Paulo:20240625T080000
DTEND;TZID=America/Sao_Paulo:20240625T120000
DTSTAMP:20260425T112138
CREATED:20240625T195900Z
LAST-MODIFIED:20240625T195900Z
UID:35231-1719302400-1719316800@www.goiasfomento.com
SUMMARY:Lucas Fernandes: Despachos Internos.
DESCRIPTION:
URL:https://www.goiasfomento.com/agenda/lucas-fernandes-despachos-internos-421/
LOCATION:Gabinete da Diretoria Administrativa e Financeira – Agência de Fomento de Goiás.
CATEGORIES:Diretoria Administrativa e Financeira
END:VEVENT
BEGIN:VEVENT
DTSTART;TZID=America/Sao_Paulo:20240625T140000
DTEND;TZID=America/Sao_Paulo:20240625T150000
DTSTAMP:20260425T112138
CREATED:20240625T195933Z
LAST-MODIFIED:20240625T201018Z
UID:35233-1719324000-1719327600@www.goiasfomento.com
SUMMARY:Lucas Fernandes: Despachos Internos.
DESCRIPTION:
URL:https://www.goiasfomento.com/agenda/lucas-fernandes-despachos-internos-422/
LOCATION:Gabinete da Diretoria Administrativa e Financeira – Agência de Fomento de Goiás.
CATEGORIES:Diretoria Administrativa e Financeira
END:VEVENT
BEGIN:VEVENT
DTSTART;TZID=America/Sao_Paulo:20240625T150000
DTEND;TZID=America/Sao_Paulo:20240625T163000
DTSTAMP:20260425T112138
CREATED:20240625T202322Z
LAST-MODIFIED:20240625T202322Z
UID:35239-1719327600-1719333000@www.goiasfomento.com
SUMMARY:Lucas Fernandes: Reunião Extraordinária do Conselho Deliberativo do Fundo de Equalizção para o Empreendedor CD/FUNDEQ.
DESCRIPTION:
URL:https://www.goiasfomento.com/agenda/lucas-fernandes-reuniao-extraordinaria-do-conselho-deliberativo-do-fundo-de-equalizcao-para-o-empreendedor-cd-fundeq/
LOCATION:Secretaria de Estado da Retomada.
CATEGORIES:Diretoria Administrativa e Financeira
END:VEVENT
BEGIN:VEVENT
DTSTART;TZID=America/Sao_Paulo:20240625T163000
DTEND;TZID=America/Sao_Paulo:20240625T180000
DTSTAMP:20260425T112138
CREATED:20240625T202410Z
LAST-MODIFIED:20240625T202410Z
UID:35241-1719333000-1719338400@www.goiasfomento.com
SUMMARY:Lucas Fernandes: Despachos Internos.
DESCRIPTION:
URL:https://www.goiasfomento.com/agenda/lucas-fernandes-despachos-internos-423/
LOCATION:Gabinete da Diretoria Administrativa e Financeira – Agência de Fomento de Goiás.
CATEGORIES:Diretoria Administrativa e Financeira
END:VEVENT
END:VCALENDAR