BEGIN:VCALENDAR
VERSION:2.0
PRODID:-//GoiásFomento - Agência de Fomento - ECPv6.15.20//NONSGML v1.0//EN
CALSCALE:GREGORIAN
METHOD:PUBLISH
X-WR-CALNAME:GoiásFomento - Agência de Fomento
X-ORIGINAL-URL:https://www.goiasfomento.com
X-WR-CALDESC:Eventos para GoiásFomento - Agência de Fomento
REFRESH-INTERVAL;VALUE=DURATION:PT1H
X-Robots-Tag:noindex
X-PUBLISHED-TTL:PT1H
BEGIN:VTIMEZONE
TZID:America/Sao_Paulo
BEGIN:STANDARD
TZOFFSETFROM:-0300
TZOFFSETTO:-0300
TZNAME:-03
DTSTART:20230101T000000
END:STANDARD
END:VTIMEZONE
BEGIN:VEVENT
DTSTART;TZID=America/Sao_Paulo:20240619T080000
DTEND;TZID=America/Sao_Paulo:20240619T120000
DTSTAMP:20260425T112126
CREATED:20240619T183213Z
LAST-MODIFIED:20240619T183213Z
UID:35132-1718784000-1718798400@www.goiasfomento.com
SUMMARY:Lucas Fernandes: Despachos Internos.
DESCRIPTION:
URL:https://www.goiasfomento.com/agenda/lucas-fernandes-despachos-internos-410/
LOCATION:Gabinete da Diretoria Administrativa e Financeira – Agência de Fomento de Goiás.
CATEGORIES:Diretoria Administrativa e Financeira
END:VEVENT
BEGIN:VEVENT
DTSTART;TZID=America/Sao_Paulo:20240619T140000
DTEND;TZID=America/Sao_Paulo:20240619T150000
DTSTAMP:20260425T112126
CREATED:20240619T190000Z
LAST-MODIFIED:20240619T190000Z
UID:35134-1718805600-1718809200@www.goiasfomento.com
SUMMARY:Lucas Fernandes: Despachos Internos.
DESCRIPTION:
URL:https://www.goiasfomento.com/agenda/lucas-fernandes-despachos-internos-411/
LOCATION:Gabinete da Diretoria Administrativa e Financeira – Agência de Fomento de Goiás.
CATEGORIES:Diretoria Administrativa e Financeira
END:VEVENT
BEGIN:VEVENT
DTSTART;TZID=America/Sao_Paulo:20240619T150000
DTEND;TZID=America/Sao_Paulo:20240619T160000
DTSTAMP:20260425T112126
CREATED:20240619T190236Z
LAST-MODIFIED:20240619T190236Z
UID:35142-1718809200-1718812800@www.goiasfomento.com
SUMMARY:Lucas Fernandes: Reunião da Diretoria Executiva da Agência de Fomento de Goiás.
DESCRIPTION:
URL:https://www.goiasfomento.com/agenda/lucas-fernandes-reuniao-da-diretoria-executiva-da-agencia-de-fomento-de-goias/
LOCATION:Gabinete da Diretoria Administrativa e Financeira – Agência de Fomento de Goiás.
CATEGORIES:Diretoria Administrativa e Financeira
END:VEVENT
BEGIN:VEVENT
DTSTART;TZID=America/Sao_Paulo:20240619T160000
DTEND;TZID=America/Sao_Paulo:20240619T180000
DTSTAMP:20260425T112126
CREATED:20240619T190342Z
LAST-MODIFIED:20240619T190342Z
UID:35145-1718812800-1718820000@www.goiasfomento.com
SUMMARY:Lucas Fernandes: Despachos Internos.
DESCRIPTION:
URL:https://www.goiasfomento.com/agenda/lucas-fernandes-despachos-internos-412/
LOCATION:Gabinete da Diretoria Administrativa e Financeira – Agência de Fomento de Goiás.
CATEGORIES:Diretoria Administrativa e Financeira
END:VEVENT
END:VCALENDAR