BEGIN:VCALENDAR
VERSION:2.0
PRODID:-//GoiásFomento - Agência de Fomento - ECPv6.15.20//NONSGML v1.0//EN
CALSCALE:GREGORIAN
METHOD:PUBLISH
X-WR-CALNAME:GoiásFomento - Agência de Fomento
X-ORIGINAL-URL:https://www.goiasfomento.com
X-WR-CALDESC:Eventos para GoiásFomento - Agência de Fomento
REFRESH-INTERVAL;VALUE=DURATION:PT1H
X-Robots-Tag:noindex
X-PUBLISHED-TTL:PT1H
BEGIN:VTIMEZONE
TZID:America/Sao_Paulo
BEGIN:STANDARD
TZOFFSETFROM:-0300
TZOFFSETTO:-0300
TZNAME:-03
DTSTART:20230101T000000
END:STANDARD
END:VTIMEZONE
BEGIN:VEVENT
DTSTART;TZID=America/Sao_Paulo:20240618T080000
DTEND;TZID=America/Sao_Paulo:20240618T140000
DTSTAMP:20260425T112126
CREATED:20240618T191955Z
LAST-MODIFIED:20240618T191955Z
UID:35116-1718697600-1718719200@www.goiasfomento.com
SUMMARY:Lucas Fernandes: Evento - Caravana da Sudeco - Edição: Caldas Novas - GO.
DESCRIPTION:
URL:https://www.goiasfomento.com/agenda/lucas-fernandes-evento-caravana-da-sudeco-edicao-caldas-novas-go/
LOCATION:Caldas Novas GO.
CATEGORIES:Diretoria Administrativa e Financeira
END:VEVENT
BEGIN:VEVENT
DTSTART;TZID=America/Sao_Paulo:20240618T140000
DTEND;TZID=America/Sao_Paulo:20240618T180000
DTSTAMP:20260425T112126
CREATED:20240618T192050Z
LAST-MODIFIED:20240618T192050Z
UID:35119-1718719200-1718733600@www.goiasfomento.com
SUMMARY:Lucas Fernandes: Despachos Internos.
DESCRIPTION:
URL:https://www.goiasfomento.com/agenda/lucas-fernandes-despachos-internos-409/
LOCATION:Gabinete da Diretoria Administrativa e Financeira – Agência de Fomento de Goiás.
CATEGORIES:Diretoria Administrativa e Financeira
END:VEVENT
END:VCALENDAR