BEGIN:VCALENDAR
VERSION:2.0
PRODID:-//GoiásFomento - Agência de Fomento - ECPv6.15.20//NONSGML v1.0//EN
CALSCALE:GREGORIAN
METHOD:PUBLISH
X-ORIGINAL-URL:https://www.goiasfomento.com
X-WR-CALDESC:Eventos para GoiásFomento - Agência de Fomento
REFRESH-INTERVAL;VALUE=DURATION:PT1H
X-Robots-Tag:noindex
X-PUBLISHED-TTL:PT1H
BEGIN:VTIMEZONE
TZID:America/Sao_Paulo
BEGIN:STANDARD
TZOFFSETFROM:-0300
TZOFFSETTO:-0300
TZNAME:-03
DTSTART:20230101T000000
END:STANDARD
END:VTIMEZONE
BEGIN:VEVENT
DTSTART;TZID=America/Sao_Paulo:20240614T080000
DTEND;TZID=America/Sao_Paulo:20240614T100000
DTSTAMP:20260425T112138
CREATED:20240614T144739Z
LAST-MODIFIED:20240614T144739Z
UID:35056-1718352000-1718359200@www.goiasfomento.com
SUMMARY:Lucas Fernandes: Despachos Internos.
DESCRIPTION:
URL:https://www.goiasfomento.com/agenda/lucas-fernandes-despachos-internos-405/
LOCATION:Gabinete da Diretoria Administrativa e Financeira – Agência de Fomento de Goiás.
CATEGORIES:Diretoria Administrativa e Financeira
END:VEVENT
BEGIN:VEVENT
DTSTART;TZID=America/Sao_Paulo:20240614T100000
DTEND;TZID=America/Sao_Paulo:20240614T120000
DTSTAMP:20260425T112138
CREATED:20240614T151418Z
LAST-MODIFIED:20240614T151418Z
UID:35060-1718359200-1718366400@www.goiasfomento.com
SUMMARY:Lucas Fernandes: Reunião - Assembleia Legislativa do Estado de Goiás-ALEGO.
DESCRIPTION:
URL:https://www.goiasfomento.com/agenda/lucas-fernandes-reuniao-assembleia-legislativa-do-estado-de-goias-alego/
LOCATION:Av. Emival Bueno\, Quadra G – Lote 01 – Park Lozandes\, Goiânia
CATEGORIES:Diretoria Administrativa e Financeira
END:VEVENT
BEGIN:VEVENT
DTSTART;TZID=America/Sao_Paulo:20240614T140000
DTEND;TZID=America/Sao_Paulo:20240614T180000
DTSTAMP:20260425T112138
CREATED:20240614T150125Z
LAST-MODIFIED:20240614T150125Z
UID:35058-1718373600-1718388000@www.goiasfomento.com
SUMMARY:Lucas Fernandes: Despachos Internos.
DESCRIPTION:
URL:https://www.goiasfomento.com/agenda/lucas-fernandes-despachos-internos-406/
LOCATION:Gabinete da Diretoria Administrativa e Financeira – Agência de Fomento de Goiás.
CATEGORIES:Diretoria Administrativa e Financeira
END:VEVENT
END:VCALENDAR