BEGIN:VCALENDAR
VERSION:2.0
PRODID:-//GoiásFomento - Agência de Fomento - ECPv6.15.20//NONSGML v1.0//EN
CALSCALE:GREGORIAN
METHOD:PUBLISH
X-ORIGINAL-URL:https://www.goiasfomento.com
X-WR-CALDESC:Eventos para GoiásFomento - Agência de Fomento
REFRESH-INTERVAL;VALUE=DURATION:PT1H
X-Robots-Tag:noindex
X-PUBLISHED-TTL:PT1H
BEGIN:VTIMEZONE
TZID:America/Sao_Paulo
BEGIN:STANDARD
TZOFFSETFROM:-0300
TZOFFSETTO:-0300
TZNAME:-03
DTSTART:20230101T000000
END:STANDARD
END:VTIMEZONE
BEGIN:VEVENT
DTSTART;TZID=America/Sao_Paulo:20240613T080000
DTEND;TZID=America/Sao_Paulo:20240613T090000
DTSTAMP:20260425T112137
CREATED:20240613T191508Z
LAST-MODIFIED:20240613T192141Z
UID:35015-1718265600-1718269200@www.goiasfomento.com
SUMMARY:Lucas Fernandes: Despachos Internos.
DESCRIPTION:
URL:https://www.goiasfomento.com/agenda/lucas-fernandes-despachos-internos-402/
LOCATION:Gabinete da Diretoria Administrativa e Financeira – Agência de Fomento de Goiás.
CATEGORIES:Diretoria Administrativa e Financeira
END:VEVENT
BEGIN:VEVENT
DTSTART;TZID=America/Sao_Paulo:20240613T090000
DTEND;TZID=America/Sao_Paulo:20240613T103000
DTSTAMP:20260425T112137
CREATED:20240613T192022Z
LAST-MODIFIED:20240613T192042Z
UID:35017-1718269200-1718274600@www.goiasfomento.com
SUMMARY:Lucas Fernandes: Reunião da Diretoria com os Gerentes.
DESCRIPTION:
URL:https://www.goiasfomento.com/agenda/lucas-fernandes-reuniao-da-diretoria-com-os-gerentes/
LOCATION:Gabinete da Diretoria Administrativa e Financeira – Agência de Fomento de Goiás.
CATEGORIES:Diretoria Administrativa e Financeira
END:VEVENT
BEGIN:VEVENT
DTSTART;TZID=America/Sao_Paulo:20240613T103000
DTEND;TZID=America/Sao_Paulo:20240613T120000
DTSTAMP:20260425T112137
CREATED:20240613T192417Z
LAST-MODIFIED:20240613T192417Z
UID:35020-1718274600-1718280000@www.goiasfomento.com
SUMMARY:Lucas Fernandes: Despachos Internos.
DESCRIPTION:
URL:https://www.goiasfomento.com/agenda/lucas-fernandes-despachos-internos-403/
LOCATION:Gabinete da Diretoria Administrativa e Financeira – Agência de Fomento de Goiás.
CATEGORIES:Diretoria Administrativa e Financeira
END:VEVENT
BEGIN:VEVENT
DTSTART;TZID=America/Sao_Paulo:20240613T140000
DTEND;TZID=America/Sao_Paulo:20240613T170000
DTSTAMP:20260425T112137
CREATED:20240613T192537Z
LAST-MODIFIED:20240613T200945Z
UID:35022-1718287200-1718298000@www.goiasfomento.com
SUMMARY:Lucas Fernandes: Despachos Internos.
DESCRIPTION:
URL:https://www.goiasfomento.com/agenda/lucas-fernandes-despachos-internos-404/
LOCATION:Gabinete da Diretoria Administrativa e Financeira – Agência de Fomento de Goiás.
CATEGORIES:Diretoria Administrativa e Financeira
END:VEVENT
BEGIN:VEVENT
DTSTART;TZID=America/Sao_Paulo:20240613T170000
DTEND;TZID=America/Sao_Paulo:20240613T180000
DTSTAMP:20260425T112137
CREATED:20240613T201011Z
LAST-MODIFIED:20240613T201011Z
UID:35043-1718298000-1718301600@www.goiasfomento.com
SUMMARY:Lucas Fernandes: Reunião da Diretoria com os Gerentes.
DESCRIPTION:
URL:https://www.goiasfomento.com/agenda/lucas-fernandes-reuniao-da-diretoria-com-os-gerentes-2/
LOCATION:Gabinete da Diretoria Administrativa e Financeira – Agência de Fomento de Goiás.
CATEGORIES:Diretoria Administrativa e Financeira
END:VEVENT
END:VCALENDAR