BEGIN:VCALENDAR
VERSION:2.0
PRODID:-//GoiásFomento - Agência de Fomento - ECPv6.15.20//NONSGML v1.0//EN
CALSCALE:GREGORIAN
METHOD:PUBLISH
X-WR-CALNAME:GoiásFomento - Agência de Fomento
X-ORIGINAL-URL:https://www.goiasfomento.com
X-WR-CALDESC:Eventos para GoiásFomento - Agência de Fomento
REFRESH-INTERVAL;VALUE=DURATION:PT1H
X-Robots-Tag:noindex
X-PUBLISHED-TTL:PT1H
BEGIN:VTIMEZONE
TZID:America/Sao_Paulo
BEGIN:STANDARD
TZOFFSETFROM:-0300
TZOFFSETTO:-0300
TZNAME:-03
DTSTART:20230101T000000
END:STANDARD
END:VTIMEZONE
BEGIN:VEVENT
DTSTART;TZID=America/Sao_Paulo:20240611T080000
DTEND;TZID=America/Sao_Paulo:20240611T100000
DTSTAMP:20260425T112125
CREATED:20240611T141550Z
LAST-MODIFIED:20240611T141550Z
UID:34970-1718092800-1718100000@www.goiasfomento.com
SUMMARY:Lucas Fernandes: Despachos Internos.
DESCRIPTION:
URL:https://www.goiasfomento.com/agenda/lucas-fernandes-despachos-internos-398/
LOCATION:Gabinete da Diretoria Administrativa e Financeira – Agência de Fomento de Goiás.
CATEGORIES:Diretoria Administrativa e Financeira
END:VEVENT
BEGIN:VEVENT
DTSTART;TZID=America/Sao_Paulo:20240611T100000
DTEND;TZID=America/Sao_Paulo:20240611T120000
DTSTAMP:20260425T112125
CREATED:20240611T141431Z
LAST-MODIFIED:20240611T141431Z
UID:34965-1718100000-1718107200@www.goiasfomento.com
SUMMARY:Lucas Fernandes: Reunião da Diretoria com os Colaboradores da GEROP.
DESCRIPTION:
URL:https://www.goiasfomento.com/agenda/lucas-fernandes-reuniao-da-diretoria-com-os-colaboradores-da-gerop/
LOCATION:Sala de Reuniões da Diretoria – Agência de Fomento de Goiás.
CATEGORIES:Diretoria Administrativa e Financeira
END:VEVENT
BEGIN:VEVENT
DTSTART;TZID=America/Sao_Paulo:20240611T140000
DTEND;TZID=America/Sao_Paulo:20240611T180000
DTSTAMP:20260425T112125
CREATED:20240611T141623Z
LAST-MODIFIED:20240611T141623Z
UID:34972-1718114400-1718128800@www.goiasfomento.com
SUMMARY:Lucas Fernandes: Despachos Internos.
DESCRIPTION:
URL:https://www.goiasfomento.com/agenda/lucas-fernandes-despachos-internos-399/
LOCATION:Gabinete da Diretoria Administrativa e Financeira – Agência de Fomento de Goiás.
CATEGORIES:Diretoria Administrativa e Financeira
END:VEVENT
END:VCALENDAR