BEGIN:VCALENDAR
VERSION:2.0
PRODID:-//GoiásFomento - Agência de Fomento - ECPv6.15.20//NONSGML v1.0//EN
CALSCALE:GREGORIAN
METHOD:PUBLISH
X-ORIGINAL-URL:https://www.goiasfomento.com
X-WR-CALDESC:Eventos para GoiásFomento - Agência de Fomento
REFRESH-INTERVAL;VALUE=DURATION:PT1H
X-Robots-Tag:noindex
X-PUBLISHED-TTL:PT1H
BEGIN:VTIMEZONE
TZID:America/Sao_Paulo
BEGIN:STANDARD
TZOFFSETFROM:-0300
TZOFFSETTO:-0300
TZNAME:-03
DTSTART:20230101T000000
END:STANDARD
END:VTIMEZONE
BEGIN:VEVENT
DTSTART;TZID=America/Sao_Paulo:20240607T080000
DTEND;TZID=America/Sao_Paulo:20240607T120000
DTSTAMP:20260425T112229
CREATED:20240607T141400Z
LAST-MODIFIED:20240607T141400Z
UID:34832-1717747200-1717761600@www.goiasfomento.com
SUMMARY:Lucas Fernandes: Despachos Internos.
DESCRIPTION:
URL:https://www.goiasfomento.com/agenda/lucas-fernandes-despachos-internos-393/
LOCATION:Gabinete da Diretoria Administrativa e Financeira – Agência de Fomento de Goiás.
CATEGORIES:Diretoria Administrativa e Financeira
END:VEVENT
BEGIN:VEVENT
DTSTART;TZID=America/Sao_Paulo:20240607T140000
DTEND;TZID=America/Sao_Paulo:20240607T180000
DTSTAMP:20260425T112229
CREATED:20240607T141428Z
LAST-MODIFIED:20240607T142211Z
UID:34834-1717768800-1717783200@www.goiasfomento.com
SUMMARY:Lucas Fernandes: Evento- Associação Comercial  Industrial e de Serviços do Estado de Goiás (Acieg).
DESCRIPTION:
URL:https://www.goiasfomento.com/agenda/lucas-fernandes-despachos-internos-394/
LOCATION:Local: Sede da Acieg – R. 14\, 50 – St. Oeste\, Goiânia – GO\, 74120-070
CATEGORIES:Diretoria Administrativa e Financeira
END:VEVENT
END:VCALENDAR