BEGIN:VCALENDAR
VERSION:2.0
PRODID:-//GoiásFomento - Agência de Fomento - ECPv6.15.20//NONSGML v1.0//EN
CALSCALE:GREGORIAN
METHOD:PUBLISH
X-ORIGINAL-URL:https://www.goiasfomento.com
X-WR-CALDESC:Eventos para GoiásFomento - Agência de Fomento
REFRESH-INTERVAL;VALUE=DURATION:PT1H
X-Robots-Tag:noindex
X-PUBLISHED-TTL:PT1H
BEGIN:VTIMEZONE
TZID:America/Sao_Paulo
BEGIN:STANDARD
TZOFFSETFROM:-0300
TZOFFSETTO:-0300
TZNAME:-03
DTSTART:20230101T000000
END:STANDARD
END:VTIMEZONE
BEGIN:VEVENT
DTSTART;TZID=America/Sao_Paulo:20240606T080000
DTEND;TZID=America/Sao_Paulo:20240606T100000
DTSTAMP:20260425T112230
CREATED:20240606T134401Z
LAST-MODIFIED:20240606T134401Z
UID:34807-1717660800-1717668000@www.goiasfomento.com
SUMMARY:Lucas Fernandes: Despachos Internos.
DESCRIPTION:
URL:https://www.goiasfomento.com/agenda/lucas-fernandes-despachos-internos-390/
LOCATION:Gabinete da Diretoria Administrativa e Financeira – Agência de Fomento de Goiás.
CATEGORIES:Diretoria Administrativa e Financeira
END:VEVENT
BEGIN:VEVENT
DTSTART;TZID=America/Sao_Paulo:20240606T100000
DTEND;TZID=America/Sao_Paulo:20240606T113000
DTSTAMP:20260425T112230
CREATED:20240606T134856Z
LAST-MODIFIED:20240606T134856Z
UID:34809-1717668000-1717673400@www.goiasfomento.com
SUMMARY:Lucas Fernandes: Reunião com Diretor da Empressa BHS e o Conrrespondente Idelfonso.
DESCRIPTION:
URL:https://www.goiasfomento.com/agenda/lucas-fernandes-reuniao-com-diretor-da-empressa-bhs-e-o-conrrespondente-idelfonso/
LOCATION:Gabinete da Diretoria Administrativa e Financeira – Agência de Fomento de Goiás.
CATEGORIES:Diretoria Administrativa e Financeira
END:VEVENT
BEGIN:VEVENT
DTSTART;TZID=America/Sao_Paulo:20240606T113000
DTEND;TZID=America/Sao_Paulo:20240606T120000
DTSTAMP:20260425T112230
CREATED:20240606T135023Z
LAST-MODIFIED:20240606T135023Z
UID:34812-1717673400-1717675200@www.goiasfomento.com
SUMMARY:Lucas Fernandes: Despachos Internos.
DESCRIPTION:
URL:https://www.goiasfomento.com/agenda/lucas-fernandes-despachos-internos-391/
LOCATION:Gabinete da Diretoria Administrativa e Financeira – Agência de Fomento de Goiás.
CATEGORIES:Diretoria Administrativa e Financeira
END:VEVENT
BEGIN:VEVENT
DTSTART;TZID=America/Sao_Paulo:20240606T140000
DTEND;TZID=America/Sao_Paulo:20240606T180000
DTSTAMP:20260425T112230
CREATED:20240606T181837Z
LAST-MODIFIED:20240606T181837Z
UID:34825-1717682400-1717696800@www.goiasfomento.com
SUMMARY:Lucas Fernandes: Despachos Internos.
DESCRIPTION:
URL:https://www.goiasfomento.com/agenda/lucas-fernandes-despachos-internos-392/
LOCATION:Gabinete da Diretoria Administrativa e Financeira – Agência de Fomento de Goiás.
CATEGORIES:Diretoria Administrativa e Financeira
END:VEVENT
END:VCALENDAR