BEGIN:VCALENDAR
VERSION:2.0
PRODID:-//GoiásFomento - Agência de Fomento - ECPv6.15.20//NONSGML v1.0//EN
CALSCALE:GREGORIAN
METHOD:PUBLISH
X-WR-CALNAME:GoiásFomento - Agência de Fomento
X-ORIGINAL-URL:https://www.goiasfomento.com
X-WR-CALDESC:Eventos para GoiásFomento - Agência de Fomento
REFRESH-INTERVAL;VALUE=DURATION:PT1H
X-Robots-Tag:noindex
X-PUBLISHED-TTL:PT1H
BEGIN:VTIMEZONE
TZID:America/Sao_Paulo
BEGIN:STANDARD
TZOFFSETFROM:-0300
TZOFFSETTO:-0300
TZNAME:-03
DTSTART:20230101T000000
END:STANDARD
END:VTIMEZONE
BEGIN:VEVENT
DTSTART;TZID=America/Sao_Paulo:20240603T080000
DTEND;TZID=America/Sao_Paulo:20240603T093000
DTSTAMP:20260425T112230
CREATED:20240603T185312Z
LAST-MODIFIED:20240603T185312Z
UID:34688-1717401600-1717407000@www.goiasfomento.com
SUMMARY:Lucas Fernandes: Despachos Internos.
DESCRIPTION:
URL:https://www.goiasfomento.com/agenda/lucas-fernandes-despachos-internos-383/
LOCATION:Gabinete da Diretoria Administrativa e Financeira – Agência de Fomento de Goiás.
CATEGORIES:Diretoria Administrativa e Financeira
END:VEVENT
BEGIN:VEVENT
DTSTART;TZID=America/Sao_Paulo:20240603T093000
DTEND;TZID=America/Sao_Paulo:20240603T100000
DTSTAMP:20260425T112230
CREATED:20240603T191104Z
LAST-MODIFIED:20240603T191104Z
UID:34694-1717407000-1717408800@www.goiasfomento.com
SUMMARY:Lucas Fernandes: Reunião com os gerentes da Diretoria Administrativo Financeiro.
DESCRIPTION:
URL:https://www.goiasfomento.com/agenda/lucas-fernandes-reuniao-com-os-gerentes-da-diretoria-administrativo-financeiro/
LOCATION:Sala de reuniões da Diretoria.
CATEGORIES:Diretoria Administrativa e Financeira
END:VEVENT
BEGIN:VEVENT
DTSTART;TZID=America/Sao_Paulo:20240603T100000
DTEND;TZID=America/Sao_Paulo:20240603T110000
DTSTAMP:20260425T112230
CREATED:20240603T191421Z
LAST-MODIFIED:20240603T191503Z
UID:34706-1717408800-1717412400@www.goiasfomento.com
SUMMARY:Lucas Fernandes: Reunião com os Gerentes de Clientes e Negócios da Caixa Econômica Federal.
DESCRIPTION:
URL:https://www.goiasfomento.com/agenda/lucas-fernandes-reuniao-com-os-gerentes-de-clientes-e-negocios-da-caixa-economica-federal/
LOCATION:Gabinete da Diretoria Administrativa e Financeira – Agência de Fomento de Goiás.
CATEGORIES:Diretoria Administrativa e Financeira
END:VEVENT
BEGIN:VEVENT
DTSTART;TZID=America/Sao_Paulo:20240603T110000
DTEND;TZID=America/Sao_Paulo:20240603T120000
DTSTAMP:20260425T112230
CREATED:20240603T191608Z
LAST-MODIFIED:20240604T144051Z
UID:34708-1717412400-1717416000@www.goiasfomento.com
SUMMARY:Lucas Fernandes: Despachos Internos.
DESCRIPTION:
URL:https://www.goiasfomento.com/agenda/lucas-fernandes-despachos-internos-384/
LOCATION:Gabinete da Diretoria Administrativa e Financeira – Agência de Fomento de Goiás.
CATEGORIES:Diretoria Administrativa e Financeira
END:VEVENT
BEGIN:VEVENT
DTSTART;TZID=America/Sao_Paulo:20240603T140000
DTEND;TZID=America/Sao_Paulo:20240603T180000
DTSTAMP:20260425T112230
CREATED:20240603T191640Z
LAST-MODIFIED:20240603T191640Z
UID:34711-1717423200-1717437600@www.goiasfomento.com
SUMMARY:Lucas Fernandes: Despachos Internos.
DESCRIPTION:
URL:https://www.goiasfomento.com/agenda/lucas-fernandes-despachos-internos-385/
LOCATION:Gabinete da Diretoria Administrativa e Financeira – Agência de Fomento de Goiás.
CATEGORIES:Diretoria Administrativa e Financeira
END:VEVENT
END:VCALENDAR