BEGIN:VCALENDAR
VERSION:2.0
PRODID:-//GoiásFomento - Agência de Fomento - ECPv6.15.20//NONSGML v1.0//EN
CALSCALE:GREGORIAN
METHOD:PUBLISH
X-WR-CALNAME:GoiásFomento - Agência de Fomento
X-ORIGINAL-URL:https://www.goiasfomento.com
X-WR-CALDESC:Eventos para GoiásFomento - Agência de Fomento
REFRESH-INTERVAL;VALUE=DURATION:PT1H
X-Robots-Tag:noindex
X-PUBLISHED-TTL:PT1H
BEGIN:VTIMEZONE
TZID:America/Sao_Paulo
BEGIN:STANDARD
TZOFFSETFROM:-0300
TZOFFSETTO:-0300
TZNAME:-03
DTSTART:20230101T000000
END:STANDARD
END:VTIMEZONE
BEGIN:VEVENT
DTSTART;TZID=America/Sao_Paulo:20240206T080000
DTEND;TZID=America/Sao_Paulo:20240206T120000
DTSTAMP:20260425T173728
CREATED:20240207T133338Z
LAST-MODIFIED:20240207T133338Z
UID:32958-1707206400-1707220800@www.goiasfomento.com
SUMMARY:Lucas Fernandes: Despachos Internos.
DESCRIPTION:
URL:https://www.goiasfomento.com/agenda/lucas-fernandes-despachos-internos-251/
LOCATION:Gabinete da Diretoria Administrativa e Financeira – Agência de Fomento de Goiás.
CATEGORIES:Diretoria Administrativa e Financeira
END:VEVENT
BEGIN:VEVENT
DTSTART;TZID=America/Sao_Paulo:20240206T140000
DTEND;TZID=America/Sao_Paulo:20240206T180000
DTSTAMP:20260425T173728
CREATED:20240207T133408Z
LAST-MODIFIED:20240207T133408Z
UID:32960-1707228000-1707242400@www.goiasfomento.com
SUMMARY:Lucas Fernandes: Despachos Internos.
DESCRIPTION:
URL:https://www.goiasfomento.com/agenda/lucas-fernandes-despachos-internos-252/
LOCATION:Gabinete da Diretoria Administrativa e Financeira – Agência de Fomento de Goiás.
CATEGORIES:Diretoria Administrativa e Financeira
END:VEVENT
END:VCALENDAR