BEGIN:VCALENDAR
VERSION:2.0
PRODID:-//GoiásFomento - Agência de Fomento - ECPv6.15.20//NONSGML v1.0//EN
CALSCALE:GREGORIAN
METHOD:PUBLISH
X-WR-CALNAME:GoiásFomento - Agência de Fomento
X-ORIGINAL-URL:https://www.goiasfomento.com
X-WR-CALDESC:Eventos para GoiásFomento - Agência de Fomento
REFRESH-INTERVAL;VALUE=DURATION:PT1H
X-Robots-Tag:noindex
X-PUBLISHED-TTL:PT1H
BEGIN:VTIMEZONE
TZID:America/Sao_Paulo
BEGIN:STANDARD
TZOFFSETFROM:-0300
TZOFFSETTO:-0300
TZNAME:-03
DTSTART:20220101T000000
END:STANDARD
END:VTIMEZONE
BEGIN:VEVENT
DTSTART;TZID=America/Sao_Paulo:20231113T080000
DTEND;TZID=America/Sao_Paulo:20231113T100000
DTSTAMP:20260425T223158
CREATED:20231113T132417Z
LAST-MODIFIED:20231113T132417Z
UID:31756-1699862400-1699869600@www.goiasfomento.com
SUMMARY:Lucas Fernandes: Despachos Internos.
DESCRIPTION:
URL:https://www.goiasfomento.com/agenda/lucas-fernandes-despachos-internos-135/
LOCATION:Gabinete da Diretoria Administrativa e Financeira – Agência de Fomento de Goiás.
CATEGORIES:Diretoria Administrativa e Financeira
END:VEVENT
BEGIN:VEVENT
DTSTART;TZID=America/Sao_Paulo:20231113T100000
DTEND;TZID=America/Sao_Paulo:20231113T103000
DTSTAMP:20260425T223158
CREATED:20231113T132815Z
LAST-MODIFIED:20231113T132815Z
UID:31758-1699869600-1699871400@www.goiasfomento.com
SUMMARY:Lucas Fernandes: Reunião Sobre o Convênio com o Sesc Goiás.
DESCRIPTION:
URL:https://www.goiasfomento.com/agenda/lucas-fernandes-reuniao-sobre-o-convenio-com-o-sesc-goias/
LOCATION:Auditorio da Goiásfomento
CATEGORIES:Diretoria Administrativa e Financeira
END:VEVENT
BEGIN:VEVENT
DTSTART;TZID=America/Sao_Paulo:20231113T103000
DTEND;TZID=America/Sao_Paulo:20231113T120000
DTSTAMP:20260425T223158
CREATED:20231113T133010Z
LAST-MODIFIED:20231113T133010Z
UID:31760-1699871400-1699876800@www.goiasfomento.com
SUMMARY:Lucas Fernandes: Despachos Internos.
DESCRIPTION:
URL:https://www.goiasfomento.com/agenda/lucas-fernandes-despachos-internos-136/
LOCATION:Gabinete da Diretoria Administrativa e Financeira – Agência de Fomento de Goiás.
CATEGORIES:Diretoria Administrativa e Financeira
END:VEVENT
BEGIN:VEVENT
DTSTART;TZID=America/Sao_Paulo:20231113T140000
DTEND;TZID=America/Sao_Paulo:20231113T180000
DTSTAMP:20260425T223158
CREATED:20231113T134112Z
LAST-MODIFIED:20231113T134112Z
UID:31762-1699884000-1699898400@www.goiasfomento.com
SUMMARY:Lucas Fernandes: Despachos Internos.
DESCRIPTION:
URL:https://www.goiasfomento.com/agenda/lucas-fernandes-despachos-internos-137/
LOCATION:Gabinete da Diretoria Administrativa e Financeira – Agência de Fomento de Goiás.
CATEGORIES:Diretoria Administrativa e Financeira
END:VEVENT
END:VCALENDAR