BEGIN:VCALENDAR
VERSION:2.0
PRODID:-//GoiásFomento - Agência de Fomento - ECPv6.15.20//NONSGML v1.0//EN
CALSCALE:GREGORIAN
METHOD:PUBLISH
X-WR-CALNAME:GoiásFomento - Agência de Fomento
X-ORIGINAL-URL:https://www.goiasfomento.com
X-WR-CALDESC:Eventos para GoiásFomento - Agência de Fomento
REFRESH-INTERVAL;VALUE=DURATION:PT1H
X-Robots-Tag:noindex
X-PUBLISHED-TTL:PT1H
BEGIN:VTIMEZONE
TZID:America/Sao_Paulo
BEGIN:STANDARD
TZOFFSETFROM:-0300
TZOFFSETTO:-0300
TZNAME:-03
DTSTART:20240101T000000
END:STANDARD
END:VTIMEZONE
BEGIN:VEVENT
DTSTART;TZID=America/Sao_Paulo:20250801T080000
DTEND;TZID=America/Sao_Paulo:20250801T120000
DTSTAMP:20260424T114733
CREATED:20250804T191943Z
LAST-MODIFIED:20250804T191943Z
UID:45267-1754035200-1754049600@www.goiasfomento.com
SUMMARY:Lara Garcia: Atendimentos e Despachos Internos.
DESCRIPTION:
URL:https://www.goiasfomento.com/agenda/lara-garcia-atendimentos-e-despachos-internos-30/
LOCATION:Gabinete da Diretoria Administrativa e Financeira – Agência de Fomento de Goiás.
CATEGORIES:Diretoria Administrativa e Financeira
END:VEVENT
BEGIN:VEVENT
DTSTART;TZID=America/Sao_Paulo:20250801T140000
DTEND;TZID=America/Sao_Paulo:20250801T180000
DTSTAMP:20260424T114733
CREATED:20250804T192154Z
LAST-MODIFIED:20250804T192154Z
UID:45269-1754056800-1754071200@www.goiasfomento.com
SUMMARY:Lara Garcia: Atendimentos e Despachos Internos.
DESCRIPTION:
URL:https://www.goiasfomento.com/agenda/lara-garcia-atendimentos-e-despachos-internos-31/
LOCATION:Gabinete da Diretoria Administrativa e Financeira – Agência de Fomento de Goiás.
CATEGORIES:Diretoria Administrativa e Financeira
END:VEVENT
BEGIN:VEVENT
DTSTART;TZID=America/Sao_Paulo:20250804T080000
DTEND;TZID=America/Sao_Paulo:20250804T120000
DTSTAMP:20260424T114733
CREATED:20250804T171000Z
LAST-MODIFIED:20250804T171000Z
UID:45256-1754294400-1754308800@www.goiasfomento.com
SUMMARY:Lara Garcia: Atendimentos e Despachos Internos.
DESCRIPTION:
URL:https://www.goiasfomento.com/agenda/lara-garcia-atendimentos-e-despachos-internos-28/
LOCATION:Gabinete da Diretoria Administrativa e Financeira – Agência de Fomento de Goiás.
CATEGORIES:Diretoria Administrativa e Financeira
END:VEVENT
BEGIN:VEVENT
DTSTART;TZID=America/Sao_Paulo:20250804T140000
DTEND;TZID=America/Sao_Paulo:20250804T180000
DTSTAMP:20260424T114733
CREATED:20250804T191803Z
LAST-MODIFIED:20250804T191803Z
UID:45265-1754316000-1754330400@www.goiasfomento.com
SUMMARY:Lara Garcia: Atendimentos e Despachos Internos.
DESCRIPTION:
URL:https://www.goiasfomento.com/agenda/lara-garcia-atendimentos-e-despachos-internos-29/
LOCATION:Gabinete da Diretoria Administrativa e Financeira – Agência de Fomento de Goiás.
CATEGORIES:Diretoria Administrativa e Financeira
END:VEVENT
BEGIN:VEVENT
DTSTART;TZID=America/Sao_Paulo:20250804T190000
DTEND;TZID=America/Sao_Paulo:20250804T220000
DTSTAMP:20260424T114733
CREATED:20250804T171457Z
LAST-MODIFIED:20250804T171457Z
UID:45258-1754334000-1754344800@www.goiasfomento.com
SUMMARY:Lara Garcia: SESSÃO ESPECIAL – 25 ANOS DA GOIÁSFOMENTO.
DESCRIPTION:
URL:https://www.goiasfomento.com/agenda/lara-garcia-sessao-especial-25-anos-da-goiasfomento/
LOCATION:📍 Local: Assembleia Legislativa do Estado de Goiás – Palácio Maguito Vilela – Plenário Íris Rezende Machado.
CATEGORIES:Diretoria Administrativa e Financeira
END:VEVENT
BEGIN:VEVENT
DTSTART;TZID=America/Sao_Paulo:20250805T080000
DTEND;TZID=America/Sao_Paulo:20250805T120000
DTSTAMP:20260424T114733
CREATED:20250805T194142Z
LAST-MODIFIED:20250805T194142Z
UID:45320-1754380800-1754395200@www.goiasfomento.com
SUMMARY:Lara Garcia: Atendimentos e Despachos Internos.
DESCRIPTION:
URL:https://www.goiasfomento.com/agenda/lara-garcia-atendimentos-e-despachos-internos-32/
LOCATION:Gabinete da Diretoria Administrativa e Financeira – Agência de Fomento de Goiás.
CATEGORIES:Diretoria Administrativa e Financeira
END:VEVENT
BEGIN:VEVENT
DTSTART;TZID=America/Sao_Paulo:20250805T140000
DTEND;TZID=America/Sao_Paulo:20250805T180000
DTSTAMP:20260424T114733
CREATED:20250805T194227Z
LAST-MODIFIED:20250805T194227Z
UID:45322-1754402400-1754416800@www.goiasfomento.com
SUMMARY:Lara Garcia: Atendimentos e Despachos Internos.
DESCRIPTION:
URL:https://www.goiasfomento.com/agenda/lara-garcia-atendimentos-e-despachos-internos-33/
LOCATION:Gabinete da Diretoria Administrativa e Financeira – Agência de Fomento de Goiás.
CATEGORIES:Diretoria Administrativa e Financeira
END:VEVENT
BEGIN:VEVENT
DTSTART;TZID=America/Sao_Paulo:20250806T080000
DTEND;TZID=America/Sao_Paulo:20250806T120000
DTSTAMP:20260424T114733
CREATED:20250806T171655Z
LAST-MODIFIED:20250806T171655Z
UID:45369-1754467200-1754481600@www.goiasfomento.com
SUMMARY:Lara Garcia: Atendimentos e Despachos Internos.
DESCRIPTION:
URL:https://www.goiasfomento.com/agenda/lara-garcia-atendimentos-e-despachos-internos-34/
LOCATION:Gabinete da Diretoria Administrativa e Financeira – Agência de Fomento de Goiás.
CATEGORIES:Diretoria Administrativa e Financeira
END:VEVENT
BEGIN:VEVENT
DTSTART;TZID=America/Sao_Paulo:20250806T140000
DTEND;TZID=America/Sao_Paulo:20250806T180000
DTSTAMP:20260424T114733
CREATED:20250807T135832Z
LAST-MODIFIED:20250807T135936Z
UID:45374-1754488800-1754503200@www.goiasfomento.com
SUMMARY:Lara Garcia: Atendimentos e Despachos Internos.
DESCRIPTION:
URL:https://www.goiasfomento.com/agenda/lara-garcia-atendimentos-e-despachos-internos-35/
LOCATION:Gabinete da Diretoria Administrativa e Financeira – Agência de Fomento de Goiás.
CATEGORIES:Diretoria Administrativa e Financeira
END:VEVENT
BEGIN:VEVENT
DTSTART;TZID=America/Sao_Paulo:20250807T080000
DTEND;TZID=America/Sao_Paulo:20250807T093000
DTSTAMP:20260424T114733
CREATED:20250807T141010Z
LAST-MODIFIED:20250807T141010Z
UID:45376-1754553600-1754559000@www.goiasfomento.com
SUMMARY:Lara Garcia: Atendimentos e Despachos Internos.
DESCRIPTION:
URL:https://www.goiasfomento.com/agenda/lara-garcia-atendimentos-e-despachos-internos-36/
LOCATION:Gabinete da Diretoria Administrativa e Financeira – Agência de Fomento de Goiás.
CATEGORIES:Diretoria Administrativa e Financeira
END:VEVENT
BEGIN:VEVENT
DTSTART;TZID=America/Sao_Paulo:20250807T093000
DTEND;TZID=America/Sao_Paulo:20250807T110000
DTSTAMP:20260424T114733
CREATED:20250807T144340Z
LAST-MODIFIED:20250807T144340Z
UID:45382-1754559000-1754564400@www.goiasfomento.com
SUMMARY:Lara Garcia: Reunião da Diretoria GF com Wellington - SEDS.
DESCRIPTION:
URL:https://www.goiasfomento.com/agenda/lara-garcia-reuniao-da-diretoria-gf-com-wellington-seds/
LOCATION:Sala de Reuniões da Diretoria – Agência de Fomento de Goiás.
CATEGORIES:Diretoria Administrativa e Financeira
END:VEVENT
BEGIN:VEVENT
DTSTART;TZID=America/Sao_Paulo:20250807T110000
DTEND;TZID=America/Sao_Paulo:20250807T120000
DTSTAMP:20260424T114733
CREATED:20250807T145428Z
LAST-MODIFIED:20250807T145525Z
UID:45384-1754564400-1754568000@www.goiasfomento.com
SUMMARY:Lara Garcia: Atendimentos e Despachos Internos.
DESCRIPTION:
URL:https://www.goiasfomento.com/agenda/lara-garcia-atendimentos-e-despachos-internos-37/
LOCATION:Gabinete da Diretoria Administrativa e Financeira – Agência de Fomento de Goiás.
CATEGORIES:Diretoria Administrativa e Financeira
END:VEVENT
BEGIN:VEVENT
DTSTART;TZID=America/Sao_Paulo:20250807T140000
DTEND;TZID=America/Sao_Paulo:20250807T150000
DTSTAMP:20260424T114733
CREATED:20250808T120345Z
LAST-MODIFIED:20250808T120438Z
UID:45404-1754575200-1754578800@www.goiasfomento.com
SUMMARY:Lara Garcia: Atendimentos e Despachos Internos.
DESCRIPTION:
URL:https://www.goiasfomento.com/agenda/lara-garcia-atendimentos-e-despachos-internos-38/
LOCATION:Gabinete da Diretoria Administrativa e Financeira – Agência de Fomento de Goiás.
CATEGORIES:Diretoria Administrativa e Financeira
END:VEVENT
BEGIN:VEVENT
DTSTART;TZID=America/Sao_Paulo:20250807T150000
DTEND;TZID=America/Sao_Paulo:20250807T160000
DTSTAMP:20260424T114733
CREATED:20250808T115100Z
LAST-MODIFIED:20250808T115113Z
UID:45392-1754578800-1754582400@www.goiasfomento.com
SUMMARY:Lara Garcia: Palestra On-Line - Pauta: Código de Ética do Servidor
DESCRIPTION:
URL:https://www.goiasfomento.com/agenda/lara-garcia-palestra-on-line-pauta-codigo-de-etica-do-servidor/
LOCATION:Gabinete da Diretoria Administrativa e Financeira – Agência de Fomento de Goiás.
CATEGORIES:Diretoria Administrativa e Financeira
END:VEVENT
BEGIN:VEVENT
DTSTART;TZID=America/Sao_Paulo:20250807T160000
DTEND;TZID=America/Sao_Paulo:20250807T190000
DTSTAMP:20260424T114733
CREATED:20250808T114943Z
LAST-MODIFIED:20250808T115005Z
UID:45390-1754582400-1754593200@www.goiasfomento.com
SUMMARY:Lara Garcia: Reunião da Diretoria Executiva e os Gerentes da Agência de Fomento de Goiás.
DESCRIPTION:
URL:https://www.goiasfomento.com/agenda/lara-garcia-reuniao-da-diretoria-executiva-e-os-gerentes-da-agencia-de-fomento-de-goias/
LOCATION:Sala de Reuniões da Diretoria – Agência de Fomento de Goiás.
CATEGORIES:Diretoria Administrativa e Financeira
END:VEVENT
BEGIN:VEVENT
DTSTART;TZID=America/Sao_Paulo:20250808T080000
DTEND;TZID=America/Sao_Paulo:20250808T120000
DTSTAMP:20260424T114733
CREATED:20250808T120406Z
LAST-MODIFIED:20250808T120406Z
UID:45406-1754640000-1754654400@www.goiasfomento.com
SUMMARY:Lara Garcia: Atendimentos e Despachos Internos.
DESCRIPTION:
URL:https://www.goiasfomento.com/agenda/lara-garcia-atendimentos-e-despachos-internos-39/
LOCATION:Gabinete da Diretoria Administrativa e Financeira – Agência de Fomento de Goiás.
CATEGORIES:Diretoria Administrativa e Financeira
END:VEVENT
BEGIN:VEVENT
DTSTART;TZID=America/Sao_Paulo:20250808T140000
DTEND;TZID=America/Sao_Paulo:20250808T180000
DTSTAMP:20260424T114733
CREATED:20250808T183428Z
LAST-MODIFIED:20250808T183428Z
UID:45426-1754661600-1754676000@www.goiasfomento.com
SUMMARY:Lara Garcia: Atendimentos e Despachos Internos.
DESCRIPTION:
URL:https://www.goiasfomento.com/agenda/lara-garcia-atendimentos-e-despachos-internos-40/
LOCATION:Gabinete da Diretoria Administrativa e Financeira – Agência de Fomento de Goiás.
CATEGORIES:Diretoria Administrativa e Financeira
END:VEVENT
BEGIN:VEVENT
DTSTART;TZID=America/Sao_Paulo:20250811T080000
DTEND;TZID=America/Sao_Paulo:20250811T120000
DTSTAMP:20260424T114733
CREATED:20250811T112643Z
LAST-MODIFIED:20250811T112643Z
UID:45428-1754899200-1754913600@www.goiasfomento.com
SUMMARY:Lara Garcia: Atendimentos e Despachos Internos.
DESCRIPTION:
URL:https://www.goiasfomento.com/agenda/lara-garcia-atendimentos-e-despachos-internos-41/
LOCATION:Gabinete da Diretoria Administrativa e Financeira – Agência de Fomento de Goiás.
CATEGORIES:Diretoria Administrativa e Financeira
END:VEVENT
BEGIN:VEVENT
DTSTART;TZID=America/Sao_Paulo:20250811T140000
DTEND;TZID=America/Sao_Paulo:20250811T180000
DTSTAMP:20260424T114733
CREATED:20250811T184105Z
LAST-MODIFIED:20250811T184105Z
UID:45486-1754920800-1754935200@www.goiasfomento.com
SUMMARY:Lara Garcia: Atendimentos e Despachos Internos.
DESCRIPTION:
URL:https://www.goiasfomento.com/agenda/lara-garcia-atendimentos-e-despachos-internos-42/
LOCATION:Gabinete da Diretoria Administrativa e Financeira – Agência de Fomento de Goiás.
CATEGORIES:Diretoria Administrativa e Financeira
END:VEVENT
BEGIN:VEVENT
DTSTART;TZID=America/Sao_Paulo:20250812T080000
DTEND;TZID=America/Sao_Paulo:20250812T120000
DTSTAMP:20260424T114733
CREATED:20250811T184136Z
LAST-MODIFIED:20250811T184136Z
UID:45488-1754985600-1755000000@www.goiasfomento.com
SUMMARY:Lara Garcia: Atendimentos e Despachos Internos.
DESCRIPTION:
URL:https://www.goiasfomento.com/agenda/lara-garcia-atendimentos-e-despachos-internos-43/
LOCATION:Gabinete da Diretoria Administrativa e Financeira – Agência de Fomento de Goiás.
CATEGORIES:Diretoria Administrativa e Financeira
END:VEVENT
BEGIN:VEVENT
DTSTART;TZID=America/Sao_Paulo:20250812T140000
DTEND;TZID=America/Sao_Paulo:20250812T180000
DTSTAMP:20260424T114733
CREATED:20250812T111659Z
LAST-MODIFIED:20250812T114005Z
UID:45501-1755007200-1755021600@www.goiasfomento.com
SUMMARY:Lara Garcia: Atendimentos e Despachos Internos.
DESCRIPTION:
URL:https://www.goiasfomento.com/agenda/lara-garcia-atendimentos-e-despachos-internos-44/
LOCATION:Gabiente da Retomada – PPLT
CATEGORIES:Diretoria Administrativa e Financeira
END:VEVENT
BEGIN:VEVENT
DTSTART;TZID=America/Sao_Paulo:20250813T080000
DTEND;TZID=America/Sao_Paulo:20250813T100000
DTSTAMP:20260424T114733
CREATED:20250813T195651Z
LAST-MODIFIED:20250813T195651Z
UID:45506-1755072000-1755079200@www.goiasfomento.com
SUMMARY:Lara Garcia: Atendimentos e Despachos Internos.
DESCRIPTION:
URL:https://www.goiasfomento.com/agenda/lara-garcia-atendimentos-e-despachos-internos-45/
LOCATION:Gabinete da Diretoria Administrativa e Financeira – Agência de Fomento de Goiás.
CATEGORIES:Diretoria Administrativa e Financeira
END:VEVENT
BEGIN:VEVENT
DTSTART;TZID=America/Sao_Paulo:20250813T100000
DTEND;TZID=America/Sao_Paulo:20250813T120000
DTSTAMP:20260424T114733
CREATED:20250813T195511Z
LAST-MODIFIED:20250813T195511Z
UID:45503-1755079200-1755086400@www.goiasfomento.com
SUMMARY:Lara Garcia: Posse do Reitor reeleito\, Antonio Cruvinel - UEG.
DESCRIPTION:
URL:https://www.goiasfomento.com/agenda/lara-garcia-posse-do-reitor-reeleito-antonio-cruvinel-ueg/
LOCATION:Teatro Basileu França (Av. Universitária\, 1750\, St. Leste Universitário\, Goiânia – GO)
CATEGORIES:Diretoria Administrativa e Financeira
END:VEVENT
BEGIN:VEVENT
DTSTART;TZID=America/Sao_Paulo:20250813T140000
DTEND;TZID=America/Sao_Paulo:20250813T180000
DTSTAMP:20260424T114733
CREATED:20250813T200044Z
LAST-MODIFIED:20250813T200044Z
UID:45508-1755093600-1755108000@www.goiasfomento.com
SUMMARY:Lara Garcia: Atendimentos e Despachos Internos.
DESCRIPTION:
URL:https://www.goiasfomento.com/agenda/lara-garcia-atendimentos-e-despachos-internos-46/
LOCATION:Gabinete da Diretoria Administrativa e Financeira – Agência de Fomento de Goiás.
CATEGORIES:Diretoria Administrativa e Financeira
END:VEVENT
BEGIN:VEVENT
DTSTART;TZID=America/Sao_Paulo:20250814T080000
DTEND;TZID=America/Sao_Paulo:20250814T120000
DTSTAMP:20260424T114733
CREATED:20250814T112213Z
LAST-MODIFIED:20250814T112213Z
UID:45520-1755158400-1755172800@www.goiasfomento.com
SUMMARY:Lara Garcia: Atendimentos e Despachos Internos.
DESCRIPTION:
URL:https://www.goiasfomento.com/agenda/lara-garcia-atendimentos-e-despachos-internos-47/
LOCATION:Gabinete da Diretoria Administrativa e Financeira – Agência de Fomento de Goiás.
CATEGORIES:Diretoria Administrativa e Financeira
END:VEVENT
BEGIN:VEVENT
DTSTART;TZID=America/Sao_Paulo:20250814T140000
DTEND;TZID=America/Sao_Paulo:20250814T153000
DTSTAMP:20260424T114733
CREATED:20250814T112042Z
LAST-MODIFIED:20250814T112042Z
UID:45518-1755180000-1755185400@www.goiasfomento.com
SUMMARY:Lara Garcia: Reunião com Subsecretaria de Energia\, Telecomunicações e Cidades Inteligentes.
DESCRIPTION:
URL:https://www.goiasfomento.com/agenda/lara-garcia-reuniao-com-subsecretaria-de-energia-telecomunicacoes-e-cidades-inteligentes/
LOCATION:Sala de Reuniões da Diretoria – Agência de Fomento de Goiás.
CATEGORIES:Diretoria Administrativa e Financeira
END:VEVENT
BEGIN:VEVENT
DTSTART;TZID=America/Sao_Paulo:20250814T153000
DTEND;TZID=America/Sao_Paulo:20250814T180000
DTSTAMP:20260424T114733
CREATED:20250814T112447Z
LAST-MODIFIED:20250814T112447Z
UID:45522-1755185400-1755194400@www.goiasfomento.com
SUMMARY:Lara Garcia: Atendimentos e Despachos Internos.
DESCRIPTION:
URL:https://www.goiasfomento.com/agenda/lara-garcia-atendimentos-e-despachos-internos-48/
LOCATION:Gabinete da Diretoria Administrativa e Financeira – Agência de Fomento de Goiás.
CATEGORIES:Diretoria Administrativa e Financeira
END:VEVENT
BEGIN:VEVENT
DTSTART;TZID=America/Sao_Paulo:20250815T080000
DTEND;TZID=America/Sao_Paulo:20250815T120000
DTSTAMP:20260424T114733
CREATED:20250815T184234Z
LAST-MODIFIED:20250815T184234Z
UID:45542-1755244800-1755259200@www.goiasfomento.com
SUMMARY:Lara Garcia: Atendimentos e Despachos Internos.
DESCRIPTION:
URL:https://www.goiasfomento.com/agenda/lara-garcia-atendimentos-e-despachos-internos-49/
LOCATION:Gabinete da Diretoria Administrativa e Financeira – Agência de Fomento de Goiás.
CATEGORIES:Diretoria Administrativa e Financeira
END:VEVENT
BEGIN:VEVENT
DTSTART;TZID=America/Sao_Paulo:20250815T140000
DTEND;TZID=America/Sao_Paulo:20250815T180000
DTSTAMP:20260424T114733
CREATED:20250815T184258Z
LAST-MODIFIED:20250815T184258Z
UID:45544-1755266400-1755280800@www.goiasfomento.com
SUMMARY:Lara Garcia: Atendimentos e Despachos Internos.
DESCRIPTION:
URL:https://www.goiasfomento.com/agenda/lara-garcia-atendimentos-e-despachos-internos-50/
LOCATION:Gabinete da Diretoria Administrativa e Financeira – Agência de Fomento de Goiás.
CATEGORIES:Diretoria Administrativa e Financeira
END:VEVENT
BEGIN:VEVENT
DTSTART;TZID=America/Sao_Paulo:20250818T080000
DTEND;TZID=America/Sao_Paulo:20250818T120000
DTSTAMP:20260424T114733
CREATED:20250818T185548Z
LAST-MODIFIED:20250818T185548Z
UID:45584-1755504000-1755518400@www.goiasfomento.com
SUMMARY:Lara Garcia: Atendimentos e Despachos Internos.
DESCRIPTION:
URL:https://www.goiasfomento.com/agenda/lara-garcia-atendimentos-e-despachos-internos-51/
LOCATION:Gabinete da Diretoria Administrativa e Financeira – Agência de Fomento de Goiás.
CATEGORIES:Diretoria Administrativa e Financeira
END:VEVENT
END:VCALENDAR