BEGIN:VCALENDAR
VERSION:2.0
PRODID:-//GoiásFomento - Agência de Fomento - ECPv6.15.20//NONSGML v1.0//EN
CALSCALE:GREGORIAN
METHOD:PUBLISH
X-ORIGINAL-URL:https://www.goiasfomento.com
X-WR-CALDESC:Eventos para GoiásFomento - Agência de Fomento
REFRESH-INTERVAL;VALUE=DURATION:PT1H
X-Robots-Tag:noindex
X-PUBLISHED-TTL:PT1H
BEGIN:VTIMEZONE
TZID:America/Sao_Paulo
BEGIN:STANDARD
TZOFFSETFROM:-0300
TZOFFSETTO:-0300
TZNAME:-03
DTSTART:20230101T000000
END:STANDARD
END:VTIMEZONE
BEGIN:VEVENT
DTSTART;VALUE=DATE:20240501
DTEND;VALUE=DATE:20240502
DTSTAMP:20260425T112107
CREATED:20240430T183856Z
LAST-MODIFIED:20240430T184700Z
UID:34272-1714521600-1714607999@www.goiasfomento.com
SUMMARY:Lucas Fernandes: Feriado Nacional - Dia do Trabalho.
DESCRIPTION:
URL:https://www.goiasfomento.com/agenda/lucas-fernandes-feriado-nacional-dia-do-trabalho/
CATEGORIES:Diretoria Administrativa e Financeira
END:VEVENT
BEGIN:VEVENT
DTSTART;TZID=America/Sao_Paulo:20240502T080000
DTEND;TZID=America/Sao_Paulo:20240502T120000
DTSTAMP:20260425T112107
CREATED:20240502T182211Z
LAST-MODIFIED:20240502T182211Z
UID:34281-1714636800-1714651200@www.goiasfomento.com
SUMMARY:Lucas Fernandes: Despachos Internos.
DESCRIPTION:
URL:https://www.goiasfomento.com/agenda/lucas-fernandes-despachos-internos-345/
LOCATION:Gabinete da Diretoria Administrativa e Financeira – Agência de Fomento de Goiás.
CATEGORIES:Diretoria Administrativa e Financeira
END:VEVENT
BEGIN:VEVENT
DTSTART;TZID=America/Sao_Paulo:20240502T140000
DTEND;TZID=America/Sao_Paulo:20240502T180000
DTSTAMP:20260425T112107
CREATED:20240502T182402Z
LAST-MODIFIED:20240502T182402Z
UID:34283-1714658400-1714672800@www.goiasfomento.com
SUMMARY:Lucas Fernandes: Despachos Internos.
DESCRIPTION:
URL:https://www.goiasfomento.com/agenda/lucas-fernandes-despachos-internos-346/
LOCATION:Gabinete da Diretoria Administrativa e Financeira – Agência de Fomento de Goiás.
CATEGORIES:Diretoria Administrativa e Financeira
END:VEVENT
BEGIN:VEVENT
DTSTART;TZID=America/Sao_Paulo:20240503T080000
DTEND;TZID=America/Sao_Paulo:20240503T120000
DTSTAMP:20260425T112107
CREATED:20240503T130328Z
LAST-MODIFIED:20240503T130328Z
UID:34305-1714723200-1714737600@www.goiasfomento.com
SUMMARY:Lucas Fernandes: Despachos Internos.
DESCRIPTION:
URL:https://www.goiasfomento.com/agenda/lucas-fernandes-despachos-internos-347/
LOCATION:Gabinete da Diretoria Administrativa e Financeira – Agência de Fomento de Goiás.
CATEGORIES:Diretoria Administrativa e Financeira
END:VEVENT
BEGIN:VEVENT
DTSTART;TZID=America/Sao_Paulo:20240503T140000
DTEND;TZID=America/Sao_Paulo:20240503T180000
DTSTAMP:20260425T112107
CREATED:20240503T130358Z
LAST-MODIFIED:20240503T130358Z
UID:34307-1714744800-1714759200@www.goiasfomento.com
SUMMARY:Lucas Fernandes: Despachos Internos.
DESCRIPTION:
URL:https://www.goiasfomento.com/agenda/lucas-fernandes-despachos-internos-348/
LOCATION:Gabinete da Diretoria Administrativa e Financeira – Agência de Fomento de Goiás.
CATEGORIES:Diretoria Administrativa e Financeira
END:VEVENT
BEGIN:VEVENT
DTSTART;TZID=America/Sao_Paulo:20240506T080000
DTEND;TZID=America/Sao_Paulo:20240506T120000
DTSTAMP:20260425T112107
CREATED:20240506T134210Z
LAST-MODIFIED:20240506T134210Z
UID:34331-1714982400-1714996800@www.goiasfomento.com
SUMMARY:Lucas Fernandes: Despachos Internos.
DESCRIPTION:
URL:https://www.goiasfomento.com/agenda/lucas-fernandes-despachos-internos-349/
LOCATION:Gabinete da Diretoria Administrativa e Financeira – Agência de Fomento de Goiás.
CATEGORIES:Diretoria Administrativa e Financeira
END:VEVENT
BEGIN:VEVENT
DTSTART;TZID=America/Sao_Paulo:20240506T140000
DTEND;TZID=America/Sao_Paulo:20240506T180000
DTSTAMP:20260425T112107
CREATED:20240506T134243Z
LAST-MODIFIED:20240506T134243Z
UID:34333-1715004000-1715018400@www.goiasfomento.com
SUMMARY:Lucas Fernandes: Despachos Internos.
DESCRIPTION:
URL:https://www.goiasfomento.com/agenda/lucas-fernandes-despachos-internos-350/
LOCATION:Gabinete da Diretoria Administrativa e Financeira – Agência de Fomento de Goiás.
CATEGORIES:Diretoria Administrativa e Financeira
END:VEVENT
BEGIN:VEVENT
DTSTART;TZID=America/Sao_Paulo:20240507T080000
DTEND;TZID=America/Sao_Paulo:20240507T120000
DTSTAMP:20260425T112107
CREATED:20240507T124517Z
LAST-MODIFIED:20240507T124517Z
UID:34344-1715068800-1715083200@www.goiasfomento.com
SUMMARY:Lucas Fernandes: Despachos Internos.
DESCRIPTION:
URL:https://www.goiasfomento.com/agenda/lucas-fernandes-despachos-internos-351/
LOCATION:Gabinete da Diretoria Administrativa e Financeira – Agência de Fomento de Goiás.
CATEGORIES:Diretoria Administrativa e Financeira
END:VEVENT
BEGIN:VEVENT
DTSTART;TZID=America/Sao_Paulo:20240507T140000
DTEND;TZID=America/Sao_Paulo:20240507T180000
DTSTAMP:20260425T112107
CREATED:20240507T124547Z
LAST-MODIFIED:20240507T124547Z
UID:34346-1715090400-1715104800@www.goiasfomento.com
SUMMARY:Lucas Fernandes: Despachos Internos.
DESCRIPTION:
URL:https://www.goiasfomento.com/agenda/lucas-fernandes-despachos-internos-352/
LOCATION:Gabinete da Diretoria Administrativa e Financeira – Agência de Fomento de Goiás.
CATEGORIES:Diretoria Administrativa e Financeira
END:VEVENT
BEGIN:VEVENT
DTSTART;TZID=America/Sao_Paulo:20240508T080000
DTEND;TZID=America/Sao_Paulo:20240508T120000
DTSTAMP:20260425T112107
CREATED:20240508T140330Z
LAST-MODIFIED:20240508T140330Z
UID:34360-1715155200-1715169600@www.goiasfomento.com
SUMMARY:Lucas Fernandes: Despachos Internos.
DESCRIPTION:
URL:https://www.goiasfomento.com/agenda/lucas-fernandes-despachos-internos-353/
LOCATION:Gabinete da Diretoria Administrativa e Financeira – Agência de Fomento de Goiás.
CATEGORIES:Diretoria Administrativa e Financeira
END:VEVENT
BEGIN:VEVENT
DTSTART;TZID=America/Sao_Paulo:20240508T140000
DTEND;TZID=America/Sao_Paulo:20240508T180000
DTSTAMP:20260425T112107
CREATED:20240508T140409Z
LAST-MODIFIED:20240508T140409Z
UID:34362-1715176800-1715191200@www.goiasfomento.com
SUMMARY:Lucas Fernandes: Despachos Internos.
DESCRIPTION:
URL:https://www.goiasfomento.com/agenda/lucas-fernandes-despachos-internos-354/
LOCATION:Gabinete da Diretoria Administrativa e Financeira – Agência de Fomento de Goiás.
CATEGORIES:Diretoria Administrativa e Financeira
END:VEVENT
BEGIN:VEVENT
DTSTART;TZID=America/Sao_Paulo:20240509T080000
DTEND;TZID=America/Sao_Paulo:20240509T120000
DTSTAMP:20260425T112107
CREATED:20240509T185541Z
LAST-MODIFIED:20240509T185541Z
UID:34387-1715241600-1715256000@www.goiasfomento.com
SUMMARY:Lucas Fernandes: Despachos Internos.
DESCRIPTION:
URL:https://www.goiasfomento.com/agenda/lucas-fernandes-despachos-internos-355/
LOCATION:Gabinete da Diretoria Administrativa e Financeira – Agência de Fomento de Goiás.
CATEGORIES:Diretoria Administrativa e Financeira
END:VEVENT
BEGIN:VEVENT
DTSTART;TZID=America/Sao_Paulo:20240509T140000
DTEND;TZID=America/Sao_Paulo:20240509T180000
DTSTAMP:20260425T112107
CREATED:20240509T185635Z
LAST-MODIFIED:20240509T185635Z
UID:34398-1715263200-1715277600@www.goiasfomento.com
SUMMARY:Lucas Fernandes: Despachos Internos.
DESCRIPTION:
URL:https://www.goiasfomento.com/agenda/lucas-fernandes-despachos-internos-356/
LOCATION:Gabinete da Diretoria Administrativa e Financeira – Agência de Fomento de Goiás.
CATEGORIES:Diretoria Administrativa e Financeira
END:VEVENT
BEGIN:VEVENT
DTSTART;TZID=America/Sao_Paulo:20240510T080000
DTEND;TZID=America/Sao_Paulo:20240510T120000
DTSTAMP:20260425T112107
CREATED:20240510T131856Z
LAST-MODIFIED:20240510T131856Z
UID:34414-1715328000-1715342400@www.goiasfomento.com
SUMMARY:Lucas Fernandes: Despachos Internos.
DESCRIPTION:
URL:https://www.goiasfomento.com/agenda/lucas-fernandes-despachos-internos-357/
LOCATION:Gabinete da Diretoria Administrativa e Financeira – Agência de Fomento de Goiás.
CATEGORIES:Diretoria Administrativa e Financeira
END:VEVENT
BEGIN:VEVENT
DTSTART;TZID=America/Sao_Paulo:20240510T140000
DTEND;TZID=America/Sao_Paulo:20240510T180000
DTSTAMP:20260425T112107
CREATED:20240510T131948Z
LAST-MODIFIED:20240510T131948Z
UID:34416-1715349600-1715364000@www.goiasfomento.com
SUMMARY:Lucas Fernandes: Despachos Internos.
DESCRIPTION:
URL:https://www.goiasfomento.com/agenda/lucas-fernandes-despachos-internos-358/
LOCATION:Gabinete da Diretoria Administrativa e Financeira – Agência de Fomento de Goiás.
CATEGORIES:Diretoria Administrativa e Financeira
END:VEVENT
BEGIN:VEVENT
DTSTART;TZID=America/Sao_Paulo:20240513T080000
DTEND;TZID=America/Sao_Paulo:20240513T120000
DTSTAMP:20260425T112107
CREATED:20240513T125117Z
LAST-MODIFIED:20240513T125117Z
UID:34428-1715587200-1715601600@www.goiasfomento.com
SUMMARY:Lucas Fernandes: Despachos Internos.
DESCRIPTION:
URL:https://www.goiasfomento.com/agenda/lucas-fernandes-despachos-internos-359/
LOCATION:Gabinete da Diretoria Administrativa e Financeira – Agência de Fomento de Goiás.
CATEGORIES:Diretoria Administrativa e Financeira
END:VEVENT
BEGIN:VEVENT
DTSTART;TZID=America/Sao_Paulo:20240513T140000
DTEND;TZID=America/Sao_Paulo:20240513T180000
DTSTAMP:20260425T112107
CREATED:20240513T125308Z
LAST-MODIFIED:20240513T125308Z
UID:34430-1715608800-1715623200@www.goiasfomento.com
SUMMARY:Lucas Fernandes: Despachos Internos.
DESCRIPTION:
URL:https://www.goiasfomento.com/agenda/lucas-fernandes-despachos-internos-360/
LOCATION:Gabinete da Diretoria Administrativa e Financeira – Agência de Fomento de Goiás.
CATEGORIES:Diretoria Administrativa e Financeira
END:VEVENT
BEGIN:VEVENT
DTSTART;TZID=America/Sao_Paulo:20240514T080000
DTEND;TZID=America/Sao_Paulo:20240514T120000
DTSTAMP:20260425T112107
CREATED:20240514T115613Z
LAST-MODIFIED:20240514T115613Z
UID:34452-1715673600-1715688000@www.goiasfomento.com
SUMMARY:Lucas Fernandes: Despachos Internos.
DESCRIPTION:
URL:https://www.goiasfomento.com/agenda/lucas-fernandes-despachos-internos-361/
LOCATION:Gabinete da Diretoria Administrativa e Financeira – Agência de Fomento de Goiás.
CATEGORIES:Diretoria Administrativa e Financeira
END:VEVENT
BEGIN:VEVENT
DTSTART;TZID=America/Sao_Paulo:20240514T140000
DTEND;TZID=America/Sao_Paulo:20240514T180000
DTSTAMP:20260425T112107
CREATED:20240514T115654Z
LAST-MODIFIED:20240514T115654Z
UID:34454-1715695200-1715709600@www.goiasfomento.com
SUMMARY:Lucas Fernandes: Despachos Internos.
DESCRIPTION:
URL:https://www.goiasfomento.com/agenda/lucas-fernandes-despachos-internos-362/
LOCATION:Gabinete da Diretoria Administrativa e Financeira – Agência de Fomento de Goiás.
CATEGORIES:Diretoria Administrativa e Financeira
END:VEVENT
BEGIN:VEVENT
DTSTART;TZID=America/Sao_Paulo:20240515T080000
DTEND;TZID=America/Sao_Paulo:20240515T120000
DTSTAMP:20260425T112107
CREATED:20240515T121318Z
LAST-MODIFIED:20240515T121318Z
UID:34472-1715760000-1715774400@www.goiasfomento.com
SUMMARY:Lucas Fernandes: Despachos Internos.
DESCRIPTION:
URL:https://www.goiasfomento.com/agenda/lucas-fernandes-despachos-internos-363/
LOCATION:Gabinete da Diretoria Administrativa e Financeira – Agência de Fomento de Goiás.
CATEGORIES:Diretoria Administrativa e Financeira
END:VEVENT
BEGIN:VEVENT
DTSTART;TZID=America/Sao_Paulo:20240515T140000
DTEND;TZID=America/Sao_Paulo:20240515T180000
DTSTAMP:20260425T112107
CREATED:20240515T121345Z
LAST-MODIFIED:20240515T121345Z
UID:34474-1715781600-1715796000@www.goiasfomento.com
SUMMARY:Lucas Fernandes: Despachos Internos.
DESCRIPTION:
URL:https://www.goiasfomento.com/agenda/lucas-fernandes-despachos-internos-364/
LOCATION:Gabinete da Diretoria Administrativa e Financeira – Agência de Fomento de Goiás.
CATEGORIES:Diretoria Administrativa e Financeira
END:VEVENT
BEGIN:VEVENT
DTSTART;TZID=America/Sao_Paulo:20240516T080000
DTEND;TZID=America/Sao_Paulo:20240516T120000
DTSTAMP:20260425T112107
CREATED:20240516T135310Z
LAST-MODIFIED:20240516T135310Z
UID:34484-1715846400-1715860800@www.goiasfomento.com
SUMMARY:Lucas Fernandes: Despachos Internos.
DESCRIPTION:
URL:https://www.goiasfomento.com/agenda/lucas-fernandes-despachos-internos-365/
LOCATION:Gabinete da Diretoria Administrativa e Financeira – Agência de Fomento de Goiás.
CATEGORIES:Diretoria Administrativa e Financeira
END:VEVENT
BEGIN:VEVENT
DTSTART;TZID=America/Sao_Paulo:20240516T140000
DTEND;TZID=America/Sao_Paulo:20240516T180000
DTSTAMP:20260425T112107
CREATED:20240516T135338Z
LAST-MODIFIED:20240516T135338Z
UID:34486-1715868000-1715882400@www.goiasfomento.com
SUMMARY:Lucas Fernandes: Despachos Internos.
DESCRIPTION:
URL:https://www.goiasfomento.com/agenda/lucas-fernandes-despachos-internos-366/
LOCATION:Gabinete da Diretoria Administrativa e Financeira – Agência de Fomento de Goiás.
CATEGORIES:Diretoria Administrativa e Financeira
END:VEVENT
BEGIN:VEVENT
DTSTART;TZID=America/Sao_Paulo:20240517T080000
DTEND;TZID=America/Sao_Paulo:20240517T120000
DTSTAMP:20260425T112107
CREATED:20240517T133545Z
LAST-MODIFIED:20240517T133545Z
UID:34504-1715932800-1715947200@www.goiasfomento.com
SUMMARY:Lucas Fernandes: Despachos Internos.
DESCRIPTION:
URL:https://www.goiasfomento.com/agenda/lucas-fernandes-despachos-internos-367/
LOCATION:Gabinete da Diretoria Administrativa e Financeira – Agência de Fomento de Goiás.
CATEGORIES:Diretoria Administrativa e Financeira
END:VEVENT
BEGIN:VEVENT
DTSTART;TZID=America/Sao_Paulo:20240517T140000
DTEND;TZID=America/Sao_Paulo:20240517T180000
DTSTAMP:20260425T112107
CREATED:20240517T133620Z
LAST-MODIFIED:20240517T133620Z
UID:34506-1715954400-1715968800@www.goiasfomento.com
SUMMARY:Lucas Fernandes: Despachos Internos.
DESCRIPTION:
URL:https://www.goiasfomento.com/agenda/lucas-fernandes-despachos-internos-368/
LOCATION:Gabinete da Diretoria Administrativa e Financeira – Agência de Fomento de Goiás.
CATEGORIES:Diretoria Administrativa e Financeira
END:VEVENT
BEGIN:VEVENT
DTSTART;TZID=America/Sao_Paulo:20240520T080000
DTEND;TZID=America/Sao_Paulo:20240520T120000
DTSTAMP:20260425T112107
CREATED:20240520T121042Z
LAST-MODIFIED:20240520T121042Z
UID:34525-1716192000-1716206400@www.goiasfomento.com
SUMMARY:Lucas Fernandes: Despachos Internos.
DESCRIPTION:
URL:https://www.goiasfomento.com/agenda/lucas-fernandes-despachos-internos-369/
LOCATION:Gabinete da Diretoria Administrativa e Financeira – Agência de Fomento de Goiás.
CATEGORIES:Diretoria Administrativa e Financeira
END:VEVENT
BEGIN:VEVENT
DTSTART;TZID=America/Sao_Paulo:20240520T140000
DTEND;TZID=America/Sao_Paulo:20240520T180000
DTSTAMP:20260425T112107
CREATED:20240520T121114Z
LAST-MODIFIED:20240520T121114Z
UID:34527-1716213600-1716228000@www.goiasfomento.com
SUMMARY:Lucas Fernandes: Despachos Internos.
DESCRIPTION:
URL:https://www.goiasfomento.com/agenda/lucas-fernandes-despachos-internos-370/
LOCATION:Gabinete da Diretoria Administrativa e Financeira – Agência de Fomento de Goiás.
CATEGORIES:Diretoria Administrativa e Financeira
END:VEVENT
BEGIN:VEVENT
DTSTART;TZID=America/Sao_Paulo:20240521T080000
DTEND;TZID=America/Sao_Paulo:20240521T120000
DTSTAMP:20260425T112107
CREATED:20240521T145044Z
LAST-MODIFIED:20240521T145044Z
UID:34541-1716278400-1716292800@www.goiasfomento.com
SUMMARY:Lucas Fernandes: Despachos Internos.
DESCRIPTION:
URL:https://www.goiasfomento.com/agenda/lucas-fernandes-despachos-internos-371/
LOCATION:Gabinete da Diretoria Administrativa e Financeira – Agência de Fomento de Goiás.
CATEGORIES:Diretoria Administrativa e Financeira
END:VEVENT
BEGIN:VEVENT
DTSTART;TZID=America/Sao_Paulo:20240521T140000
DTEND;TZID=America/Sao_Paulo:20240521T180000
DTSTAMP:20260425T112107
CREATED:20240521T145252Z
LAST-MODIFIED:20240521T145252Z
UID:34543-1716300000-1716314400@www.goiasfomento.com
SUMMARY:Lucas Fernandes: Despachos Internos.
DESCRIPTION:
URL:https://www.goiasfomento.com/agenda/lucas-fernandes-despachos-internos-372/
LOCATION:Gabinete da Diretoria Administrativa e Financeira – Agência de Fomento de Goiás.
CATEGORIES:Diretoria Administrativa e Financeira
END:VEVENT
BEGIN:VEVENT
DTSTART;TZID=America/Sao_Paulo:20240522T080000
DTEND;TZID=America/Sao_Paulo:20240522T120000
DTSTAMP:20260425T112107
CREATED:20240522T133930Z
LAST-MODIFIED:20240522T133930Z
UID:34557-1716364800-1716379200@www.goiasfomento.com
SUMMARY:Lucas Fernandes: Despachos Internos.
DESCRIPTION:
URL:https://www.goiasfomento.com/agenda/lucas-fernandes-despachos-internos-373/
LOCATION:Gabinete da Diretoria Administrativa e Financeira – Agência de Fomento de Goiás.
CATEGORIES:Diretoria Administrativa e Financeira
END:VEVENT
END:VCALENDAR