BEGIN:VCALENDAR
VERSION:2.0
PRODID:-//GoiásFomento - Agência de Fomento - ECPv6.15.20//NONSGML v1.0//EN
CALSCALE:GREGORIAN
METHOD:PUBLISH
X-WR-CALNAME:GoiásFomento - Agência de Fomento
X-ORIGINAL-URL:https://www.goiasfomento.com
X-WR-CALDESC:Eventos para GoiásFomento - Agência de Fomento
REFRESH-INTERVAL;VALUE=DURATION:PT1H
X-Robots-Tag:noindex
X-PUBLISHED-TTL:PT1H
BEGIN:VTIMEZONE
TZID:America/Sao_Paulo
BEGIN:STANDARD
TZOFFSETFROM:-0300
TZOFFSETTO:-0300
TZNAME:-03
DTSTART:20230101T000000
END:STANDARD
END:VTIMEZONE
BEGIN:VEVENT
DTSTART;TZID=America/Sao_Paulo:20240301T080000
DTEND;TZID=America/Sao_Paulo:20240301T120000
DTSTAMP:20260425T142512
CREATED:20240301T184201Z
LAST-MODIFIED:20240301T184201Z
UID:33316-1709280000-1709294400@www.goiasfomento.com
SUMMARY:Lucas Fernandes: Despachos Internos.
DESCRIPTION:
URL:https://www.goiasfomento.com/agenda/lucas-fernandes-despachos-internos-281/
LOCATION:Gabinete da Diretoria Administrativa e Financeira – Agência de Fomento de Goiás.
CATEGORIES:Diretoria Administrativa e Financeira
END:VEVENT
BEGIN:VEVENT
DTSTART;TZID=America/Sao_Paulo:20240301T140000
DTEND;TZID=America/Sao_Paulo:20240301T180000
DTSTAMP:20260425T142512
CREATED:20240301T184255Z
LAST-MODIFIED:20240301T184255Z
UID:33318-1709301600-1709316000@www.goiasfomento.com
SUMMARY:Lucas Fernandes: Despachos Internos.
DESCRIPTION:
URL:https://www.goiasfomento.com/agenda/lucas-fernandes-despachos-internos-282/
LOCATION:Gabinete da Diretoria Administrativa e Financeira – Agência de Fomento de Goiás.
CATEGORIES:Diretoria Administrativa e Financeira
END:VEVENT
BEGIN:VEVENT
DTSTART;TZID=America/Sao_Paulo:20240304T080000
DTEND;TZID=America/Sao_Paulo:20240304T100000
DTSTAMP:20260425T142512
CREATED:20240304T135014Z
LAST-MODIFIED:20240304T135014Z
UID:33338-1709539200-1709546400@www.goiasfomento.com
SUMMARY:Lucas Fernandes de Andrade: Solenidade de Abertura do Goiás Social Mulher.
DESCRIPTION:
URL:https://www.goiasfomento.com/agenda/lucas-fernandes-de-andrade-solenidade-de-abertura-do-goias-social-mulher/
LOCATION:Gabinete da Diretoria Administrativa e Financeira – Agência de Fomento de Goiás.
CATEGORIES:Diretoria Administrativa e Financeira
END:VEVENT
BEGIN:VEVENT
DTSTART;TZID=America/Sao_Paulo:20240304T100000
DTEND;TZID=America/Sao_Paulo:20240304T120000
DTSTAMP:20260425T142512
CREATED:20240304T135301Z
LAST-MODIFIED:20240304T180521Z
UID:33340-1709546400-1709553600@www.goiasfomento.com
SUMMARY:Lucas Fernandes de Andrade: Despachos Internos.
DESCRIPTION:
URL:https://www.goiasfomento.com/agenda/lucas-fernandes-despachos-internos-283/
LOCATION:Gabinete da Diretoria Administrativa e Financeira – Agência de Fomento de Goiás.
CATEGORIES:Diretoria Administrativa e Financeira
END:VEVENT
BEGIN:VEVENT
DTSTART;TZID=America/Sao_Paulo:20240304T140000
DTEND;TZID=America/Sao_Paulo:20240304T180000
DTSTAMP:20260425T142512
CREATED:20240304T135443Z
LAST-MODIFIED:20240304T180451Z
UID:33342-1709560800-1709575200@www.goiasfomento.com
SUMMARY:Lucas Fernandes de Andrade: Despachos Internos.
DESCRIPTION:
URL:https://www.goiasfomento.com/agenda/lucas-fernandes-despachos-internos-284/
LOCATION:Gabinete da Diretoria Administrativa e Financeira – Agência de Fomento de Goiás.
CATEGORIES:Diretoria Administrativa e Financeira
END:VEVENT
BEGIN:VEVENT
DTSTART;TZID=America/Sao_Paulo:20240305T080000
DTEND;TZID=America/Sao_Paulo:20240305T120000
DTSTAMP:20260425T142512
CREATED:20240304T183722Z
LAST-MODIFIED:20240304T183722Z
UID:33397-1709625600-1709640000@www.goiasfomento.com
SUMMARY:Lucas Fernandes de Andrade: Despachos Internos.
DESCRIPTION:
URL:https://www.goiasfomento.com/agenda/lucas-fernandes-de-andrade-despachos-internos-3/
LOCATION:Gabinete da Diretoria Administrativa e Financeira – Agência de Fomento de Goiás.
CATEGORIES:Diretoria Administrativa e Financeira
END:VEVENT
BEGIN:VEVENT
DTSTART;TZID=America/Sao_Paulo:20240305T140000
DTEND;TZID=America/Sao_Paulo:20240305T180000
DTSTAMP:20260425T142512
CREATED:20240304T183753Z
LAST-MODIFIED:20240304T183753Z
UID:33399-1709647200-1709661600@www.goiasfomento.com
SUMMARY:Lucas Fernandes de Andrade: Despachos Internos.
DESCRIPTION:
URL:https://www.goiasfomento.com/agenda/lucas-fernandes-de-andrade-despachos-internos-4/
LOCATION:Gabinete da Diretoria Administrativa e Financeira – Agência de Fomento de Goiás.
CATEGORIES:Diretoria Administrativa e Financeira
END:VEVENT
BEGIN:VEVENT
DTSTART;TZID=America/Sao_Paulo:20240306T080000
DTEND;TZID=America/Sao_Paulo:20240306T120000
DTSTAMP:20260425T142512
CREATED:20240306T112801Z
LAST-MODIFIED:20240306T112801Z
UID:33403-1709712000-1709726400@www.goiasfomento.com
SUMMARY:Vinícius de Cecílio Luz (Diretor de Operações)    em Substituição a Lucas Fernandes de Andrade\,  (férias do titular): Despachos Internos.
DESCRIPTION:
URL:https://www.goiasfomento.com/agenda/vinicius-de-cecilio-luz-diretor-de-operacoes-em-substituicao-a-lucas-fernandes-de-andrade-ferias-do-titular-despachos-internos/
LOCATION:Gabinete da Diretoria Administrativa e Financeira – Agência de Fomento de Goiás.
CATEGORIES:Diretoria Administrativa e Financeira
END:VEVENT
BEGIN:VEVENT
DTSTART;TZID=America/Sao_Paulo:20240306T140000
DTEND;TZID=America/Sao_Paulo:20240306T180000
DTSTAMP:20260425T142512
CREATED:20240306T112832Z
LAST-MODIFIED:20240306T112832Z
UID:33405-1709733600-1709748000@www.goiasfomento.com
SUMMARY:Vinícius de Cecílio Luz (Diretor de Operações)    em Substituição a Lucas Fernandes de Andrade\,  (férias do titular): Despachos Internos.
DESCRIPTION:
URL:https://www.goiasfomento.com/agenda/vinicius-de-cecilio-luz-diretor-de-operacoes-em-substituicao-a-lucas-fernandes-de-andrade-ferias-do-titular-despachos-internos-2/
LOCATION:Gabinete da Diretoria Administrativa e Financeira – Agência de Fomento de Goiás.
CATEGORIES:Diretoria Administrativa e Financeira
END:VEVENT
BEGIN:VEVENT
DTSTART;TZID=America/Sao_Paulo:20240307T080000
DTEND;TZID=America/Sao_Paulo:20240307T120000
DTSTAMP:20260425T142512
CREATED:20240307T110205Z
LAST-MODIFIED:20240307T110205Z
UID:33411-1709798400-1709812800@www.goiasfomento.com
SUMMARY:Vinícius de Cecílio Luz (Diretor de Operações) em Substituição a Lucas Fernandes de Andrade\, (férias do titular): Despachos Internos.
DESCRIPTION:
URL:https://www.goiasfomento.com/agenda/vinicius-de-cecilio-luz-diretor-de-operacoes-em-substituicao-a-lucas-fernandes-de-andrade-ferias-do-titular-despachos-internos-3/
LOCATION:Gabinete da Diretoria Administrativa e Financeira – Agência de Fomento de Goiás.
CATEGORIES:Diretoria Administrativa e Financeira
END:VEVENT
BEGIN:VEVENT
DTSTART;TZID=America/Sao_Paulo:20240307T140000
DTEND;TZID=America/Sao_Paulo:20240307T180000
DTSTAMP:20260425T142512
CREATED:20240307T110301Z
LAST-MODIFIED:20240307T110301Z
UID:33413-1709820000-1709834400@www.goiasfomento.com
SUMMARY:Vinícius de Cecílio Luz (Diretor de Operações) em Substituição a Lucas Fernandes de Andrade\, (férias do titular): Despachos Internos.
DESCRIPTION:
URL:https://www.goiasfomento.com/agenda/vinicius-de-cecilio-luz-diretor-de-operacoes-em-substituicao-a-lucas-fernandes-de-andrade-ferias-do-titular-despachos-internos-4/
LOCATION:Gabinete da Diretoria Administrativa e Financeira – Agência de Fomento de Goiás.
CATEGORIES:Diretoria Administrativa e Financeira
END:VEVENT
BEGIN:VEVENT
DTSTART;TZID=America/Sao_Paulo:20240308T080000
DTEND;TZID=America/Sao_Paulo:20240308T120000
DTSTAMP:20260425T142512
CREATED:20240308T122520Z
LAST-MODIFIED:20240308T122520Z
UID:33439-1709884800-1709899200@www.goiasfomento.com
SUMMARY:Vinícius de Cecílio Luz (Diretor de Operações) em Substituição a Lucas Fernandes de Andrade\, (férias do titular): Despachos Internos.
DESCRIPTION:
URL:https://www.goiasfomento.com/agenda/vinicius-de-cecilio-luz-diretor-de-operacoes-em-substituicao-a-lucas-fernandes-de-andrade-ferias-do-titular-despachos-internos-5/
LOCATION:Gabinete da Diretoria Administrativa e Financeira – Agência de Fomento de Goiás.
CATEGORIES:Diretoria Administrativa e Financeira
END:VEVENT
BEGIN:VEVENT
DTSTART;TZID=America/Sao_Paulo:20240308T140000
DTEND;TZID=America/Sao_Paulo:20240308T180000
DTSTAMP:20260425T142512
CREATED:20240308T124025Z
LAST-MODIFIED:20240308T124025Z
UID:33441-1709906400-1709920800@www.goiasfomento.com
SUMMARY:Vinícius de Cecílio Luz (Diretor de Operações) em Substituição a Lucas Fernandes de Andrade\, (férias do titular): Despachos Internos.
DESCRIPTION:
URL:https://www.goiasfomento.com/agenda/vinicius-de-cecilio-luz-diretor-de-operacoes-em-substituicao-a-lucas-fernandes-de-andrade-ferias-do-titular-despachos-internos-6/
LOCATION:Gabinete da Diretoria Administrativa e Financeira – Agência de Fomento de Goiás.
CATEGORIES:Diretoria Administrativa e Financeira
END:VEVENT
BEGIN:VEVENT
DTSTART;TZID=America/Sao_Paulo:20240311T080000
DTEND;TZID=America/Sao_Paulo:20240311T120000
DTSTAMP:20260425T142512
CREATED:20240311T161601Z
LAST-MODIFIED:20240311T161601Z
UID:33449-1710144000-1710158400@www.goiasfomento.com
SUMMARY:Vinícius de Cecílio Luz (Diretor de Operações) em Substituição a Lucas Fernandes de Andrade\, (férias do titular): Despachos Internos.
DESCRIPTION:
URL:https://www.goiasfomento.com/agenda/vinicius-de-cecilio-luz-diretor-de-operacoes-em-substituicao-a-lucas-fernandes-de-andrade-ferias-do-titular-despachos-internos-7/
LOCATION:Gabinete da Diretoria Administrativa e Financeira – Agência de Fomento de Goiás.
CATEGORIES:Diretoria Administrativa e Financeira
END:VEVENT
BEGIN:VEVENT
DTSTART;TZID=America/Sao_Paulo:20240311T140000
DTEND;TZID=America/Sao_Paulo:20240311T180000
DTSTAMP:20260425T142512
CREATED:20240311T161632Z
LAST-MODIFIED:20240311T161632Z
UID:33451-1710165600-1710180000@www.goiasfomento.com
SUMMARY:Vinícius de Cecílio Luz (Diretor de Operações) em Substituição a Lucas Fernandes de Andrade\, (férias do titular): Despachos Internos.
DESCRIPTION:
URL:https://www.goiasfomento.com/agenda/vinicius-de-cecilio-luz-diretor-de-operacoes-em-substituicao-a-lucas-fernandes-de-andrade-ferias-do-titular-despachos-internos-8/
LOCATION:Gabinete da Diretoria Administrativa e Financeira – Agência de Fomento de Goiás.
CATEGORIES:Diretoria Administrativa e Financeira
END:VEVENT
BEGIN:VEVENT
DTSTART;TZID=America/Sao_Paulo:20240312T080000
DTEND;TZID=America/Sao_Paulo:20240312T120000
DTSTAMP:20260425T142512
CREATED:20240311T161702Z
LAST-MODIFIED:20240311T161702Z
UID:33453-1710230400-1710244800@www.goiasfomento.com
SUMMARY:Vinícius de Cecílio Luz (Diretor de Operações) em Substituição a Lucas Fernandes de Andrade\, (férias do titular): Despachos Internos.
DESCRIPTION:
URL:https://www.goiasfomento.com/agenda/vinicius-de-cecilio-luz-diretor-de-operacoes-em-substituicao-a-lucas-fernandes-de-andrade-ferias-do-titular-despachos-internos-9/
LOCATION:Gabinete da Diretoria Administrativa e Financeira – Agência de Fomento de Goiás.
CATEGORIES:Diretoria Administrativa e Financeira
END:VEVENT
BEGIN:VEVENT
DTSTART;TZID=America/Sao_Paulo:20240312T140000
DTEND;TZID=America/Sao_Paulo:20240312T180000
DTSTAMP:20260425T142512
CREATED:20240311T161733Z
LAST-MODIFIED:20240311T161817Z
UID:33455-1710252000-1710266400@www.goiasfomento.com
SUMMARY:Vinícius de Cecílio Luz (Diretor de Operações) em Substituição a Lucas Fernandes de Andrade\, (férias do titular): Despachos Internos.
DESCRIPTION:
URL:https://www.goiasfomento.com/agenda/vinicius-de-cecilio-luz-diretor-de-operacoes-em-substituicao-a-lucas-fernandes-de-andrade-ferias-do-titular-despachos-internos-10/
LOCATION:Gabinete da Diretoria Administrativa e Financeira – Agência de Fomento de Goiás.
CATEGORIES:Diretoria Administrativa e Financeira
END:VEVENT
BEGIN:VEVENT
DTSTART;TZID=America/Sao_Paulo:20240313T080000
DTEND;TZID=America/Sao_Paulo:20240313T120000
DTSTAMP:20260425T142512
CREATED:20240311T194018Z
LAST-MODIFIED:20240311T194018Z
UID:33501-1710316800-1710331200@www.goiasfomento.com
SUMMARY:Vinícius de Cecílio Luz (Diretor de Operações) em Substituição a Lucas Fernandes de Andrade\, (férias do titular): Despachos Internos.
DESCRIPTION:
URL:https://www.goiasfomento.com/agenda/vinicius-de-cecilio-luz-diretor-de-operacoes-em-substituicao-a-lucas-fernandes-de-andrade-ferias-do-titular-despachos-internos-11/
LOCATION:Gabinete da Diretoria Administrativa e Financeira – Agência de Fomento de Goiás.
CATEGORIES:Diretoria Administrativa e Financeira
END:VEVENT
BEGIN:VEVENT
DTSTART;TZID=America/Sao_Paulo:20240313T140000
DTEND;TZID=America/Sao_Paulo:20240313T180000
DTSTAMP:20260425T142512
CREATED:20240311T194114Z
LAST-MODIFIED:20240311T194114Z
UID:33503-1710338400-1710352800@www.goiasfomento.com
SUMMARY:Vinícius de Cecílio Luz (Diretor de Operações) em Substituição a Lucas Fernandes de Andrade\, (férias do titular): Despachos Internos.
DESCRIPTION:
URL:https://www.goiasfomento.com/agenda/vinicius-de-cecilio-luz-diretor-de-operacoes-em-substituicao-a-lucas-fernandes-de-andrade-ferias-do-titular-despachos-internos-12/
LOCATION:Gabinete da Diretoria Administrativa e Financeira – Agência de Fomento de Goiás.
CATEGORIES:Diretoria Administrativa e Financeira
END:VEVENT
BEGIN:VEVENT
DTSTART;TZID=America/Sao_Paulo:20240314T080000
DTEND;TZID=America/Sao_Paulo:20240314T120000
DTSTAMP:20260425T142512
CREATED:20240311T194151Z
LAST-MODIFIED:20240311T194151Z
UID:33505-1710403200-1710417600@www.goiasfomento.com
SUMMARY:Vinícius de Cecílio Luz (Diretor de Operações) em Substituição a Lucas Fernandes de Andrade\, (férias do titular): Despachos Internos.
DESCRIPTION:
URL:https://www.goiasfomento.com/agenda/vinicius-de-cecilio-luz-diretor-de-operacoes-em-substituicao-a-lucas-fernandes-de-andrade-ferias-do-titular-despachos-internos-13/
LOCATION:Gabinete da Diretoria Administrativa e Financeira – Agência de Fomento de Goiás.
CATEGORIES:Diretoria Administrativa e Financeira
END:VEVENT
BEGIN:VEVENT
DTSTART;TZID=America/Sao_Paulo:20240314T140000
DTEND;TZID=America/Sao_Paulo:20240314T180000
DTSTAMP:20260425T142512
CREATED:20240311T194221Z
LAST-MODIFIED:20240311T194221Z
UID:33507-1710424800-1710439200@www.goiasfomento.com
SUMMARY:Vinícius de Cecílio Luz (Diretor de Operações) em Substituição a Lucas Fernandes de Andrade\, (férias do titular): Despachos Internos.
DESCRIPTION:
URL:https://www.goiasfomento.com/agenda/vinicius-de-cecilio-luz-diretor-de-operacoes-em-substituicao-a-lucas-fernandes-de-andrade-ferias-do-titular-despachos-internos-14/
LOCATION:Gabinete da Diretoria Administrativa e Financeira – Agência de Fomento de Goiás.
CATEGORIES:Diretoria Administrativa e Financeira
END:VEVENT
BEGIN:VEVENT
DTSTART;TZID=America/Sao_Paulo:20240315T080000
DTEND;TZID=America/Sao_Paulo:20240315T120000
DTSTAMP:20260425T142512
CREATED:20240311T194250Z
LAST-MODIFIED:20240311T194250Z
UID:33509-1710489600-1710504000@www.goiasfomento.com
SUMMARY:Vinícius de Cecílio Luz (Diretor de Operações) em Substituição a Lucas Fernandes de Andrade\, (férias do titular): Despachos Internos.
DESCRIPTION:
URL:https://www.goiasfomento.com/agenda/vinicius-de-cecilio-luz-diretor-de-operacoes-em-substituicao-a-lucas-fernandes-de-andrade-ferias-do-titular-despachos-internos-15/
LOCATION:Gabinete da Diretoria Administrativa e Financeira – Agência de Fomento de Goiás.
CATEGORIES:Diretoria Administrativa e Financeira
END:VEVENT
BEGIN:VEVENT
DTSTART;TZID=America/Sao_Paulo:20240315T140000
DTEND;TZID=America/Sao_Paulo:20240315T180000
DTSTAMP:20260425T142512
CREATED:20240311T194837Z
LAST-MODIFIED:20240311T194837Z
UID:33511-1710511200-1710525600@www.goiasfomento.com
SUMMARY:Vinícius de Cecílio Luz (Diretor de Operações) em Substituição a Lucas Fernandes de Andrade\, (férias do titular): Despachos Internos.
DESCRIPTION:
URL:https://www.goiasfomento.com/agenda/vinicius-de-cecilio-luz-diretor-de-operacoes-em-substituicao-a-lucas-fernandes-de-andrade-ferias-do-titular-despachos-internos-16/
LOCATION:Gabinete da Diretoria Administrativa e Financeira – Agência de Fomento de Goiás.
CATEGORIES:Diretoria Administrativa e Financeira
END:VEVENT
BEGIN:VEVENT
DTSTART;TZID=America/Sao_Paulo:20240318T080000
DTEND;TZID=America/Sao_Paulo:20240318T120000
DTSTAMP:20260425T142512
CREATED:20240319T140537Z
LAST-MODIFIED:20240319T140537Z
UID:33617-1710748800-1710763200@www.goiasfomento.com
SUMMARY:Lucas Fernandes: Despachos Internos.
DESCRIPTION:
URL:https://www.goiasfomento.com/agenda/lucas-fernandes-despachos-internos-287/
LOCATION:Gabinete da Diretoria Administrativa e Financeira – Agência de Fomento de Goiás.
CATEGORIES:Diretoria Administrativa e Financeira
END:VEVENT
BEGIN:VEVENT
DTSTART;TZID=America/Sao_Paulo:20240318T140000
DTEND;TZID=America/Sao_Paulo:20240318T180000
DTSTAMP:20260425T142512
CREATED:20240319T140602Z
LAST-MODIFIED:20240319T140640Z
UID:33619-1710770400-1710784800@www.goiasfomento.com
SUMMARY:Lucas Fernandes: Despachos Internos.
DESCRIPTION:
URL:https://www.goiasfomento.com/agenda/lucas-fernandes-despachos-internos-288/
LOCATION:Gabinete da Diretoria Administrativa e Financeira – Agência de Fomento de Goiás.
CATEGORIES:Diretoria Administrativa e Financeira
END:VEVENT
BEGIN:VEVENT
DTSTART;TZID=America/Sao_Paulo:20240319T080000
DTEND;TZID=America/Sao_Paulo:20240319T120000
DTSTAMP:20260425T142512
CREATED:20240319T140412Z
LAST-MODIFIED:20240319T140412Z
UID:33613-1710835200-1710849600@www.goiasfomento.com
SUMMARY:Lucas Fernandes: Despachos Internos.
DESCRIPTION:
URL:https://www.goiasfomento.com/agenda/lucas-fernandes-despachos-internos-285/
LOCATION:Gabinete da Diretoria Administrativa e Financeira – Agência de Fomento de Goiás.
CATEGORIES:Diretoria Administrativa e Financeira
END:VEVENT
BEGIN:VEVENT
DTSTART;TZID=America/Sao_Paulo:20240319T140000
DTEND;TZID=America/Sao_Paulo:20240319T180000
DTSTAMP:20260425T142512
CREATED:20240319T140440Z
LAST-MODIFIED:20240319T140440Z
UID:33615-1710856800-1710871200@www.goiasfomento.com
SUMMARY:Lucas Fernandes: Despachos Internos.
DESCRIPTION:
URL:https://www.goiasfomento.com/agenda/lucas-fernandes-despachos-internos-286/
LOCATION:Gabinete da Diretoria Administrativa e Financeira – Agência de Fomento de Goiás.
CATEGORIES:Diretoria Administrativa e Financeira
END:VEVENT
BEGIN:VEVENT
DTSTART;TZID=America/Sao_Paulo:20240320T080000
DTEND;TZID=America/Sao_Paulo:20240320T120000
DTSTAMP:20260425T142512
CREATED:20240320T123121Z
LAST-MODIFIED:20240320T123121Z
UID:33634-1710921600-1710936000@www.goiasfomento.com
SUMMARY:Lucas Fernandes: Despachos Internos.
DESCRIPTION:
URL:https://www.goiasfomento.com/agenda/lucas-fernandes-despachos-internos-289/
LOCATION:Gabinete da Diretoria Administrativa e Financeira – Agência de Fomento de Goiás.
CATEGORIES:Diretoria Administrativa e Financeira
END:VEVENT
BEGIN:VEVENT
DTSTART;TZID=America/Sao_Paulo:20240320T140000
DTEND;TZID=America/Sao_Paulo:20240320T180000
DTSTAMP:20260425T142512
CREATED:20240320T123147Z
LAST-MODIFIED:20240320T123147Z
UID:33636-1710943200-1710957600@www.goiasfomento.com
SUMMARY:Lucas Fernandes: Despachos Internos.
DESCRIPTION:
URL:https://www.goiasfomento.com/agenda/lucas-fernandes-despachos-internos-290/
LOCATION:Gabinete da Diretoria Administrativa e Financeira – Agência de Fomento de Goiás.
CATEGORIES:Diretoria Administrativa e Financeira
END:VEVENT
BEGIN:VEVENT
DTSTART;TZID=America/Sao_Paulo:20240321T080000
DTEND;TZID=America/Sao_Paulo:20240321T120000
DTSTAMP:20260425T142512
CREATED:20240321T175018Z
LAST-MODIFIED:20240321T175018Z
UID:33661-1711008000-1711022400@www.goiasfomento.com
SUMMARY:Lucas Fernandes: Despachos Internos.
DESCRIPTION:
URL:https://www.goiasfomento.com/agenda/lucas-fernandes-despachos-internos-291/
LOCATION:Gabinete da Diretoria Administrativa e Financeira – Agência de Fomento de Goiás.
CATEGORIES:Diretoria Administrativa e Financeira
END:VEVENT
END:VCALENDAR