BEGIN:VCALENDAR
VERSION:2.0
PRODID:-//GoiásFomento - Agência de Fomento - ECPv6.15.20//NONSGML v1.0//EN
CALSCALE:GREGORIAN
METHOD:PUBLISH
X-ORIGINAL-URL:https://www.goiasfomento.com
X-WR-CALDESC:Eventos para GoiásFomento - Agência de Fomento
REFRESH-INTERVAL;VALUE=DURATION:PT1H
X-Robots-Tag:noindex
X-PUBLISHED-TTL:PT1H
BEGIN:VTIMEZONE
TZID:America/Sao_Paulo
BEGIN:STANDARD
TZOFFSETFROM:-0300
TZOFFSETTO:-0300
TZNAME:-03
DTSTART:20230101T000000
END:STANDARD
END:VTIMEZONE
BEGIN:VEVENT
DTSTART;VALUE=DATE:20240101
DTEND;VALUE=DATE:20240102
DTSTAMP:20260425T173729
CREATED:20240102T123926Z
LAST-MODIFIED:20240102T133408Z
UID:32478-1704067200-1704153599@www.goiasfomento.com
SUMMARY:Feriado Nacional.
DESCRIPTION:
URL:https://www.goiasfomento.com/agenda/feriado-nascional/
CATEGORIES:Chefia de Gabinete,Diretoria Administrativa e Financeira,Presidência
END:VEVENT
BEGIN:VEVENT
DTSTART;TZID=America/Sao_Paulo:20240102T080000
DTEND;TZID=America/Sao_Paulo:20240102T120000
DTSTAMP:20260425T173729
CREATED:20240102T133919Z
LAST-MODIFIED:20240102T133919Z
UID:32485-1704182400-1704196800@www.goiasfomento.com
SUMMARY:Lucas Fernandes: Despachos Internos.
DESCRIPTION:
URL:https://www.goiasfomento.com/agenda/lucas-fernandes-despachos-internos-199/
LOCATION:Gabinete da Diretoria Administrativa e Financeira – Agência de Fomento de Goiás.
CATEGORIES:Diretoria Administrativa e Financeira
END:VEVENT
BEGIN:VEVENT
DTSTART;TZID=America/Sao_Paulo:20240102T140000
DTEND;TZID=America/Sao_Paulo:20240102T180000
DTSTAMP:20260425T173729
CREATED:20240102T133951Z
LAST-MODIFIED:20240102T133951Z
UID:32487-1704204000-1704218400@www.goiasfomento.com
SUMMARY:Lucas Fernandes: Despachos Internos.
DESCRIPTION:
URL:https://www.goiasfomento.com/agenda/lucas-fernandes-despachos-internos-200/
LOCATION:Gabinete da Diretoria Administrativa e Financeira – Agência de Fomento de Goiás.
CATEGORIES:Diretoria Administrativa e Financeira
END:VEVENT
BEGIN:VEVENT
DTSTART;TZID=America/Sao_Paulo:20240103T080000
DTEND;TZID=America/Sao_Paulo:20240103T120000
DTSTAMP:20260425T173729
CREATED:20240103T112515Z
LAST-MODIFIED:20240103T112515Z
UID:32497-1704268800-1704283200@www.goiasfomento.com
SUMMARY:Lucas Fernandes: Despachos Internos.
DESCRIPTION:
URL:https://www.goiasfomento.com/agenda/lucas-fernandes-despachos-internos-201/
LOCATION:Gabinete da Diretoria Administrativa e Financeira – Agência de Fomento de Goiás.
CATEGORIES:Diretoria Administrativa e Financeira
END:VEVENT
BEGIN:VEVENT
DTSTART;TZID=America/Sao_Paulo:20240103T140000
DTEND;TZID=America/Sao_Paulo:20240103T180000
DTSTAMP:20260425T173729
CREATED:20240103T112553Z
LAST-MODIFIED:20240103T112553Z
UID:32499-1704290400-1704304800@www.goiasfomento.com
SUMMARY:Lucas Fernandes: Despachos Internos.
DESCRIPTION:
URL:https://www.goiasfomento.com/agenda/lucas-fernandes-despachos-internos-202/
LOCATION:Gabinete da Diretoria Administrativa e Financeira – Agência de Fomento de Goiás.
CATEGORIES:Diretoria Administrativa e Financeira
END:VEVENT
BEGIN:VEVENT
DTSTART;TZID=America/Sao_Paulo:20240104T080000
DTEND;TZID=America/Sao_Paulo:20240104T120000
DTSTAMP:20260425T173729
CREATED:20240104T121632Z
LAST-MODIFIED:20240104T121632Z
UID:32509-1704355200-1704369600@www.goiasfomento.com
SUMMARY:Lucas Fernandes: Despachos Internos.
DESCRIPTION:
URL:https://www.goiasfomento.com/agenda/lucas-fernandes-despachos-internos-203/
LOCATION:Gabinete da Diretoria Administrativa e Financeira – Agência de Fomento de Goiás.
CATEGORIES:Diretoria Administrativa e Financeira
END:VEVENT
BEGIN:VEVENT
DTSTART;TZID=America/Sao_Paulo:20240104T140000
DTEND;TZID=America/Sao_Paulo:20240104T180000
DTSTAMP:20260425T173729
CREATED:20240104T121702Z
LAST-MODIFIED:20240104T121702Z
UID:32511-1704376800-1704391200@www.goiasfomento.com
SUMMARY:Lucas Fernandes: Despachos Internos.
DESCRIPTION:
URL:https://www.goiasfomento.com/agenda/lucas-fernandes-despachos-internos-204/
LOCATION:Gabinete da Diretoria Administrativa e Financeira – Agência de Fomento de Goiás.
CATEGORIES:Diretoria Administrativa e Financeira
END:VEVENT
BEGIN:VEVENT
DTSTART;TZID=America/Sao_Paulo:20240105T080000
DTEND;TZID=America/Sao_Paulo:20240105T120000
DTSTAMP:20260425T173729
CREATED:20240105T140325Z
LAST-MODIFIED:20240105T140325Z
UID:32521-1704441600-1704456000@www.goiasfomento.com
SUMMARY:Lucas Fernandes: Despachos Internos.
DESCRIPTION:
URL:https://www.goiasfomento.com/agenda/lucas-fernandes-despachos-internos-205/
LOCATION:Gabinete da Diretoria Administrativa e Financeira – Agência de Fomento de Goiás.
CATEGORIES:Diretoria Administrativa e Financeira
END:VEVENT
BEGIN:VEVENT
DTSTART;TZID=America/Sao_Paulo:20240105T140000
DTEND;TZID=America/Sao_Paulo:20240105T180000
DTSTAMP:20260425T173729
CREATED:20240105T140359Z
LAST-MODIFIED:20240105T140359Z
UID:32523-1704463200-1704477600@www.goiasfomento.com
SUMMARY:Lucas Fernandes: Despachos Internos.
DESCRIPTION:
URL:https://www.goiasfomento.com/agenda/lucas-fernandes-despachos-internos-206/
LOCATION:Gabinete da Diretoria Administrativa e Financeira – Agência de Fomento de Goiás.
CATEGORIES:Diretoria Administrativa e Financeira
END:VEVENT
BEGIN:VEVENT
DTSTART;TZID=America/Sao_Paulo:20240108T080000
DTEND;TZID=America/Sao_Paulo:20240108T120000
DTSTAMP:20260425T173729
CREATED:20240109T120239Z
LAST-MODIFIED:20240109T120239Z
UID:32553-1704700800-1704715200@www.goiasfomento.com
SUMMARY:Lucas Fernandes: Despachos Internos.
DESCRIPTION:
URL:https://www.goiasfomento.com/agenda/lucas-fernandes-despachos-internos-209/
LOCATION:Gabinete da Diretoria Administrativa e Financeira – Agência de Fomento de Goiás.
CATEGORIES:Diretoria Administrativa e Financeira
END:VEVENT
BEGIN:VEVENT
DTSTART;TZID=America/Sao_Paulo:20240108T140000
DTEND;TZID=America/Sao_Paulo:20240108T160000
DTSTAMP:20260425T173729
CREATED:20240109T120349Z
LAST-MODIFIED:20240109T120349Z
UID:32555-1704722400-1704729600@www.goiasfomento.com
SUMMARY:Lucas Fernandes: Despachos Internos.
DESCRIPTION:
URL:https://www.goiasfomento.com/agenda/lucas-fernandes-despachos-internos-210/
LOCATION:Gabinete da Diretoria Administrativa e Financeira – Agência de Fomento de Goiás.
CATEGORIES:Diretoria Administrativa e Financeira
END:VEVENT
BEGIN:VEVENT
DTSTART;TZID=America/Sao_Paulo:20240108T160000
DTEND;TZID=America/Sao_Paulo:20240108T173000
DTSTAMP:20260425T173729
CREATED:20240109T122313Z
LAST-MODIFIED:20240109T122313Z
UID:32557-1704729600-1704735000@www.goiasfomento.com
SUMMARY:Lucas Fernandes: Reunião com Francisco Sérvulo Secretário da (SEAD).
DESCRIPTION:
URL:https://www.goiasfomento.com/agenda/lucas-fernandes-reuniao-com-francisco-servulo-secretario-da-sead/
LOCATION:Palácio Pedro Ludovico Teixeira
CATEGORIES:Diretoria Administrativa e Financeira
END:VEVENT
BEGIN:VEVENT
DTSTART;TZID=America/Sao_Paulo:20240108T173000
DTEND;TZID=America/Sao_Paulo:20240108T180000
DTSTAMP:20260425T173729
CREATED:20240109T122358Z
LAST-MODIFIED:20240109T122358Z
UID:32559-1704735000-1704736800@www.goiasfomento.com
SUMMARY:Lucas Fernandes: Despachos Internos.
DESCRIPTION:
URL:https://www.goiasfomento.com/agenda/lucas-fernandes-despachos-internos-211/
LOCATION:Gabinete da Diretoria Administrativa e Financeira – Agência de Fomento de Goiás.
CATEGORIES:Diretoria Administrativa e Financeira
END:VEVENT
BEGIN:VEVENT
DTSTART;TZID=America/Sao_Paulo:20240109T080000
DTEND;TZID=America/Sao_Paulo:20240109T120000
DTSTAMP:20260425T173729
CREATED:20240109T120050Z
LAST-MODIFIED:20240109T120050Z
UID:32549-1704787200-1704801600@www.goiasfomento.com
SUMMARY:Lucas Fernandes: Despachos Internos.
DESCRIPTION:
URL:https://www.goiasfomento.com/agenda/lucas-fernandes-despachos-internos-207/
LOCATION:Gabinete da Diretoria Administrativa e Financeira – Agência de Fomento de Goiás.
CATEGORIES:Diretoria Administrativa e Financeira
END:VEVENT
BEGIN:VEVENT
DTSTART;TZID=America/Sao_Paulo:20240109T140000
DTEND;TZID=America/Sao_Paulo:20240109T180000
DTSTAMP:20260425T173729
CREATED:20240109T120142Z
LAST-MODIFIED:20240109T120142Z
UID:32551-1704808800-1704823200@www.goiasfomento.com
SUMMARY:Lucas Fernandes: Despachos Internos.
DESCRIPTION:
URL:https://www.goiasfomento.com/agenda/lucas-fernandes-despachos-internos-208/
LOCATION:Gabinete da Diretoria Administrativa e Financeira – Agência de Fomento de Goiás.
CATEGORIES:Diretoria Administrativa e Financeira
END:VEVENT
BEGIN:VEVENT
DTSTART;TZID=America/Sao_Paulo:20240110T080000
DTEND;TZID=America/Sao_Paulo:20240110T120000
DTSTAMP:20260425T173729
CREATED:20240110T125921Z
LAST-MODIFIED:20240110T125921Z
UID:32609-1704873600-1704888000@www.goiasfomento.com
SUMMARY:Lucas Fernandes: Despachos Internos.
DESCRIPTION:
URL:https://www.goiasfomento.com/agenda/lucas-fernandes-despachos-internos-212/
LOCATION:Gabinete da Diretoria Administrativa e Financeira – Agência de Fomento de Goiás.
CATEGORIES:Diretoria Administrativa e Financeira
END:VEVENT
BEGIN:VEVENT
DTSTART;TZID=America/Sao_Paulo:20240110T140000
DTEND;TZID=America/Sao_Paulo:20240110T153000
DTSTAMP:20260425T173729
CREATED:20240110T132645Z
LAST-MODIFIED:20240110T132645Z
UID:32611-1704895200-1704900600@www.goiasfomento.com
SUMMARY:Lucas Fernandes: Reunião com Wellington Matos da Secretaria de Desenvolvimento Social (SEDES).
DESCRIPTION:
URL:https://www.goiasfomento.com/agenda/lucas-fernandes-reuniao-com-wellington-matos-da-secretaria-de-desenvolvimento-social-sedes/
LOCATION:Gabinete da Diretoria Administrativa e Financeira – Agência de Fomento de Goiás.
CATEGORIES:Diretoria Administrativa e Financeira
END:VEVENT
BEGIN:VEVENT
DTSTART;TZID=America/Sao_Paulo:20240110T153000
DTEND;TZID=America/Sao_Paulo:20240110T180000
DTSTAMP:20260425T173729
CREATED:20240110T133805Z
LAST-MODIFIED:20240110T133805Z
UID:32618-1704900600-1704909600@www.goiasfomento.com
SUMMARY:Lucas Fernandes: Despachos Internos.
DESCRIPTION:
URL:https://www.goiasfomento.com/agenda/lucas-fernandes-despachos-internos-213/
LOCATION:Gabinete da Diretoria Administrativa e Financeira – Agência de Fomento de Goiás.
CATEGORIES:Diretoria Administrativa e Financeira
END:VEVENT
BEGIN:VEVENT
DTSTART;TZID=America/Sao_Paulo:20240111T080000
DTEND;TZID=America/Sao_Paulo:20240111T120000
DTSTAMP:20260425T173729
CREATED:20240111T130554Z
LAST-MODIFIED:20240111T130554Z
UID:32645-1704960000-1704974400@www.goiasfomento.com
SUMMARY:Lucas Fernandes: Despachos Internos.
DESCRIPTION:
URL:https://www.goiasfomento.com/agenda/lucas-fernandes-despachos-internos-214/
LOCATION:Gabinete da Diretoria Administrativa e Financeira – Agência de Fomento de Goiás.
CATEGORIES:Diretoria Administrativa e Financeira
END:VEVENT
BEGIN:VEVENT
DTSTART;TZID=America/Sao_Paulo:20240111T140000
DTEND;TZID=America/Sao_Paulo:20240111T180000
DTSTAMP:20260425T173729
CREATED:20240111T130632Z
LAST-MODIFIED:20240111T130632Z
UID:32647-1704981600-1704996000@www.goiasfomento.com
SUMMARY:Lucas Fernandes: Despachos Internos.
DESCRIPTION:
URL:https://www.goiasfomento.com/agenda/lucas-fernandes-despachos-internos-215/
LOCATION:Gabinete da Diretoria Administrativa e Financeira – Agência de Fomento de Goiás.
CATEGORIES:Diretoria Administrativa e Financeira
END:VEVENT
BEGIN:VEVENT
DTSTART;TZID=America/Sao_Paulo:20240112T080000
DTEND;TZID=America/Sao_Paulo:20240112T120000
DTSTAMP:20260425T173729
CREATED:20240112T124832Z
LAST-MODIFIED:20240112T124832Z
UID:32661-1705046400-1705060800@www.goiasfomento.com
SUMMARY:Lucas Fernandes: Despachos Internos.
DESCRIPTION:
URL:https://www.goiasfomento.com/agenda/lucas-fernandes-despachos-internos-216/
LOCATION:Gabinete da Diretoria Administrativa e Financeira – Agência de Fomento de Goiás.
CATEGORIES:Diretoria Administrativa e Financeira
END:VEVENT
BEGIN:VEVENT
DTSTART;TZID=America/Sao_Paulo:20240112T140000
DTEND;TZID=America/Sao_Paulo:20240112T180000
DTSTAMP:20260425T173729
CREATED:20240112T124920Z
LAST-MODIFIED:20240112T124920Z
UID:32663-1705068000-1705082400@www.goiasfomento.com
SUMMARY:Lucas Fernandes: Despachos Internos.
DESCRIPTION:
URL:https://www.goiasfomento.com/agenda/lucas-fernandes-despachos-internos-217/
LOCATION:Gabinete da Diretoria Administrativa e Financeira – Agência de Fomento de Goiás.
CATEGORIES:Diretoria Administrativa e Financeira
END:VEVENT
BEGIN:VEVENT
DTSTART;TZID=America/Sao_Paulo:20240115T080000
DTEND;TZID=America/Sao_Paulo:20240115T120000
DTSTAMP:20260425T173729
CREATED:20240115T123339Z
LAST-MODIFIED:20240115T123339Z
UID:32675-1705305600-1705320000@www.goiasfomento.com
SUMMARY:Lucas Fernandes: Despachos Internos.
DESCRIPTION:
URL:https://www.goiasfomento.com/agenda/lucas-fernandes-despachos-internos-218/
LOCATION:Gabinete da Diretoria Administrativa e Financeira – Agência de Fomento de Goiás.
CATEGORIES:Diretoria Administrativa e Financeira
END:VEVENT
BEGIN:VEVENT
DTSTART;TZID=America/Sao_Paulo:20240115T140000
DTEND;TZID=America/Sao_Paulo:20240115T180000
DTSTAMP:20260425T173729
CREATED:20240115T123407Z
LAST-MODIFIED:20240115T123407Z
UID:32677-1705327200-1705341600@www.goiasfomento.com
SUMMARY:Lucas Fernandes: Despachos Internos.
DESCRIPTION:
URL:https://www.goiasfomento.com/agenda/lucas-fernandes-despachos-internos-219/
LOCATION:Gabinete da Diretoria Administrativa e Financeira – Agência de Fomento de Goiás.
CATEGORIES:Diretoria Administrativa e Financeira
END:VEVENT
BEGIN:VEVENT
DTSTART;TZID=America/Sao_Paulo:20240116T080000
DTEND;TZID=America/Sao_Paulo:20240116T120000
DTSTAMP:20260425T173729
CREATED:20240116T120359Z
LAST-MODIFIED:20240116T120359Z
UID:32687-1705392000-1705406400@www.goiasfomento.com
SUMMARY:Lucas Fernandes: Despachos Internos.
DESCRIPTION:
URL:https://www.goiasfomento.com/agenda/lucas-fernandes-despachos-internos-220/
LOCATION:Gabinete da Diretoria Administrativa e Financeira – Agência de Fomento de Goiás.
CATEGORIES:Diretoria Administrativa e Financeira
END:VEVENT
BEGIN:VEVENT
DTSTART;TZID=America/Sao_Paulo:20240116T140000
DTEND;TZID=America/Sao_Paulo:20240116T180000
DTSTAMP:20260425T173729
CREATED:20240116T120502Z
LAST-MODIFIED:20240116T120502Z
UID:32689-1705413600-1705428000@www.goiasfomento.com
SUMMARY:Lucas Fernandes: Despachos Internos.
DESCRIPTION:
URL:https://www.goiasfomento.com/agenda/lucas-fernandes-despachos-internos-221/
LOCATION:Gabinete da Diretoria Administrativa e Financeira – Agência de Fomento de Goiás.
CATEGORIES:Diretoria Administrativa e Financeira
END:VEVENT
BEGIN:VEVENT
DTSTART;TZID=America/Sao_Paulo:20240117T080000
DTEND;TZID=America/Sao_Paulo:20240117T100000
DTSTAMP:20260425T173729
CREATED:20240117T120514Z
LAST-MODIFIED:20240117T120514Z
UID:32708-1705478400-1705485600@www.goiasfomento.com
SUMMARY:Lucas Fernandes: Despachos Internos.
DESCRIPTION:
URL:https://www.goiasfomento.com/agenda/lucas-fernandes-despachos-internos-222/
LOCATION:Gabinete da Diretoria Administrativa e Financeira – Agência de Fomento de Goiás.
CATEGORIES:Diretoria Administrativa e Financeira
END:VEVENT
BEGIN:VEVENT
DTSTART;TZID=America/Sao_Paulo:20240117T100000
DTEND;TZID=America/Sao_Paulo:20240117T111500
DTSTAMP:20260425T173729
CREATED:20240117T123944Z
LAST-MODIFIED:20240117T124915Z
UID:32710-1705485600-1705490100@www.goiasfomento.com
SUMMARY:Lucas Fernandes: Reunião com o Presidente da Codego Francisco Junior e Membros da Associação das Indústrias de Cerâmica de Anápolis.
DESCRIPTION:
URL:https://www.goiasfomento.com/agenda/lucas-fernandes-reuniao-com-o-presidente-da-codego-francisco-junior-e-membros-da-associacao-de-ceramica-de-anapolis/
LOCATION:Gabinete da Diretoria Administrativa e Financeira – Agência de Fomento de Goiás.
CATEGORIES:Diretoria Administrativa e Financeira
END:VEVENT
BEGIN:VEVENT
DTSTART;TZID=America/Sao_Paulo:20240117T111500
DTEND;TZID=America/Sao_Paulo:20240117T120000
DTSTAMP:20260425T173729
CREATED:20240117T124115Z
LAST-MODIFIED:20240117T124115Z
UID:32712-1705490100-1705492800@www.goiasfomento.com
SUMMARY:Lucas Fernandes: Despachos Internos.
DESCRIPTION:
URL:https://www.goiasfomento.com/agenda/lucas-fernandes-despachos-internos-223/
LOCATION:Gabinete da Diretoria Administrativa e Financeira – Agência de Fomento de Goiás.
CATEGORIES:Diretoria Administrativa e Financeira
END:VEVENT
BEGIN:VEVENT
DTSTART;TZID=America/Sao_Paulo:20240117T140000
DTEND;TZID=America/Sao_Paulo:20240117T180000
DTSTAMP:20260425T173729
CREATED:20240117T124151Z
LAST-MODIFIED:20240117T124151Z
UID:32714-1705500000-1705514400@www.goiasfomento.com
SUMMARY:Lucas Fernandes: Despachos Internos.
DESCRIPTION:
URL:https://www.goiasfomento.com/agenda/lucas-fernandes-despachos-internos-224/
LOCATION:Gabinete da Diretoria Administrativa e Financeira – Agência de Fomento de Goiás.
CATEGORIES:Diretoria Administrativa e Financeira
END:VEVENT
END:VCALENDAR