BEGIN:VCALENDAR
VERSION:2.0
PRODID:-//GoiásFomento - Agência de Fomento - ECPv6.15.20//NONSGML v1.0//EN
CALSCALE:GREGORIAN
METHOD:PUBLISH
X-WR-CALNAME:GoiásFomento - Agência de Fomento
X-ORIGINAL-URL:https://www.goiasfomento.com
X-WR-CALDESC:Eventos para GoiásFomento - Agência de Fomento
REFRESH-INTERVAL;VALUE=DURATION:PT1H
X-Robots-Tag:noindex
X-PUBLISHED-TTL:PT1H
BEGIN:VTIMEZONE
TZID:America/Sao_Paulo
BEGIN:STANDARD
TZOFFSETFROM:-0300
TZOFFSETTO:-0300
TZNAME:-03
DTSTART:20220101T000000
END:STANDARD
END:VTIMEZONE
BEGIN:VEVENT
DTSTART;TZID=America/Sao_Paulo:20231201T080000
DTEND;TZID=America/Sao_Paulo:20231201T120000
DTSTAMP:20260425T191443
CREATED:20231204T123345Z
LAST-MODIFIED:20231204T123345Z
UID:32058-1701417600-1701432000@www.goiasfomento.com
SUMMARY:Lucas Fernandes: Despachos Internos.
DESCRIPTION:
URL:https://www.goiasfomento.com/agenda/lucas-fernandes-despachos-internos-162/
LOCATION:Gabinete da Diretoria Administrativa e Financeira – Agência de Fomento de Goiás.
CATEGORIES:Diretoria Administrativa e Financeira
END:VEVENT
BEGIN:VEVENT
DTSTART;TZID=America/Sao_Paulo:20231201T140000
DTEND;TZID=America/Sao_Paulo:20231201T180000
DTSTAMP:20260425T191443
CREATED:20231204T123417Z
LAST-MODIFIED:20231204T123417Z
UID:32060-1701439200-1701453600@www.goiasfomento.com
SUMMARY:Lucas Fernandes: Despachos Internos.
DESCRIPTION:
URL:https://www.goiasfomento.com/agenda/lucas-fernandes-despachos-internos-163/
LOCATION:Gabinete da Diretoria Administrativa e Financeira – Agência de Fomento de Goiás.
CATEGORIES:Diretoria Administrativa e Financeira
END:VEVENT
BEGIN:VEVENT
DTSTART;TZID=America/Sao_Paulo:20231204T080000
DTEND;TZID=America/Sao_Paulo:20231204T120000
DTSTAMP:20260425T191443
CREATED:20231204T123504Z
LAST-MODIFIED:20231204T123504Z
UID:32062-1701676800-1701691200@www.goiasfomento.com
SUMMARY:Lucas Fernandes: Despachos Internos.
DESCRIPTION:
URL:https://www.goiasfomento.com/agenda/lucas-fernandes-despachos-internos-164/
LOCATION:Gabinete da Diretoria Administrativa e Financeira – Agência de Fomento de Goiás.
CATEGORIES:Diretoria Administrativa e Financeira
END:VEVENT
BEGIN:VEVENT
DTSTART;TZID=America/Sao_Paulo:20231204T140000
DTEND;TZID=America/Sao_Paulo:20231204T180000
DTSTAMP:20260425T191443
CREATED:20231204T123532Z
LAST-MODIFIED:20231204T123532Z
UID:32064-1701698400-1701712800@www.goiasfomento.com
SUMMARY:Lucas Fernandes: Despachos Internos.
DESCRIPTION:
URL:https://www.goiasfomento.com/agenda/lucas-fernandes-despachos-internos-165/
LOCATION:Gabinete da Diretoria Administrativa e Financeira – Agência de Fomento de Goiás.
CATEGORIES:Diretoria Administrativa e Financeira
END:VEVENT
BEGIN:VEVENT
DTSTART;TZID=America/Sao_Paulo:20231205T080000
DTEND;TZID=America/Sao_Paulo:20231205T120000
DTSTAMP:20260425T191443
CREATED:20231205T140752Z
LAST-MODIFIED:20231205T140752Z
UID:32080-1701763200-1701777600@www.goiasfomento.com
SUMMARY:Lucas Fernandes: Despachos Internos.
DESCRIPTION:
URL:https://www.goiasfomento.com/agenda/lucas-fernandes-despachos-internos-166/
LOCATION:Gabinete da Diretoria Administrativa e Financeira – Agência de Fomento de Goiás.
CATEGORIES:Diretoria Administrativa e Financeira
END:VEVENT
BEGIN:VEVENT
DTSTART;TZID=America/Sao_Paulo:20231205T140000
DTEND;TZID=America/Sao_Paulo:20231205T180000
DTSTAMP:20260425T191443
CREATED:20231205T140821Z
LAST-MODIFIED:20231205T140821Z
UID:32082-1701784800-1701799200@www.goiasfomento.com
SUMMARY:Lucas Fernandes: Despachos Internos.
DESCRIPTION:
URL:https://www.goiasfomento.com/agenda/lucas-fernandes-despachos-internos-167/
LOCATION:Gabinete da Diretoria Administrativa e Financeira – Agência de Fomento de Goiás.
CATEGORIES:Diretoria Administrativa e Financeira
END:VEVENT
BEGIN:VEVENT
DTSTART;TZID=America/Sao_Paulo:20231206T080000
DTEND;TZID=America/Sao_Paulo:20231206T120000
DTSTAMP:20260425T191443
CREATED:20231205T194258Z
LAST-MODIFIED:20231205T194258Z
UID:32099-1701849600-1701864000@www.goiasfomento.com
SUMMARY:Lucas Fernandes: Despachos Internos.
DESCRIPTION:
URL:https://www.goiasfomento.com/agenda/lucas-fernandes-despachos-internos-168/
LOCATION:Gabinete da Diretoria Administrativa e Financeira – Agência de Fomento de Goiás.
CATEGORIES:Diretoria Administrativa e Financeira
END:VEVENT
BEGIN:VEVENT
DTSTART;TZID=America/Sao_Paulo:20231206T140000
DTEND;TZID=America/Sao_Paulo:20231206T180000
DTSTAMP:20260425T191443
CREATED:20231205T194122Z
LAST-MODIFIED:20231205T194838Z
UID:32097-1701871200-1701885600@www.goiasfomento.com
SUMMARY:Lucas Fernandes: Evento: Premiação Ranking do Programa de Compliance Público.
DESCRIPTION:
URL:https://www.goiasfomento.com/agenda/lucas-fernandes-evento-premiacao-ranking-do-programa-de-compliance-publico/
LOCATION:Tribunal regional do trabalho 18º região-AV. T1- Setor Bueno.
CATEGORIES:Diretoria Administrativa e Financeira
END:VEVENT
BEGIN:VEVENT
DTSTART;TZID=America/Sao_Paulo:20231207T080000
DTEND;TZID=America/Sao_Paulo:20231207T103000
DTSTAMP:20260425T191443
CREATED:20231206T193749Z
LAST-MODIFIED:20231206T200152Z
UID:32105-1701936000-1701945000@www.goiasfomento.com
SUMMARY:Lucas Fernandes: Prêmio Goiás Mais Transparente e Adesão de Goiás à OGP.
DESCRIPTION:
URL:https://www.goiasfomento.com/agenda/lucas-fernandespremio-goias-mais-transparente-e-adesao-de-goias-a-ogp/
LOCATION:Tribunal regional do trabalho 18º região-AV. T1- Setor Bueno.
CATEGORIES:Diretoria Administrativa e Financeira
END:VEVENT
BEGIN:VEVENT
DTSTART;TZID=America/Sao_Paulo:20231207T103000
DTEND;TZID=America/Sao_Paulo:20231207T120000
DTSTAMP:20260425T191443
CREATED:20231206T200837Z
LAST-MODIFIED:20231206T200837Z
UID:32114-1701945000-1701950400@www.goiasfomento.com
SUMMARY:Lucas Fernandes: despachos Internos.
DESCRIPTION:
URL:https://www.goiasfomento.com/agenda/lucas-fernandes-despachos-internos-170/
LOCATION:Gabinete da Diretoria Administrativa e Financeira – Agência de Fomento de Goiás.
CATEGORIES:Diretoria Administrativa e Financeira
END:VEVENT
BEGIN:VEVENT
DTSTART;TZID=America/Sao_Paulo:20231207T140000
DTEND;TZID=America/Sao_Paulo:20231207T180000
DTSTAMP:20260425T191443
CREATED:20231206T200400Z
LAST-MODIFIED:20231207T153447Z
UID:32112-1701957600-1701972000@www.goiasfomento.com
SUMMARY:Lucas Fernandes: Despachos Internos.
DESCRIPTION:
URL:https://www.goiasfomento.com/agenda/lucas-fernandes-despachos-internos-169/
LOCATION:Gabinete da Diretoria Administrativa e Financeira – Agência de Fomento de Goiás.
CATEGORIES:Diretoria Administrativa e Financeira
END:VEVENT
BEGIN:VEVENT
DTSTART;TZID=America/Sao_Paulo:20231208T080000
DTEND;TZID=America/Sao_Paulo:20231208T120000
DTSTAMP:20260425T191443
CREATED:20231207T173533Z
LAST-MODIFIED:20231207T173938Z
UID:32118-1702022400-1702036800@www.goiasfomento.com
SUMMARY:Lucas Fernandes: Despachos Internos.
DESCRIPTION:
URL:https://www.goiasfomento.com/agenda/lucas-fernandes-despachos-internos-172/
LOCATION:Gabinete da Diretoria Administrativa e Financeira – Agência de Fomento de Goiás.
CATEGORIES:Diretoria Administrativa e Financeira
END:VEVENT
BEGIN:VEVENT
DTSTART;TZID=America/Sao_Paulo:20231208T140000
DTEND;TZID=America/Sao_Paulo:20231208T180000
DTSTAMP:20260425T191443
CREATED:20231206T201116Z
LAST-MODIFIED:20231207T152930Z
UID:32116-1702044000-1702058400@www.goiasfomento.com
SUMMARY:Lucas Fernandes: despachos Internos.
DESCRIPTION:
URL:https://www.goiasfomento.com/agenda/lucas-fernandes-despachos-internos-171/
LOCATION:Gabinete da Diretoria Administrativa e Financeira – Agência de Fomento de Goiás.
CATEGORIES:Diretoria Administrativa e Financeira
END:VEVENT
BEGIN:VEVENT
DTSTART;TZID=America/Sao_Paulo:20231211T080000
DTEND;TZID=America/Sao_Paulo:20231211T120000
DTSTAMP:20260425T191443
CREATED:20231211T131826Z
LAST-MODIFIED:20231211T131826Z
UID:32139-1702281600-1702296000@www.goiasfomento.com
SUMMARY:Lucas Fernandes: Despachos Internos.
DESCRIPTION:
URL:https://www.goiasfomento.com/agenda/lucas-fernandes-despachos-internos-173/
LOCATION:Gabinete da Diretoria Administrativa e Financeira – Agência de Fomento de Goiás.
CATEGORIES:Diretoria Administrativa e Financeira
END:VEVENT
BEGIN:VEVENT
DTSTART;TZID=America/Sao_Paulo:20231211T140000
DTEND;TZID=America/Sao_Paulo:20231211T150000
DTSTAMP:20260425T191443
CREATED:20231211T170202Z
LAST-MODIFIED:20231211T170202Z
UID:32143-1702303200-1702306800@www.goiasfomento.com
SUMMARY:Lucas Fernandes: Reunião com subsecretário Central de Orçamento\, Gilberto Pompilio.
DESCRIPTION:
URL:https://www.goiasfomento.com/agenda/lucas-fernandes-reuniao-com-subsecretario-central-de-orcamento-gilberto-pompilio/
LOCATION:Secretaria da Economia.
CATEGORIES:Diretoria Administrativa e Financeira
END:VEVENT
BEGIN:VEVENT
DTSTART;TZID=America/Sao_Paulo:20231211T150000
DTEND;TZID=America/Sao_Paulo:20231211T180000
DTSTAMP:20260425T191443
CREATED:20231211T170358Z
LAST-MODIFIED:20231211T170358Z
UID:32146-1702306800-1702317600@www.goiasfomento.com
SUMMARY:Lucas Fernandes: Despachos Internos.
DESCRIPTION:
URL:https://www.goiasfomento.com/agenda/lucas-fernandes-despachos-internos-174/
LOCATION:Gabinete da Diretoria Administrativa e Financeira – Agência de Fomento de Goiás.
CATEGORIES:Diretoria Administrativa e Financeira
END:VEVENT
BEGIN:VEVENT
DTSTART;TZID=America/Sao_Paulo:20231212T080000
DTEND;TZID=America/Sao_Paulo:20231212T120000
DTSTAMP:20260425T191443
CREATED:20231212T180000Z
LAST-MODIFIED:20231212T180000Z
UID:32159-1702368000-1702382400@www.goiasfomento.com
SUMMARY:Lucas Fernandes: Despachos Internos.
DESCRIPTION:
URL:https://www.goiasfomento.com/agenda/lucas-fernandes-despachos-internos-175/
LOCATION:Gabinete da Diretoria Administrativa e Financeira – Agência de Fomento de Goiás.
CATEGORIES:Diretoria Administrativa e Financeira
END:VEVENT
BEGIN:VEVENT
DTSTART;TZID=America/Sao_Paulo:20231212T140000
DTEND;TZID=America/Sao_Paulo:20231212T180000
DTSTAMP:20260425T191443
CREATED:20231212T180043Z
LAST-MODIFIED:20231212T180043Z
UID:32161-1702389600-1702404000@www.goiasfomento.com
SUMMARY:Lucas Fernandes: Despachos Internos.
DESCRIPTION:
URL:https://www.goiasfomento.com/agenda/lucas-fernandes-despachos-internos-176/
LOCATION:Gabinete da Diretoria Administrativa e Financeira – Agência de Fomento de Goiás.
CATEGORIES:Diretoria Administrativa e Financeira
END:VEVENT
BEGIN:VEVENT
DTSTART;TZID=America/Sao_Paulo:20231213T080000
DTEND;TZID=America/Sao_Paulo:20231213T120000
DTSTAMP:20260425T191443
CREATED:20231213T130331Z
LAST-MODIFIED:20231213T130446Z
UID:32167-1702454400-1702468800@www.goiasfomento.com
SUMMARY:Lucas Fernandes: Despachos Internos.
DESCRIPTION:
URL:https://www.goiasfomento.com/agenda/lucas-fernandes-despachos-internos-177/
LOCATION:Gabinete da Diretoria Administrativa e Financeira – Agência de Fomento de Goiás.
CATEGORIES:Diretoria Administrativa e Financeira
END:VEVENT
BEGIN:VEVENT
DTSTART;TZID=America/Sao_Paulo:20231213T140000
DTEND;TZID=America/Sao_Paulo:20231213T180000
DTSTAMP:20260425T191443
CREATED:20231213T130416Z
LAST-MODIFIED:20231213T130416Z
UID:32169-1702476000-1702490400@www.goiasfomento.com
SUMMARY:Lucas Fernandes: Despachos Internos.
DESCRIPTION:
URL:https://www.goiasfomento.com/agenda/lucas-fernandes-despachos-internos-178/
LOCATION:Gabinete da Diretoria Administrativa e Financeira – Agência de Fomento de Goiás.
CATEGORIES:Diretoria Administrativa e Financeira
END:VEVENT
BEGIN:VEVENT
DTSTART;TZID=America/Sao_Paulo:20231214T080000
DTEND;TZID=America/Sao_Paulo:20231214T120000
DTSTAMP:20260425T191443
CREATED:20231214T174323Z
LAST-MODIFIED:20231214T174323Z
UID:32188-1702540800-1702555200@www.goiasfomento.com
SUMMARY:Lucas Fernandes: Despachos Internos.
DESCRIPTION:
URL:https://www.goiasfomento.com/agenda/lucas-fernandes-despachos-internos-179/
LOCATION:Gabinete da Diretoria Administrativa e Financeira – Agência de Fomento de Goiás.
CATEGORIES:Diretoria Administrativa e Financeira
END:VEVENT
BEGIN:VEVENT
DTSTART;TZID=America/Sao_Paulo:20231214T140000
DTEND;TZID=America/Sao_Paulo:20231214T180000
DTSTAMP:20260425T191443
CREATED:20231214T174402Z
LAST-MODIFIED:20231214T174402Z
UID:32190-1702562400-1702576800@www.goiasfomento.com
SUMMARY:Lucas Fernandes: Despachos Internos.
DESCRIPTION:
URL:https://www.goiasfomento.com/agenda/lucas-fernandes-despachos-internos-180/
LOCATION:Gabinete da Diretoria Administrativa e Financeira – Agência de Fomento de Goiás.
CATEGORIES:Diretoria Administrativa e Financeira
END:VEVENT
BEGIN:VEVENT
DTSTART;TZID=America/Sao_Paulo:20231215T080000
DTEND;TZID=America/Sao_Paulo:20231215T120000
DTSTAMP:20260425T191443
CREATED:20231215T180032Z
LAST-MODIFIED:20231215T180032Z
UID:32267-1702627200-1702641600@www.goiasfomento.com
SUMMARY:Lucas Fernandes: Despachos Internos.
DESCRIPTION:
URL:https://www.goiasfomento.com/agenda/lucas-fernandes-despachos-internos-181/
LOCATION:Gabinete da Diretoria Administrativa e Financeira – Agência de Fomento de Goiás.
CATEGORIES:Diretoria Administrativa e Financeira
END:VEVENT
BEGIN:VEVENT
DTSTART;TZID=America/Sao_Paulo:20231215T140000
DTEND;TZID=America/Sao_Paulo:20231215T180000
DTSTAMP:20260425T191443
CREATED:20231215T180109Z
LAST-MODIFIED:20231215T180109Z
UID:32269-1702648800-1702663200@www.goiasfomento.com
SUMMARY:Lucas Fernandes: Despachos Internos.
DESCRIPTION:
URL:https://www.goiasfomento.com/agenda/lucas-fernandes-despachos-internos-182/
LOCATION:Gabinete da Diretoria Administrativa e Financeira – Agência de Fomento de Goiás.
CATEGORIES:Diretoria Administrativa e Financeira
END:VEVENT
BEGIN:VEVENT
DTSTART;TZID=America/Sao_Paulo:20231218T080000
DTEND;TZID=America/Sao_Paulo:20231218T120000
DTSTAMP:20260425T191443
CREATED:20231218T144454Z
LAST-MODIFIED:20231218T144454Z
UID:32281-1702886400-1702900800@www.goiasfomento.com
SUMMARY:Lucas Fernandes: Despachos Internos.
DESCRIPTION:
URL:https://www.goiasfomento.com/agenda/lucas-fernandes-despachos-internos-183/
LOCATION:Gabinete da Diretoria Administrativa e Financeira – Agência de Fomento de Goiás.
CATEGORIES:Diretoria Administrativa e Financeira
END:VEVENT
BEGIN:VEVENT
DTSTART;TZID=America/Sao_Paulo:20231218T140000
DTEND;TZID=America/Sao_Paulo:20231218T180000
DTSTAMP:20260425T191443
CREATED:20231218T144538Z
LAST-MODIFIED:20231218T144538Z
UID:32283-1702908000-1702922400@www.goiasfomento.com
SUMMARY:Lucas Fernandes: Despachos Internos.
DESCRIPTION:
URL:https://www.goiasfomento.com/agenda/lucas-fernandes-despachos-internos-184/
LOCATION:Gabinete da Diretoria Administrativa e Financeira – Agência de Fomento de Goiás.
CATEGORIES:Diretoria Administrativa e Financeira
END:VEVENT
BEGIN:VEVENT
DTSTART;TZID=America/Sao_Paulo:20231219T080000
DTEND;TZID=America/Sao_Paulo:20231219T120000
DTSTAMP:20260425T191443
CREATED:20231219T184149Z
LAST-MODIFIED:20231219T184149Z
UID:32307-1702972800-1702987200@www.goiasfomento.com
SUMMARY:Lucas Fernandes: Despachos Internos.
DESCRIPTION:
URL:https://www.goiasfomento.com/agenda/lucas-fernandes-despachos-internos-185/
LOCATION:Gabinete da Diretoria Administrativa e Financeira – Agência de Fomento de Goiás.
CATEGORIES:Diretoria Administrativa e Financeira
END:VEVENT
BEGIN:VEVENT
DTSTART;TZID=America/Sao_Paulo:20231219T140000
DTEND;TZID=America/Sao_Paulo:20231219T180000
DTSTAMP:20260425T191443
CREATED:20231219T184223Z
LAST-MODIFIED:20231219T184223Z
UID:32309-1702994400-1703008800@www.goiasfomento.com
SUMMARY:Lucas Fernandes: Despachos Internos.
DESCRIPTION:
URL:https://www.goiasfomento.com/agenda/lucas-fernandes-despachos-internos-186/
LOCATION:Gabinete da Diretoria Administrativa e Financeira – Agência de Fomento de Goiás.
CATEGORIES:Diretoria Administrativa e Financeira
END:VEVENT
BEGIN:VEVENT
DTSTART;TZID=America/Sao_Paulo:20231220T080000
DTEND;TZID=America/Sao_Paulo:20231220T120000
DTSTAMP:20260425T191443
CREATED:20231220T123943Z
LAST-MODIFIED:20231220T123943Z
UID:32327-1703059200-1703073600@www.goiasfomento.com
SUMMARY:Lucas Fernandes: Despachos Internos.
DESCRIPTION:
URL:https://www.goiasfomento.com/agenda/lucas-fernandes-despachos-internos-187/
LOCATION:Gabinete da Diretoria Administrativa e Financeira – Agência de Fomento de Goiás.
CATEGORIES:Diretoria Administrativa e Financeira
END:VEVENT
BEGIN:VEVENT
DTSTART;TZID=America/Sao_Paulo:20231220T140000
DTEND;TZID=America/Sao_Paulo:20231220T180000
DTSTAMP:20260425T191443
CREATED:20231220T124121Z
LAST-MODIFIED:20231220T124121Z
UID:32330-1703080800-1703095200@www.goiasfomento.com
SUMMARY:Lucas Fernandes: Despachos Internos.
DESCRIPTION:
URL:https://www.goiasfomento.com/agenda/lucas-fernandes-despachos-internos-188/
LOCATION:Gabinete da Diretoria Administrativa e Financeira – Agência de Fomento de Goiás.
CATEGORIES:Diretoria Administrativa e Financeira
END:VEVENT
END:VCALENDAR