BEGIN:VCALENDAR
VERSION:2.0
PRODID:-//GoiásFomento - Agência de Fomento - ECPv6.15.20//NONSGML v1.0//EN
CALSCALE:GREGORIAN
METHOD:PUBLISH
X-ORIGINAL-URL:https://www.goiasfomento.com
X-WR-CALDESC:Eventos para GoiásFomento - Agência de Fomento
REFRESH-INTERVAL;VALUE=DURATION:PT1H
X-Robots-Tag:noindex
X-PUBLISHED-TTL:PT1H
BEGIN:VTIMEZONE
TZID:America/Sao_Paulo
BEGIN:STANDARD
TZOFFSETFROM:-0300
TZOFFSETTO:-0300
TZNAME:-03
DTSTART:20220101T000000
END:STANDARD
END:VTIMEZONE
BEGIN:VEVENT
DTSTART;TZID=America/Sao_Paulo:20231101T080000
DTEND;TZID=America/Sao_Paulo:20231101T120000
DTSTAMP:20260425T205723
CREATED:20231101T122042Z
LAST-MODIFIED:20231101T122042Z
UID:31637-1698825600-1698840000@www.goiasfomento.com
SUMMARY:Lucas Fernandes: Despachos Internos.
DESCRIPTION:
URL:https://www.goiasfomento.com/agenda/lucas-fernandes-despachos-internos-123/
LOCATION:Gabinete da Diretoria Administrativa e Financeira – Agência de Fomento de Goiás.
CATEGORIES:Diretoria Administrativa e Financeira
END:VEVENT
BEGIN:VEVENT
DTSTART;TZID=America/Sao_Paulo:20231101T140000
DTEND;TZID=America/Sao_Paulo:20231101T180000
DTSTAMP:20260425T205723
CREATED:20231101T122200Z
LAST-MODIFIED:20231101T122200Z
UID:31639-1698847200-1698861600@www.goiasfomento.com
SUMMARY:Lucas Fernandes: Despachos Internos.
DESCRIPTION:
URL:https://www.goiasfomento.com/agenda/lucas-fernandes-despachos-internos-124/
LOCATION:Gabinete da Diretoria Administrativa e Financeira – Agência de Fomento de Goiás.
CATEGORIES:Diretoria Administrativa e Financeira
END:VEVENT
BEGIN:VEVENT
DTSTART;VALUE=DATE:20231102
DTEND;VALUE=DATE:20231103
DTSTAMP:20260425T205723
CREATED:20231101T145149Z
LAST-MODIFIED:20231101T145149Z
UID:31657-1698883200-1698969599@www.goiasfomento.com
SUMMARY:Lucas Fernandes: Feriado Nascional.
DESCRIPTION:
URL:https://www.goiasfomento.com/agenda/lucas-fernandes-feriado-nascional/
CATEGORIES:Diretoria Administrativa e Financeira
END:VEVENT
BEGIN:VEVENT
DTSTART;TZID=America/Sao_Paulo:20231103T080000
DTEND;TZID=America/Sao_Paulo:20231103T170000
DTSTAMP:20260425T205723
CREATED:20231101T142419Z
LAST-MODIFIED:20231101T142419Z
UID:31653-1698998400-1699030800@www.goiasfomento.com
SUMMARY:Lucas Fernandes: Ponto Facultativo conforme DECRETO Nº 10.335\, DE 30 DE OUTUBRO DE 2023.
DESCRIPTION:
URL:https://www.goiasfomento.com/agenda/lucas-fernandes-ponto-facultativo-conforme-decreto-no-10-335-de-30-de-outubro-de-2023/
CATEGORIES:Diretoria Administrativa e Financeira
END:VEVENT
BEGIN:VEVENT
DTSTART;TZID=America/Sao_Paulo:20231106T080000
DTEND;TZID=America/Sao_Paulo:20231106T120000
DTSTAMP:20260425T205723
CREATED:20231106T183423Z
LAST-MODIFIED:20231106T183423Z
UID:31664-1699257600-1699272000@www.goiasfomento.com
SUMMARY:Lucas Fernandes: Despachos Internos.
DESCRIPTION:
URL:https://www.goiasfomento.com/agenda/lucas-fernandes-despachos-internos-125/
LOCATION:Gabinete da Diretoria Administrativa e Financeira – Agência de Fomento de Goiás.
CATEGORIES:Diretoria Administrativa e Financeira
END:VEVENT
BEGIN:VEVENT
DTSTART;TZID=America/Sao_Paulo:20231106T140000
DTEND;TZID=America/Sao_Paulo:20231106T180000
DTSTAMP:20260425T205723
CREATED:20231106T183517Z
LAST-MODIFIED:20231106T183517Z
UID:31666-1699279200-1699293600@www.goiasfomento.com
SUMMARY:Lucas Fernandes: Despachos Internos.
DESCRIPTION:
URL:https://www.goiasfomento.com/agenda/lucas-fernandes-despachos-internos-126/
LOCATION:Gabinete da Diretoria Administrativa e Financeira – Agência de Fomento de Goiás.
CATEGORIES:Diretoria Administrativa e Financeira
END:VEVENT
BEGIN:VEVENT
DTSTART;TZID=America/Sao_Paulo:20231107T080000
DTEND;TZID=America/Sao_Paulo:20231107T120000
DTSTAMP:20260425T205723
CREATED:20231107T132902Z
LAST-MODIFIED:20231107T132902Z
UID:31696-1699344000-1699358400@www.goiasfomento.com
SUMMARY:Lucas Fernandes: Despachos Internos.
DESCRIPTION:
URL:https://www.goiasfomento.com/agenda/lucas-fernandes-despachos-internos-127/
LOCATION:Gabinete da Diretoria Administrativa e Financeira – Agência de Fomento de Goiás.
CATEGORIES:Diretoria Administrativa e Financeira
END:VEVENT
BEGIN:VEVENT
DTSTART;TZID=America/Sao_Paulo:20231107T140000
DTEND;TZID=America/Sao_Paulo:20231107T180000
DTSTAMP:20260425T205723
CREATED:20231107T132933Z
LAST-MODIFIED:20231107T132933Z
UID:31698-1699365600-1699380000@www.goiasfomento.com
SUMMARY:Lucas Fernandes: Despachos Internos.
DESCRIPTION:
URL:https://www.goiasfomento.com/agenda/lucas-fernandes-despachos-internos-128/
LOCATION:Gabinete da Diretoria Administrativa e Financeira – Agência de Fomento de Goiás.
CATEGORIES:Diretoria Administrativa e Financeira
END:VEVENT
BEGIN:VEVENT
DTSTART;TZID=America/Sao_Paulo:20231108T080000
DTEND;TZID=America/Sao_Paulo:20231108T120000
DTSTAMP:20260425T205723
CREATED:20231108T135451Z
LAST-MODIFIED:20231108T135451Z
UID:31708-1699430400-1699444800@www.goiasfomento.com
SUMMARY:Lucas Fernandes: Despachos Internos.
DESCRIPTION:
URL:https://www.goiasfomento.com/agenda/lucas-fernandes-despachos-internos-129/
LOCATION:Gabinete da Diretoria Administrativa e Financeira – Agência de Fomento de Goiás.
CATEGORIES:Diretoria Administrativa e Financeira
END:VEVENT
BEGIN:VEVENT
DTSTART;TZID=America/Sao_Paulo:20231108T140000
DTEND;TZID=America/Sao_Paulo:20231108T180000
DTSTAMP:20260425T205723
CREATED:20231108T135521Z
LAST-MODIFIED:20231108T135521Z
UID:31710-1699452000-1699466400@www.goiasfomento.com
SUMMARY:Lucas Fernandes: Despachos Internos.
DESCRIPTION:
URL:https://www.goiasfomento.com/agenda/lucas-fernandes-despachos-internos-130/
LOCATION:Gabinete da Diretoria Administrativa e Financeira – Agência de Fomento de Goiás.
CATEGORIES:Diretoria Administrativa e Financeira
END:VEVENT
BEGIN:VEVENT
DTSTART;TZID=America/Sao_Paulo:20231109T080000
DTEND;TZID=America/Sao_Paulo:20231109T120000
DTSTAMP:20260425T205723
CREATED:20231109T115541Z
LAST-MODIFIED:20231109T115541Z
UID:31723-1699516800-1699531200@www.goiasfomento.com
SUMMARY:Lucas Fernandes: Despachos Internos.
DESCRIPTION:
URL:https://www.goiasfomento.com/agenda/lucas-fernandes-despachos-internos-131/
LOCATION:Gabinete da Diretoria Administrativa e Financeira – Agência de Fomento de Goiás.
CATEGORIES:Diretoria Administrativa e Financeira
END:VEVENT
BEGIN:VEVENT
DTSTART;TZID=America/Sao_Paulo:20231109T140000
DTEND;TZID=America/Sao_Paulo:20231109T180000
DTSTAMP:20260425T205723
CREATED:20231109T115615Z
LAST-MODIFIED:20231109T115615Z
UID:31725-1699538400-1699552800@www.goiasfomento.com
SUMMARY:Lucas Fernandes: Despachos Internos.
DESCRIPTION:
URL:https://www.goiasfomento.com/agenda/lucas-fernandes-despachos-internos-132/
LOCATION:Gabinete da Diretoria Administrativa e Financeira – Agência de Fomento de Goiás.
CATEGORIES:Diretoria Administrativa e Financeira
END:VEVENT
BEGIN:VEVENT
DTSTART;TZID=America/Sao_Paulo:20231110T080000
DTEND;TZID=America/Sao_Paulo:20231110T120000
DTSTAMP:20260425T205723
CREATED:20231110T132009Z
LAST-MODIFIED:20231110T132009Z
UID:31738-1699603200-1699617600@www.goiasfomento.com
SUMMARY:Lucas Fernandes: Despachos Internos.
DESCRIPTION:
URL:https://www.goiasfomento.com/agenda/lucas-fernandes-despachos-internos-133/
LOCATION:Gabinete da Diretoria Administrativa e Financeira – Agência de Fomento de Goiás.
CATEGORIES:Diretoria Administrativa e Financeira
END:VEVENT
BEGIN:VEVENT
DTSTART;TZID=America/Sao_Paulo:20231110T140000
DTEND;TZID=America/Sao_Paulo:20231110T180000
DTSTAMP:20260425T205723
CREATED:20231110T132048Z
LAST-MODIFIED:20231110T132048Z
UID:31740-1699624800-1699639200@www.goiasfomento.com
SUMMARY:Lucas Fernandes: Despachos Internos.
DESCRIPTION:
URL:https://www.goiasfomento.com/agenda/lucas-fernandes-despachos-internos-134/
LOCATION:Gabinete da Diretoria Administrativa e Financeira – Agência de Fomento de Goiás.
CATEGORIES:Diretoria Administrativa e Financeira
END:VEVENT
BEGIN:VEVENT
DTSTART;TZID=America/Sao_Paulo:20231113T080000
DTEND;TZID=America/Sao_Paulo:20231113T100000
DTSTAMP:20260425T205723
CREATED:20231113T132417Z
LAST-MODIFIED:20231113T132417Z
UID:31756-1699862400-1699869600@www.goiasfomento.com
SUMMARY:Lucas Fernandes: Despachos Internos.
DESCRIPTION:
URL:https://www.goiasfomento.com/agenda/lucas-fernandes-despachos-internos-135/
LOCATION:Gabinete da Diretoria Administrativa e Financeira – Agência de Fomento de Goiás.
CATEGORIES:Diretoria Administrativa e Financeira
END:VEVENT
BEGIN:VEVENT
DTSTART;TZID=America/Sao_Paulo:20231113T100000
DTEND;TZID=America/Sao_Paulo:20231113T103000
DTSTAMP:20260425T205723
CREATED:20231113T132815Z
LAST-MODIFIED:20231113T132815Z
UID:31758-1699869600-1699871400@www.goiasfomento.com
SUMMARY:Lucas Fernandes: Reunião Sobre o Convênio com o Sesc Goiás.
DESCRIPTION:
URL:https://www.goiasfomento.com/agenda/lucas-fernandes-reuniao-sobre-o-convenio-com-o-sesc-goias/
LOCATION:Auditorio da Goiásfomento
CATEGORIES:Diretoria Administrativa e Financeira
END:VEVENT
BEGIN:VEVENT
DTSTART;TZID=America/Sao_Paulo:20231113T103000
DTEND;TZID=America/Sao_Paulo:20231113T120000
DTSTAMP:20260425T205723
CREATED:20231113T133010Z
LAST-MODIFIED:20231113T133010Z
UID:31760-1699871400-1699876800@www.goiasfomento.com
SUMMARY:Lucas Fernandes: Despachos Internos.
DESCRIPTION:
URL:https://www.goiasfomento.com/agenda/lucas-fernandes-despachos-internos-136/
LOCATION:Gabinete da Diretoria Administrativa e Financeira – Agência de Fomento de Goiás.
CATEGORIES:Diretoria Administrativa e Financeira
END:VEVENT
BEGIN:VEVENT
DTSTART;TZID=America/Sao_Paulo:20231113T140000
DTEND;TZID=America/Sao_Paulo:20231113T180000
DTSTAMP:20260425T205723
CREATED:20231113T134112Z
LAST-MODIFIED:20231113T134112Z
UID:31762-1699884000-1699898400@www.goiasfomento.com
SUMMARY:Lucas Fernandes: Despachos Internos.
DESCRIPTION:
URL:https://www.goiasfomento.com/agenda/lucas-fernandes-despachos-internos-137/
LOCATION:Gabinete da Diretoria Administrativa e Financeira – Agência de Fomento de Goiás.
CATEGORIES:Diretoria Administrativa e Financeira
END:VEVENT
BEGIN:VEVENT
DTSTART;TZID=America/Sao_Paulo:20231114T080000
DTEND;TZID=America/Sao_Paulo:20231114T120000
DTSTAMP:20260425T205723
CREATED:20231114T123307Z
LAST-MODIFIED:20231114T123307Z
UID:31773-1699948800-1699963200@www.goiasfomento.com
SUMMARY:Lucas Fernandes: Despachos Internos.
DESCRIPTION:
URL:https://www.goiasfomento.com/agenda/lucas-fernandes-despachos-internos-138/
LOCATION:Gabinete da Diretoria Administrativa e Financeira – Agência de Fomento de Goiás.
CATEGORIES:Diretoria Administrativa e Financeira
END:VEVENT
BEGIN:VEVENT
DTSTART;TZID=America/Sao_Paulo:20231114T140000
DTEND;TZID=America/Sao_Paulo:20231114T180000
DTSTAMP:20260425T205723
CREATED:20231114T123338Z
LAST-MODIFIED:20231114T123338Z
UID:31775-1699970400-1699984800@www.goiasfomento.com
SUMMARY:Lucas Fernandes: Despachos Internos.
DESCRIPTION:
URL:https://www.goiasfomento.com/agenda/lucas-fernandes-despachos-internos-139/
LOCATION:Gabinete da Diretoria Administrativa e Financeira – Agência de Fomento de Goiás.
CATEGORIES:Diretoria Administrativa e Financeira
END:VEVENT
BEGIN:VEVENT
DTSTART;VALUE=DATE:20231115
DTEND;VALUE=DATE:20231116
DTSTAMP:20260425T205723
CREATED:20231116T192158Z
LAST-MODIFIED:20231116T192158Z
UID:31810-1700006400-1700092799@www.goiasfomento.com
SUMMARY:Lucas Fernandes: Feriado Nacional Proclamação da Republica.
DESCRIPTION:
URL:https://www.goiasfomento.com/agenda/lucas-fernandes-feriado-nacional-proclamacao-da-republica-2/
CATEGORIES:Diretoria Administrativa e Financeira
END:VEVENT
BEGIN:VEVENT
DTSTART;TZID=America/Sao_Paulo:20231116T080000
DTEND;TZID=America/Sao_Paulo:20231116T120000
DTSTAMP:20260425T205723
CREATED:20231116T193349Z
LAST-MODIFIED:20231116T193349Z
UID:31816-1700121600-1700136000@www.goiasfomento.com
SUMMARY:Lucas Fernandes: Despachos Internos.
DESCRIPTION:
URL:https://www.goiasfomento.com/agenda/lucas-fernandes-despachos-internos-140/
LOCATION:Gabinete da Diretoria Administrativa e Financeira – Agência de Fomento de Goiás.
CATEGORIES:Diretoria Administrativa e Financeira
END:VEVENT
BEGIN:VEVENT
DTSTART;TZID=America/Sao_Paulo:20231116T140000
DTEND;TZID=America/Sao_Paulo:20231116T180000
DTSTAMP:20260425T205723
CREATED:20231116T193440Z
LAST-MODIFIED:20231116T193440Z
UID:31818-1700143200-1700157600@www.goiasfomento.com
SUMMARY:Lucas Fernandes: Despachos Internos.
DESCRIPTION:
URL:https://www.goiasfomento.com/agenda/lucas-fernandes-despachos-internos-141/
LOCATION:Gabinete da Diretoria Administrativa e Financeira – Agência de Fomento de Goiás.
CATEGORIES:Diretoria Administrativa e Financeira
END:VEVENT
BEGIN:VEVENT
DTSTART;TZID=America/Sao_Paulo:20231117T080000
DTEND;TZID=America/Sao_Paulo:20231117T120000
DTSTAMP:20260425T205723
CREATED:20231117T121905Z
LAST-MODIFIED:20231117T121905Z
UID:31825-1700208000-1700222400@www.goiasfomento.com
SUMMARY:Lucas Fernandes: Despachos Internos.
DESCRIPTION:
URL:https://www.goiasfomento.com/agenda/lucas-fernandes-despachos-internos-142/
LOCATION:Gabinete da Diretoria Administrativa e Financeira – Agência de Fomento de Goiás.
CATEGORIES:Diretoria Administrativa e Financeira
END:VEVENT
BEGIN:VEVENT
DTSTART;TZID=America/Sao_Paulo:20231117T140000
DTEND;TZID=America/Sao_Paulo:20231117T180000
DTSTAMP:20260425T205723
CREATED:20231117T121943Z
LAST-MODIFIED:20231117T121943Z
UID:31827-1700229600-1700244000@www.goiasfomento.com
SUMMARY:Lucas Fernandes: Despachos Internos.
DESCRIPTION:
URL:https://www.goiasfomento.com/agenda/lucas-fernandes-despachos-internos-143/
LOCATION:Gabinete da Diretoria Administrativa e Financeira – Agência de Fomento de Goiás.
CATEGORIES:Diretoria Administrativa e Financeira
END:VEVENT
BEGIN:VEVENT
DTSTART;TZID=America/Sao_Paulo:20231120T080000
DTEND;TZID=America/Sao_Paulo:20231120T120000
DTSTAMP:20260425T205723
CREATED:20231120T124234Z
LAST-MODIFIED:20231120T124234Z
UID:31851-1700467200-1700481600@www.goiasfomento.com
SUMMARY:Lucas Fernandes: Despachos Internos.
DESCRIPTION:
URL:https://www.goiasfomento.com/agenda/lucas-fernandes-despachos-internos-144/
LOCATION:Gabinete da Diretoria Administrativa e Financeira – Agência de Fomento de Goiás.
CATEGORIES:Diretoria Administrativa e Financeira
END:VEVENT
BEGIN:VEVENT
DTSTART;TZID=America/Sao_Paulo:20231120T140000
DTEND;TZID=America/Sao_Paulo:20231120T180000
DTSTAMP:20260425T205723
CREATED:20231120T124355Z
LAST-MODIFIED:20231120T124355Z
UID:31853-1700488800-1700503200@www.goiasfomento.com
SUMMARY:Lucas Fernandes: Despachos Internos.
DESCRIPTION:
URL:https://www.goiasfomento.com/agenda/lucas-fernandes-despachos-internos-145/
LOCATION:Gabinete da Diretoria Administrativa e Financeira – Agência de Fomento de Goiás.
CATEGORIES:Diretoria Administrativa e Financeira
END:VEVENT
BEGIN:VEVENT
DTSTART;TZID=America/Sao_Paulo:20231121T080000
DTEND;TZID=America/Sao_Paulo:20231121T120000
DTSTAMP:20260425T205723
CREATED:20231121T144629Z
LAST-MODIFIED:20231121T144629Z
UID:31880-1700553600-1700568000@www.goiasfomento.com
SUMMARY:Lucas Fernandes: Despachos Internos.
DESCRIPTION:
URL:https://www.goiasfomento.com/agenda/lucas-fernandes-despachos-internos-146/
LOCATION:Gabinete da Diretoria Administrativa e Financeira – Agência de Fomento de Goiás.
CATEGORIES:Diretoria Administrativa e Financeira
END:VEVENT
BEGIN:VEVENT
DTSTART;TZID=America/Sao_Paulo:20231121T140000
DTEND;TZID=America/Sao_Paulo:20231121T180000
DTSTAMP:20260425T205723
CREATED:20231121T144707Z
LAST-MODIFIED:20231121T144707Z
UID:31882-1700575200-1700589600@www.goiasfomento.com
SUMMARY:Lucas Fernandes: Despachos Internos.
DESCRIPTION:
URL:https://www.goiasfomento.com/agenda/lucas-fernandes-despachos-internos-147/
LOCATION:Gabinete da Diretoria Administrativa e Financeira – Agência de Fomento de Goiás.
CATEGORIES:Diretoria Administrativa e Financeira
END:VEVENT
BEGIN:VEVENT
DTSTART;TZID=America/Sao_Paulo:20231122T080000
DTEND;TZID=America/Sao_Paulo:20231122T120000
DTSTAMP:20260425T205723
CREATED:20231122T135024Z
LAST-MODIFIED:20231122T135024Z
UID:31920-1700640000-1700654400@www.goiasfomento.com
SUMMARY:Lucas Fernandes: Despachos Internos.
DESCRIPTION:
URL:https://www.goiasfomento.com/agenda/lucas-fernandes-despachos-internos-148/
LOCATION:Gabinete da Diretoria Administrativa e Financeira – Agência de Fomento de Goiás.
CATEGORIES:Diretoria Administrativa e Financeira
END:VEVENT
END:VCALENDAR