BEGIN:VCALENDAR
VERSION:2.0
PRODID:-//GoiásFomento - Agência de Fomento - ECPv6.15.20//NONSGML v1.0//EN
CALSCALE:GREGORIAN
METHOD:PUBLISH
X-ORIGINAL-URL:https://www.goiasfomento.com
X-WR-CALDESC:Eventos para GoiásFomento - Agência de Fomento
REFRESH-INTERVAL;VALUE=DURATION:PT1H
X-Robots-Tag:noindex
X-PUBLISHED-TTL:PT1H
BEGIN:VTIMEZONE
TZID:America/Sao_Paulo
BEGIN:STANDARD
TZOFFSETFROM:-0300
TZOFFSETTO:-0300
TZNAME:-03
DTSTART:20250101T000000
END:STANDARD
END:VTIMEZONE
BEGIN:VEVENT
DTSTART;VALUE=DATE:20260420
DTEND;VALUE=DATE:20260421
DTSTAMP:20260423T201008
CREATED:20260413T133635Z
LAST-MODIFIED:20260413T133635Z
UID:49668-1776643200-1776729599@www.goiasfomento.com
SUMMARY:Philippe Alexandre Melo de Oliveira: Segundo Decreto nº 10.893\, de 07 de abril de 2026\, será facultativo o ponto no dia 20 de abril de 2026.
DESCRIPTION:
URL:https://www.goiasfomento.com/agenda/philippe-alexandre-melo-de-oliveira-segundo-decreto-no-10-893-de-07-de-abril-de-2026-sera-facultativo-o-ponto-no-dia-20-de-abril-de-2026-2/
CATEGORIES:Chefia de Gabinete
END:VEVENT
BEGIN:VEVENT
DTSTART;VALUE=DATE:20260421
DTEND;VALUE=DATE:20260422
DTSTAMP:20260423T201008
CREATED:20260413T133153Z
LAST-MODIFIED:20260413T133445Z
UID:49663-1776729600-1776815999@www.goiasfomento.com
SUMMARY:Philippe Alexandre Melo de Oliveira: Feriado Nacional – Dia de Tiradentes.
DESCRIPTION:
URL:https://www.goiasfomento.com/agenda/philippe-alexandre-melo-de-oliveira-segundo-decreto-no-10-893-de-07-de-abril-de-2026-sera-facultativo-o-ponto-no-dia-20-de-abril-de-2026/
CATEGORIES:Chefia de Gabinete
END:VEVENT
BEGIN:VEVENT
DTSTART;TZID=America/Sao_Paulo:20260422T080000
DTEND;TZID=America/Sao_Paulo:20260422T120000
DTSTAMP:20260423T201008
CREATED:20260423T120703Z
LAST-MODIFIED:20260423T120703Z
UID:49786-1776844800-1776859200@www.goiasfomento.com
SUMMARY:Philippe Alexandre Melo de Oliveira: Atendimentos e Despachos Internos.
DESCRIPTION:
URL:https://www.goiasfomento.com/agenda/philippe-alexandre-melo-de-oliveira-atendimentos-e-despachos-internos-62/
CATEGORIES:Chefia de Gabinete
END:VEVENT
BEGIN:VEVENT
DTSTART;TZID=America/Sao_Paulo:20260422T140000
DTEND;TZID=America/Sao_Paulo:20260422T180000
DTSTAMP:20260423T201008
CREATED:20260423T120724Z
LAST-MODIFIED:20260423T120748Z
UID:49788-1776866400-1776880800@www.goiasfomento.com
SUMMARY:Philippe Alexandre Melo de Oliveira: Atendimentos e Despachos Internos.
DESCRIPTION:
URL:https://www.goiasfomento.com/agenda/philippe-alexandre-melo-de-oliveira-atendimentos-e-despachos-internos-63/
CATEGORIES:Chefia de Gabinete
END:VEVENT
BEGIN:VEVENT
DTSTART;TZID=America/Sao_Paulo:20260423T080000
DTEND;TZID=America/Sao_Paulo:20260423T120000
DTSTAMP:20260423T201008
CREATED:20260423T120845Z
LAST-MODIFIED:20260423T120845Z
UID:49790-1776931200-1776945600@www.goiasfomento.com
SUMMARY:Philippe Alexandre Melo de Oliveira: Atendimentos e Despachos Internos.
DESCRIPTION:
URL:https://www.goiasfomento.com/agenda/philippe-alexandre-melo-de-oliveira-atendimentos-e-despachos-internos-64/
CATEGORIES:Chefia de Gabinete
END:VEVENT
BEGIN:VEVENT
DTSTART;TZID=America/Sao_Paulo:20260423T140000
DTEND;TZID=America/Sao_Paulo:20260423T180000
DTSTAMP:20260423T201008
CREATED:20260423T120918Z
LAST-MODIFIED:20260423T120918Z
UID:49792-1776952800-1776967200@www.goiasfomento.com
SUMMARY:Philippe Alexandre Melo de Oliveira: Atendimentos e Despachos Internos.
DESCRIPTION:
URL:https://www.goiasfomento.com/agenda/philippe-alexandre-melo-de-oliveira-atendimentos-e-despachos-internos-65/
CATEGORIES:Chefia de Gabinete
END:VEVENT
BEGIN:VEVENT
DTSTART;TZID=America/Sao_Paulo:20260424T080000
DTEND;TZID=America/Sao_Paulo:20260424T120000
DTSTAMP:20260423T201008
CREATED:20260423T121029Z
LAST-MODIFIED:20260423T121029Z
UID:49794-1777017600-1777032000@www.goiasfomento.com
SUMMARY:Philippe Alexandre Melo de Oliveira: Atendimentos e Despachos Internos.
DESCRIPTION:
URL:https://www.goiasfomento.com/agenda/philippe-alexandre-melo-de-oliveira-atendimentos-e-despachos-internos-66/
CATEGORIES:Chefia de Gabinete
END:VEVENT
BEGIN:VEVENT
DTSTART;TZID=America/Sao_Paulo:20260424T140000
DTEND;TZID=America/Sao_Paulo:20260424T180000
DTSTAMP:20260423T201008
CREATED:20260423T121057Z
LAST-MODIFIED:20260423T121057Z
UID:49796-1777039200-1777053600@www.goiasfomento.com
SUMMARY:Philippe Alexandre Melo de Oliveira: Atendimentos e Despachos Internos.
DESCRIPTION:
URL:https://www.goiasfomento.com/agenda/philippe-alexandre-melo-de-oliveira-atendimentos-e-despachos-internos-67/
CATEGORIES:Chefia de Gabinete
END:VEVENT
END:VCALENDAR