BEGIN:VCALENDAR
VERSION:2.0
PRODID:-//GoiásFomento - Agência de Fomento - ECPv6.15.20//NONSGML v1.0//EN
CALSCALE:GREGORIAN
METHOD:PUBLISH
X-WR-CALNAME:GoiásFomento - Agência de Fomento
X-ORIGINAL-URL:https://www.goiasfomento.com
X-WR-CALDESC:Eventos para GoiásFomento - Agência de Fomento
REFRESH-INTERVAL;VALUE=DURATION:PT1H
X-Robots-Tag:noindex
X-PUBLISHED-TTL:PT1H
BEGIN:VTIMEZONE
TZID:America/Sao_Paulo
BEGIN:STANDARD
TZOFFSETFROM:-0300
TZOFFSETTO:-0300
TZNAME:-03
DTSTART:20250101T000000
END:STANDARD
END:VTIMEZONE
BEGIN:VEVENT
DTSTART;TZID=America/Sao_Paulo:20260317T080000
DTEND;TZID=America/Sao_Paulo:20260317T120000
DTSTAMP:20260424T031325
CREATED:20260316T205039Z
LAST-MODIFIED:20260318T140129Z
UID:49262-1773734400-1773748800@www.goiasfomento.com
SUMMARY:Philippe Alexandre Melo de Oliveira: Evento - GoiásSocial - Goianira
DESCRIPTION:
URL:https://www.goiasfomento.com/agenda/philippe-alexandre-melo-de-oliveira-atendimentos-e-despachos-internos-20/
LOCATION:Goianira Goiás
CATEGORIES:Chefia de Gabinete
END:VEVENT
BEGIN:VEVENT
DTSTART;TZID=America/Sao_Paulo:20260317T140000
DTEND;TZID=America/Sao_Paulo:20260317T180000
DTSTAMP:20260424T031325
CREATED:20260316T205213Z
LAST-MODIFIED:20260316T205213Z
UID:49264-1773756000-1773770400@www.goiasfomento.com
SUMMARY:Philippe Alexandre Melo de Oliveira: Atendimentos e Despachos Internos.
DESCRIPTION:
URL:https://www.goiasfomento.com/agenda/philippe-alexandre-melo-de-oliveira-atendimentos-e-despachos-internos-21/
CATEGORIES:Chefia de Gabinete
END:VEVENT
END:VCALENDAR