BEGIN:VCALENDAR
VERSION:2.0
PRODID:-//GoiásFomento - Agência de Fomento - ECPv6.15.20//NONSGML v1.0//EN
CALSCALE:GREGORIAN
METHOD:PUBLISH
X-ORIGINAL-URL:https://www.goiasfomento.com
X-WR-CALDESC:Eventos para GoiásFomento - Agência de Fomento
REFRESH-INTERVAL;VALUE=DURATION:PT1H
X-Robots-Tag:noindex
X-PUBLISHED-TTL:PT1H
BEGIN:VTIMEZONE
TZID:America/Sao_Paulo
BEGIN:STANDARD
TZOFFSETFROM:-0300
TZOFFSETTO:-0300
TZNAME:-03
DTSTART:20250101T000000
END:STANDARD
END:VTIMEZONE
BEGIN:VEVENT
DTSTART;TZID=America/Sao_Paulo:20260220T080000
DTEND;TZID=America/Sao_Paulo:20260220T120000
DTSTAMP:20260424T044555
CREATED:20260223T131320Z
LAST-MODIFIED:20260223T131320Z
UID:48570-1771574400-1771588800@www.goiasfomento.com
SUMMARY:Fernando Dias dos Reis: Atendimentos e Despachos Internos.
DESCRIPTION:
URL:https://www.goiasfomento.com/agenda/fernando-dias-dos-reis-atendimentos-e-despachos-internos-35/
CATEGORIES:Chefia de Gabinete
END:VEVENT
BEGIN:VEVENT
DTSTART;TZID=America/Sao_Paulo:20260220T140000
DTEND;TZID=America/Sao_Paulo:20260220T180000
DTSTAMP:20260424T044555
CREATED:20260223T131550Z
LAST-MODIFIED:20260223T131550Z
UID:48575-1771596000-1771610400@www.goiasfomento.com
SUMMARY:Fernando Dias dos Reis: Atendimentos e Despachos Internos.
DESCRIPTION:
URL:https://www.goiasfomento.com/agenda/fernando-dias-dos-reis-atendimentos-e-despachos-internos-36/
CATEGORIES:Chefia de Gabinete
END:VEVENT
END:VCALENDAR