BEGIN:VCALENDAR
VERSION:2.0
PRODID:-//GoiásFomento - Agência de Fomento - ECPv6.15.20//NONSGML v1.0//EN
CALSCALE:GREGORIAN
METHOD:PUBLISH
X-WR-CALNAME:GoiásFomento - Agência de Fomento
X-ORIGINAL-URL:https://www.goiasfomento.com
X-WR-CALDESC:Eventos para GoiásFomento - Agência de Fomento
REFRESH-INTERVAL;VALUE=DURATION:PT1H
X-Robots-Tag:noindex
X-PUBLISHED-TTL:PT1H
BEGIN:VTIMEZONE
TZID:America/Sao_Paulo
BEGIN:STANDARD
TZOFFSETFROM:-0300
TZOFFSETTO:-0300
TZNAME:-03
DTSTART:20250101T000000
END:STANDARD
END:VTIMEZONE
BEGIN:VEVENT
DTSTART;TZID=America/Sao_Paulo:20260212T080000
DTEND;TZID=America/Sao_Paulo:20260212T120000
DTSTAMP:20260424T044550
CREATED:20260210T163126Z
LAST-MODIFIED:20260210T163126Z
UID:48430-1770883200-1770897600@www.goiasfomento.com
SUMMARY:Fernando Dias dos Reis: Atendimentos e Despachos Internos.
DESCRIPTION:
URL:https://www.goiasfomento.com/agenda/fernando-dias-dos-reis-atendimentos-e-despachos-internos-28/
CATEGORIES:Chefia de Gabinete
END:VEVENT
BEGIN:VEVENT
DTSTART;TZID=America/Sao_Paulo:20260212T140000
DTEND;TZID=America/Sao_Paulo:20260212T180000
DTSTAMP:20260424T044550
CREATED:20260210T163648Z
LAST-MODIFIED:20260210T163648Z
UID:48433-1770904800-1770919200@www.goiasfomento.com
SUMMARY:Fernando Dias dos Reis: Atendimentos e Despachos Internos.
DESCRIPTION:
URL:https://www.goiasfomento.com/agenda/fernando-dias-dos-reis-atendimentos-e-despachos-internos-29/
CATEGORIES:Chefia de Gabinete
END:VEVENT
END:VCALENDAR