BEGIN:VCALENDAR
VERSION:2.0
PRODID:-//GoiásFomento - Agência de Fomento - ECPv6.15.20//NONSGML v1.0//EN
CALSCALE:GREGORIAN
METHOD:PUBLISH
X-WR-CALNAME:GoiásFomento - Agência de Fomento
X-ORIGINAL-URL:https://www.goiasfomento.com
X-WR-CALDESC:Eventos para GoiásFomento - Agência de Fomento
REFRESH-INTERVAL;VALUE=DURATION:PT1H
X-Robots-Tag:noindex
X-PUBLISHED-TTL:PT1H
BEGIN:VTIMEZONE
TZID:America/Sao_Paulo
BEGIN:STANDARD
TZOFFSETFROM:-0300
TZOFFSETTO:-0300
TZNAME:-03
DTSTART:20240101T000000
END:STANDARD
END:VTIMEZONE
BEGIN:VEVENT
DTSTART;VALUE=DATE:20251120
DTEND;VALUE=DATE:20251121
DTSTAMP:20260424T093501
CREATED:20251107T142945Z
LAST-MODIFIED:20251107T142945Z
UID:46995-1763596800-1763683199@www.goiasfomento.com
SUMMARY:Rufino Veríssimo: Feriado Nacional – Dia da Consciência Negra.
DESCRIPTION:
URL:https://www.goiasfomento.com/agenda/rufino-verissimo-feriado-nacional-dia-da-consciencia-negra-2/
CATEGORIES:Chefia de Gabinete
END:VEVENT
END:VCALENDAR