BEGIN:VCALENDAR
VERSION:2.0
PRODID:-//GoiásFomento - Agência de Fomento - ECPv6.15.20//NONSGML v1.0//EN
CALSCALE:GREGORIAN
METHOD:PUBLISH
X-WR-CALNAME:GoiásFomento - Agência de Fomento
X-ORIGINAL-URL:https://www.goiasfomento.com
X-WR-CALDESC:Eventos para GoiásFomento - Agência de Fomento
REFRESH-INTERVAL;VALUE=DURATION:PT1H
X-Robots-Tag:noindex
X-PUBLISHED-TTL:PT1H
BEGIN:VTIMEZONE
TZID:America/Sao_Paulo
BEGIN:STANDARD
TZOFFSETFROM:-0300
TZOFFSETTO:-0300
TZNAME:-03
DTSTART:20240101T000000
END:STANDARD
END:VTIMEZONE
BEGIN:VEVENT
DTSTART;TZID=America/Sao_Paulo:20251001T080000
DTEND;TZID=America/Sao_Paulo:20251001T120000
DTSTAMP:20260424T105816
CREATED:20251002T142635Z
LAST-MODIFIED:20251002T142635Z
UID:46282-1759305600-1759320000@www.goiasfomento.com
SUMMARY:Rufino Veríssimo: Atendimentos e Despachos Internos.
DESCRIPTION:
URL:https://www.goiasfomento.com/agenda/rufino-verissimo-atendimentos-e-despachos-internos-112/
LOCATION:Agência de Fomento de Goiás.
CATEGORIES:Chefia de Gabinete
END:VEVENT
BEGIN:VEVENT
DTSTART;TZID=America/Sao_Paulo:20251001T140000
DTEND;TZID=America/Sao_Paulo:20251001T180000
DTSTAMP:20260424T105816
CREATED:20251002T143040Z
LAST-MODIFIED:20251002T143040Z
UID:46285-1759327200-1759341600@www.goiasfomento.com
SUMMARY:Rufino Veríssimo: Atendimentos e Despachos Internos.
DESCRIPTION:
URL:https://www.goiasfomento.com/agenda/rufino-verissimo-atendimentos-e-despachos-internos-113/
CATEGORIES:Chefia de Gabinete
END:VEVENT
END:VCALENDAR