BEGIN:VCALENDAR
VERSION:2.0
PRODID:-//GoiásFomento - Agência de Fomento - ECPv6.15.20//NONSGML v1.0//EN
CALSCALE:GREGORIAN
METHOD:PUBLISH
X-ORIGINAL-URL:https://www.goiasfomento.com
X-WR-CALDESC:Eventos para GoiásFomento - Agência de Fomento
REFRESH-INTERVAL;VALUE=DURATION:PT1H
X-Robots-Tag:noindex
X-PUBLISHED-TTL:PT1H
BEGIN:VTIMEZONE
TZID:America/Sao_Paulo
BEGIN:STANDARD
TZOFFSETFROM:-0300
TZOFFSETTO:-0300
TZNAME:-03
DTSTART:20240101T000000
END:STANDARD
END:VTIMEZONE
BEGIN:VEVENT
DTSTART;TZID=America/Sao_Paulo:20250603T080000
DTEND;TZID=America/Sao_Paulo:20250603T100000
DTSTAMP:20260424T171454
CREATED:20250602T202410Z
LAST-MODIFIED:20250603T131432Z
UID:43813-1748937600-1748944800@www.goiasfomento.com
SUMMARY:Vinícius Luz: Abertura da Semana do Crédito em Senador Canedo - Goiás.
DESCRIPTION:
URL:https://www.goiasfomento.com/agenda/vinicius-luz-abertura-da-semana-do-credito-em-senador-canedo-goias/
LOCATION:Paço Municipal de Senador Canedo – Goiás.
CATEGORIES:Chefia de Gabinete
END:VEVENT
BEGIN:VEVENT
DTSTART;TZID=America/Sao_Paulo:20250603T100000
DTEND;TZID=America/Sao_Paulo:20250603T120000
DTSTAMP:20260424T171454
CREATED:20250603T131541Z
LAST-MODIFIED:20250603T131541Z
UID:43840-1748944800-1748952000@www.goiasfomento.com
SUMMARY:Vinícius Luz: Apresentação do Novo Pacote do Goiás Social.
DESCRIPTION:
URL:https://www.goiasfomento.com/agenda/vinicius-luz-apresentacao-do-novo-pacote-do-goias-social/
LOCATION:ALEGO
CATEGORIES:Chefia de Gabinete
END:VEVENT
BEGIN:VEVENT
DTSTART;TZID=America/Sao_Paulo:20250603T140000
DTEND;TZID=America/Sao_Paulo:20250603T143000
DTSTAMP:20260424T171454
CREATED:20250603T140358Z
LAST-MODIFIED:20250603T140358Z
UID:43865-1748959200-1748961000@www.goiasfomento.com
SUMMARY:Vinícius Luz: Atendimentos e Despachos Interno.
DESCRIPTION:
URL:https://www.goiasfomento.com/agenda/vinicius-luz-atendimentos-e-despachos-interno-3/
LOCATION:Gabinete da Diretoria de Operações da GoiásFomento – Agência de Fomento de Goiás.
CATEGORIES:Chefia de Gabinete
END:VEVENT
BEGIN:VEVENT
DTSTART;TZID=America/Sao_Paulo:20250603T143000
DTEND;TZID=America/Sao_Paulo:20250603T170000
DTSTAMP:20260424T171454
CREATED:20250603T140306Z
LAST-MODIFIED:20250603T194600Z
UID:43862-1748961000-1748970000@www.goiasfomento.com
SUMMARY:Vinícius Luz: Reunião da Diretoria da GoiásFomento e a Empresa Inttegra.
DESCRIPTION:
URL:https://www.goiasfomento.com/agenda/vinicius-luz-reuniao-da-diretoria-da-goiasfomento-e-a-empresa-inttegra/
LOCATION:Gabinete da Diretoria de Operações da GoiásFomento – Agência de Fomento de Goiás.
CATEGORIES:Chefia de Gabinete
END:VEVENT
BEGIN:VEVENT
DTSTART;TZID=America/Sao_Paulo:20250603T170000
DTEND;TZID=America/Sao_Paulo:20250603T180000
DTSTAMP:20260424T171454
CREATED:20250603T141716Z
LAST-MODIFIED:20250603T194503Z
UID:43878-1748970000-1748973600@www.goiasfomento.com
SUMMARY:Vinícius Luz: Atendimentos e Despachos Interno.
DESCRIPTION:
URL:https://www.goiasfomento.com/agenda/vinicius-luz-atendimentos-e-despachos-interno-4/
LOCATION:Chefia de Gabinete – Agência de Fomento de Goiás
CATEGORIES:Chefia de Gabinete
END:VEVENT
END:VCALENDAR