BEGIN:VCALENDAR
VERSION:2.0
PRODID:-//GoiásFomento - Agência de Fomento - ECPv6.15.20//NONSGML v1.0//EN
CALSCALE:GREGORIAN
METHOD:PUBLISH
X-ORIGINAL-URL:https://www.goiasfomento.com
X-WR-CALDESC:Eventos para GoiásFomento - Agência de Fomento
REFRESH-INTERVAL;VALUE=DURATION:PT1H
X-Robots-Tag:noindex
X-PUBLISHED-TTL:PT1H
BEGIN:VTIMEZONE
TZID:America/Sao_Paulo
BEGIN:STANDARD
TZOFFSETFROM:-0300
TZOFFSETTO:-0300
TZNAME:-03
DTSTART:20240101T000000
END:STANDARD
END:VTIMEZONE
BEGIN:VEVENT
DTSTART;TZID=America/Sao_Paulo:20250402T080000
DTEND;TZID=America/Sao_Paulo:20250402T090000
DTSTAMP:20260424T213914
CREATED:20250402T130017Z
LAST-MODIFIED:20250402T130108Z
UID:41657-1743580800-1743584400@www.goiasfomento.com
SUMMARY:Deivison Costa: Despachos Internos.
DESCRIPTION:
URL:https://www.goiasfomento.com/agenda/deivison-costa-despachos-internos-31/
LOCATION:Chefia de Gabinete – Agência de Fomento de Goiás
CATEGORIES:Chefia de Gabinete
END:VEVENT
BEGIN:VEVENT
DTSTART;TZID=America/Sao_Paulo:20250402T090000
DTEND;TZID=America/Sao_Paulo:20250402T093000
DTSTAMP:20260424T213914
CREATED:20250402T125939Z
LAST-MODIFIED:20250402T125939Z
UID:41655-1743584400-1743586200@www.goiasfomento.com
SUMMARY:Deivison Costa: Reunião com Rufino Veríssimo – Diretor de Operações e Diretor-Presidente em Substiuição.
DESCRIPTION:
URL:https://www.goiasfomento.com/agenda/deivison-costa-reuniao-com-rufino-verissimo-diretor-de-operacoes-e-diretor-presidente-em-substiuicao-3/
LOCATION:Gabinete da Diretoria de Operações da GoiásFomento – Agência de Fomento de Goiás.
CATEGORIES:Chefia de Gabinete
END:VEVENT
BEGIN:VEVENT
DTSTART;TZID=America/Sao_Paulo:20250402T093000
DTEND;TZID=America/Sao_Paulo:20250402T120000
DTSTAMP:20260424T213914
CREATED:20250402T130041Z
LAST-MODIFIED:20250402T130041Z
UID:41659-1743586200-1743595200@www.goiasfomento.com
SUMMARY:Deivison Costa: Despachos Internos.
DESCRIPTION:
URL:https://www.goiasfomento.com/agenda/deivison-costa-despachos-internos-32/
LOCATION:Chefia de Gabinete – Agência de Fomento de Goiás
CATEGORIES:Chefia de Gabinete
END:VEVENT
BEGIN:VEVENT
DTSTART;TZID=America/Sao_Paulo:20250402T140000
DTEND;TZID=America/Sao_Paulo:20250402T180000
DTSTAMP:20260424T213914
CREATED:20250402T130130Z
LAST-MODIFIED:20250402T130130Z
UID:41661-1743602400-1743616800@www.goiasfomento.com
SUMMARY:Deivison Costa: Despachos Internos.
DESCRIPTION:
URL:https://www.goiasfomento.com/agenda/deivison-costa-despachos-internos-33/
LOCATION:Chefia de Gabinete – Agência de Fomento de Goiás
CATEGORIES:Chefia de Gabinete
END:VEVENT
END:VCALENDAR