BEGIN:VCALENDAR
VERSION:2.0
PRODID:-//GoiásFomento - Agência de Fomento - ECPv6.15.20//NONSGML v1.0//EN
CALSCALE:GREGORIAN
METHOD:PUBLISH
X-ORIGINAL-URL:https://www.goiasfomento.com
X-WR-CALDESC:Eventos para GoiásFomento - Agência de Fomento
REFRESH-INTERVAL;VALUE=DURATION:PT1H
X-Robots-Tag:noindex
X-PUBLISHED-TTL:PT1H
BEGIN:VTIMEZONE
TZID:America/Sao_Paulo
BEGIN:STANDARD
TZOFFSETFROM:-0300
TZOFFSETTO:-0300
TZNAME:-03
DTSTART:20250101T000000
END:STANDARD
END:VTIMEZONE
BEGIN:VEVENT
DTSTART;TZID=America/Sao_Paulo:20260415T080000
DTEND;TZID=America/Sao_Paulo:20260415T090000
DTSTAMP:20260423T200141
CREATED:20260422T113721Z
LAST-MODIFIED:20260422T113721Z
UID:49765-1776240000-1776243600@www.goiasfomento.com
SUMMARY:Vinícius Luz: Atendimentos e Despachos Internos.
DESCRIPTION:
URL:https://www.goiasfomento.com/agenda/vinicius-luz-atendimentos-e-despachos-internos-347/
LOCATION:Gabinete da Diretoria de Operações da GoiásFomento – Agência de Fomento de Goiás.
CATEGORIES:Diretoria de Operações
END:VEVENT
BEGIN:VEVENT
DTSTART;TZID=America/Sao_Paulo:20260415T080000
DTEND;TZID=America/Sao_Paulo:20260415T100000
DTSTAMP:20260423T200141
CREATED:20260415T152303Z
LAST-MODIFIED:20260415T152303Z
UID:49740-1776240000-1776247200@www.goiasfomento.com
SUMMARY:Vinícius Luz: Atendimentos e Despachos Internos.
DESCRIPTION:
URL:https://www.goiasfomento.com/agenda/vinicius-luz-atendimentos-e-despachos-internos-342/
LOCATION:Gabinete da Diretoria de Operações da GoiásFomento – Agência de Fomento de Goiás.
CATEGORIES:Diretoria de Operações
END:VEVENT
BEGIN:VEVENT
DTSTART;TZID=America/Sao_Paulo:20260415T080000
DTEND;TZID=America/Sao_Paulo:20260415T120000
DTSTAMP:20260423T200141
CREATED:20260414T114527Z
LAST-MODIFIED:20260414T114527Z
UID:49698-1776240000-1776254400@www.goiasfomento.com
SUMMARY:Philippe Alexandre Melo de Oliveira: Atendimentos e Despachos Internos.
DESCRIPTION:
URL:https://www.goiasfomento.com/agenda/philippe-alexandre-melo-de-oliveira-atendimentos-e-despachos-internos-56/
CATEGORIES:Chefia de Gabinete
END:VEVENT
BEGIN:VEVENT
DTSTART;TZID=America/Sao_Paulo:20260415T080000
DTEND;TZID=America/Sao_Paulo:20260415T120000
DTSTAMP:20260423T200141
CREATED:20260415T150526Z
LAST-MODIFIED:20260415T150538Z
UID:49736-1776240000-1776254400@www.goiasfomento.com
SUMMARY:Lara Garcia: Despachos Internos e Administrativos.
DESCRIPTION:
URL:https://www.goiasfomento.com/agenda/lara-garcia-despachos-internos-e-administrativos-243/
LOCATION:Gabinete da Diretoria Administrativa e Financeira – Agência de Fomento de Goiás.
CATEGORIES:Diretoria Administrativa e Financeira
END:VEVENT
BEGIN:VEVENT
DTSTART;TZID=America/Sao_Paulo:20260415T080000
DTEND;TZID=America/Sao_Paulo:20260415T120000
DTSTAMP:20260423T200141
CREATED:20260415T194649Z
LAST-MODIFIED:20260415T194649Z
UID:49748-1776240000-1776254400@www.goiasfomento.com
SUMMARY:Rivael Aguiar Pereira: Atendimentos e Despachos Internos
DESCRIPTION:
URL:https://www.goiasfomento.com/agenda/rivael-aguiar-pereira-atendimentos-e-despachos-internos-349/
CATEGORIES:Presidência
END:VEVENT
BEGIN:VEVENT
DTSTART;TZID=America/Sao_Paulo:20260415T100000
DTEND;TZID=America/Sao_Paulo:20260415T103000
DTSTAMP:20260423T200141
CREATED:20260415T153332Z
LAST-MODIFIED:20260415T155147Z
UID:49746-1776247200-1776249000@www.goiasfomento.com
SUMMARY:Vinícius Luz: Reunião da GoiásFomento\, representantes de Piranhas-GO e Mário Júnior\, assessor do Deputado Adriano do Baldy.
DESCRIPTION:
URL:https://www.goiasfomento.com/agenda/vinicius-luz-reuniao-da-goiasfomento-representantes-de-piranhas-go-e-mario-junior-assessor-do-deputado-adriano-do-baldy/
LOCATION:Agência de Fomento de Goiás
CATEGORIES:Diretoria de Operações
END:VEVENT
BEGIN:VEVENT
DTSTART;TZID=America/Sao_Paulo:20260415T103000
DTEND;TZID=America/Sao_Paulo:20260415T120000
DTSTAMP:20260423T200141
CREATED:20260415T152333Z
LAST-MODIFIED:20260415T152333Z
UID:49742-1776249000-1776254400@www.goiasfomento.com
SUMMARY:Vinícius Luz: Atendimentos e Despachos Internos.
DESCRIPTION:
URL:https://www.goiasfomento.com/agenda/vinicius-luz-atendimentos-e-despachos-internos-343/
LOCATION:Gabinete da Diretoria de Operações da GoiásFomento – Agência de Fomento de Goiás.
CATEGORIES:Diretoria de Operações
END:VEVENT
BEGIN:VEVENT
DTSTART;TZID=America/Sao_Paulo:20260415T140000
DTEND;TZID=America/Sao_Paulo:20260415T180000
DTSTAMP:20260423T200141
CREATED:20260414T114549Z
LAST-MODIFIED:20260414T114549Z
UID:49700-1776261600-1776276000@www.goiasfomento.com
SUMMARY:Philippe Alexandre Melo de Oliveira: Atendimentos e Despachos Internos.
DESCRIPTION:
URL:https://www.goiasfomento.com/agenda/philippe-alexandre-melo-de-oliveira-atendimentos-e-despachos-internos-57/
CATEGORIES:Chefia de Gabinete
END:VEVENT
BEGIN:VEVENT
DTSTART;TZID=America/Sao_Paulo:20260415T140000
DTEND;TZID=America/Sao_Paulo:20260415T180000
DTSTAMP:20260423T200141
CREATED:20260415T150603Z
LAST-MODIFIED:20260415T150603Z
UID:49738-1776261600-1776276000@www.goiasfomento.com
SUMMARY:Lara Garcia: Despachos Internos e Administrativos.
DESCRIPTION:
URL:https://www.goiasfomento.com/agenda/lara-garcia-despachos-internos-e-administrativos-244/
LOCATION:Gabinete da Diretoria Administrativa e Financeira – Agência de Fomento de Goiás.
CATEGORIES:Diretoria Administrativa e Financeira
END:VEVENT
BEGIN:VEVENT
DTSTART;TZID=America/Sao_Paulo:20260415T140000
DTEND;TZID=America/Sao_Paulo:20260415T180000
DTSTAMP:20260423T200141
CREATED:20260415T152358Z
LAST-MODIFIED:20260415T152358Z
UID:49744-1776261600-1776276000@www.goiasfomento.com
SUMMARY:Vinícius Luz: Atendimentos e Despachos Internos.
DESCRIPTION:
URL:https://www.goiasfomento.com/agenda/vinicius-luz-atendimentos-e-despachos-internos-344/
LOCATION:Gabinete da Diretoria de Operações da GoiásFomento – Agência de Fomento de Goiás.
CATEGORIES:Diretoria de Operações
END:VEVENT
BEGIN:VEVENT
DTSTART;TZID=America/Sao_Paulo:20260415T140000
DTEND;TZID=America/Sao_Paulo:20260415T180000
DTSTAMP:20260423T200141
CREATED:20260415T194725Z
LAST-MODIFIED:20260415T194725Z
UID:49750-1776261600-1776276000@www.goiasfomento.com
SUMMARY:Rivael Aguiar Pereira: Atendimentos e Despachos Internos
DESCRIPTION:
URL:https://www.goiasfomento.com/agenda/rivael-aguiar-pereira-atendimentos-e-despachos-internos-350/
CATEGORIES:Presidência
END:VEVENT
END:VCALENDAR