BEGIN:VCALENDAR
VERSION:2.0
PRODID:-//GoiásFomento - Agência de Fomento - ECPv6.15.20//NONSGML v1.0//EN
CALSCALE:GREGORIAN
METHOD:PUBLISH
X-WR-CALNAME:GoiásFomento - Agência de Fomento
X-ORIGINAL-URL:https://www.goiasfomento.com
X-WR-CALDESC:Eventos para GoiásFomento - Agência de Fomento
REFRESH-INTERVAL;VALUE=DURATION:PT1H
X-Robots-Tag:noindex
X-PUBLISHED-TTL:PT1H
BEGIN:VTIMEZONE
TZID:America/Sao_Paulo
BEGIN:STANDARD
TZOFFSETFROM:-0300
TZOFFSETTO:-0300
TZNAME:-03
DTSTART:20250101T000000
END:STANDARD
END:VTIMEZONE
BEGIN:VEVENT
DTSTART;TZID=America/Sao_Paulo:20260408T080000
DTEND;TZID=America/Sao_Paulo:20260408T120000
DTSTAMP:20260423T195927
CREATED:20260409T132916Z
LAST-MODIFIED:20260409T132916Z
UID:49574-1775635200-1775649600@www.goiasfomento.com
SUMMARY:Vinícius Luz: Tecnoshow Comigo – Rio Verde/GO.
DESCRIPTION:
URL:https://www.goiasfomento.com/agenda/vinicius-luz-tecnoshow-comigo-rio-verde-go-2/
LOCATION:Rio Verde – GO.
CATEGORIES:Diretoria de Operações
END:VEVENT
BEGIN:VEVENT
DTSTART;TZID=America/Sao_Paulo:20260408T080000
DTEND;TZID=America/Sao_Paulo:20260408T120000
DTSTAMP:20260423T195927
CREATED:20260409T133048Z
LAST-MODIFIED:20260409T133048Z
UID:49576-1775635200-1775649600@www.goiasfomento.com
SUMMARY:Lara Garcia: Despachos Internos e Administrativos.
DESCRIPTION:
URL:https://www.goiasfomento.com/agenda/lara-garcia-despachos-internos-e-administrativos-232/
LOCATION:Gabinete da Diretoria Administrativa e Financeira – Agência de Fomento de Goiás.
CATEGORIES:Diretoria Administrativa e Financeira
END:VEVENT
BEGIN:VEVENT
DTSTART;TZID=America/Sao_Paulo:20260408T080000
DTEND;TZID=America/Sao_Paulo:20260408T120000
DTSTAMP:20260423T195927
CREATED:20260410T134637Z
LAST-MODIFIED:20260410T134637Z
UID:49601-1775635200-1775649600@www.goiasfomento.com
SUMMARY:Philippe Alexandre Melo de Oliveira: Atendimentos e Despachos Internos.
DESCRIPTION:
URL:https://www.goiasfomento.com/agenda/philippe-alexandre-melo-de-oliveira-atendimentos-e-despachos-internos-46/
CATEGORIES:Chefia de Gabinete
END:VEVENT
BEGIN:VEVENT
DTSTART;TZID=America/Sao_Paulo:20260408T080000
DTEND;TZID=America/Sao_Paulo:20260408T120000
DTSTAMP:20260423T195927
CREATED:20260410T140106Z
LAST-MODIFIED:20260410T140106Z
UID:49618-1775635200-1775649600@www.goiasfomento.com
SUMMARY:Rivael Aguiar Pereira: Atendimentos e Despachos Internos
DESCRIPTION:
URL:https://www.goiasfomento.com/agenda/rivael-aguiar-pereira-atendimentos-e-despachos-internos-340/
CATEGORIES:Presidência
END:VEVENT
BEGIN:VEVENT
DTSTART;TZID=America/Sao_Paulo:20260408T140000
DTEND;TZID=America/Sao_Paulo:20260408T180000
DTSTAMP:20260423T195927
CREATED:20260410T134656Z
LAST-MODIFIED:20260410T134656Z
UID:49603-1775656800-1775671200@www.goiasfomento.com
SUMMARY:Philippe Alexandre Melo de Oliveira: Atendimentos e Despachos Internos.
DESCRIPTION:
URL:https://www.goiasfomento.com/agenda/philippe-alexandre-melo-de-oliveira-atendimentos-e-despachos-internos-47/
CATEGORIES:Chefia de Gabinete
END:VEVENT
BEGIN:VEVENT
DTSTART;TZID=America/Sao_Paulo:20260408T140000
DTEND;TZID=America/Sao_Paulo:20260408T190000
DTSTAMP:20260423T195927
CREATED:20260410T140239Z
LAST-MODIFIED:20260410T140251Z
UID:49620-1775656800-1775674800@www.goiasfomento.com
SUMMARY:Rivael Aguiar Pereira: Conecta GoiasFomento 2026 no SEBRAE
DESCRIPTION:O encontro será um momento importante de alinhamento institucional\, no qual os diretores apresentarão as principais novidades\, as ações em andamento\, os planos estratégicos e as diretrizes da GoiásFomento para o próximo período.\nSerá também o momento de darmos as boas-vindas aos novos servidores aprovados no concurso de 2025.
URL:https://www.goiasfomento.com/agenda/rivael-aguiar-pereira-conecta-goiasfomento-2026-no-sebrae/
CATEGORIES:Presidência
END:VEVENT
BEGIN:VEVENT
DTSTART;TZID=America/Sao_Paulo:20260408T140000
DTEND;TZID=America/Sao_Paulo:20260408T200000
DTSTAMP:20260423T195927
CREATED:20260406T141406Z
LAST-MODIFIED:20260406T141406Z
UID:49553-1775656800-1775678400@www.goiasfomento.com
SUMMARY:Lara Garcia: GoiásFomento Conecta 2026.
DESCRIPTION:
URL:https://www.goiasfomento.com/agenda/lara-garcia-goiasfomento-conecta-2026/
LOCATION:Sebrae  – Avenida T-3\, nº 1000\, Setor Bueno.
CATEGORIES:Diretoria Administrativa e Financeira
END:VEVENT
BEGIN:VEVENT
DTSTART;TZID=America/Sao_Paulo:20260408T140000
DTEND;TZID=America/Sao_Paulo:20260408T200000
DTSTAMP:20260423T195927
CREATED:20260406T141607Z
LAST-MODIFIED:20260406T142629Z
UID:49556-1775656800-1775678400@www.goiasfomento.com
SUMMARY:Vinícius Luz: GoiásFomento Conecta 2026.
DESCRIPTION:
URL:https://www.goiasfomento.com/agenda/vinicius-luz-goiasfomento-conecta-2026/
LOCATION:Sebrae  – Avenida T-3\, nº 1000\, Setor Bueno.
CATEGORIES:Diretoria de Operações
END:VEVENT
END:VCALENDAR