BEGIN:VCALENDAR
VERSION:2.0
PRODID:-//GoiásFomento - Agência de Fomento - ECPv6.15.20//NONSGML v1.0//EN
CALSCALE:GREGORIAN
METHOD:PUBLISH
X-ORIGINAL-URL:https://www.goiasfomento.com
X-WR-CALDESC:Eventos para GoiásFomento - Agência de Fomento
REFRESH-INTERVAL;VALUE=DURATION:PT1H
X-Robots-Tag:noindex
X-PUBLISHED-TTL:PT1H
BEGIN:VTIMEZONE
TZID:America/Sao_Paulo
BEGIN:STANDARD
TZOFFSETFROM:-0300
TZOFFSETTO:-0300
TZNAME:-03
DTSTART:20240101T000000
END:STANDARD
END:VTIMEZONE
BEGIN:VEVENT
DTSTART;TZID=America/Sao_Paulo:20251210T080000
DTEND;TZID=America/Sao_Paulo:20251210T120000
DTSTAMP:20260426T011456
CREATED:20251208T135831Z
LAST-MODIFIED:20251208T135900Z
UID:47469-1765353600-1765368000@www.goiasfomento.com
SUMMARY:Rivael Aguiar Pereira: Premiação do Programa de Compliance Público Estadual do Governo de Goiás 2025 (PCP)\, do Programa construindo juntos e do programa embaixadores da cidadania
DESCRIPTION:
URL:https://www.goiasfomento.com/agenda/rivael-aguiar-pereira-premiacao-do-programa-de-compliance-publico-estadual-do-governo-de-goias-2025-pcp-do-programa-construindo-juntos-e-do-programa-embaixadores-da-cidadania/
LOCATION:K HOTEL – Av. Dep. Jamel Cecílio\, 2550
CATEGORIES:Presidência
END:VEVENT
BEGIN:VEVENT
DTSTART;TZID=America/Sao_Paulo:20251210T080000
DTEND;TZID=America/Sao_Paulo:20251210T120000
DTSTAMP:20260426T011456
CREATED:20251208T141600Z
LAST-MODIFIED:20251208T141600Z
UID:47482-1765353600-1765368000@www.goiasfomento.com
SUMMARY:Rufino Veríssimo: Atendimentos e Despachos Internos.
DESCRIPTION:
URL:https://www.goiasfomento.com/agenda/rufino-verissimo-atendimentos-e-despachos-internos-205/
LOCATION:Chefia de Gabinete – Agência de Fomento de Goiás
CATEGORIES:Chefia de Gabinete
END:VEVENT
BEGIN:VEVENT
DTSTART;TZID=America/Sao_Paulo:20251210T080000
DTEND;TZID=America/Sao_Paulo:20251210T120000
DTSTAMP:20260426T011456
CREATED:20251210T141147Z
LAST-MODIFIED:20251210T141147Z
UID:47536-1765353600-1765368000@www.goiasfomento.com
SUMMARY:Vinícius Luz: Atendimentos e Despachos Internos.
DESCRIPTION:
URL:https://www.goiasfomento.com/agenda/vinicius-luz-atendimentos-e-despachos-internos-197/
LOCATION:Gabinete da Diretoria de Operações da GoiásFomento – Agência de Fomento de Goiás.
CATEGORIES:Diretoria de Operações
END:VEVENT
BEGIN:VEVENT
DTSTART;TZID=America/Sao_Paulo:20251210T080000
DTEND;TZID=America/Sao_Paulo:20251210T120000
DTSTAMP:20260426T011456
CREATED:20251210T142026Z
LAST-MODIFIED:20251210T142026Z
UID:47538-1765353600-1765368000@www.goiasfomento.com
SUMMARY:Lara Garcia: Premiação do Programa de Compliance Público Estadual do Governo de Goiás 2025 (PCP)\, do Programa construindo juntos e do programa embaixadores da cidadania.
DESCRIPTION:
URL:https://www.goiasfomento.com/agenda/lara-garcia-premiacao-do-programa-de-compliance-publico-estadual-do-governo-de-goias-2025-pcp-do-programa-construindo-juntos-e-do-programa-embaixadores-da-cidadania/
LOCATION:K HOTEL – Av. Dep. Jamel Cecílio\, 2550
CATEGORIES:Diretoria Administrativa e Financeira
END:VEVENT
BEGIN:VEVENT
DTSTART;TZID=America/Sao_Paulo:20251210T140000
DTEND;TZID=America/Sao_Paulo:20251210T180000
DTSTAMP:20260426T011456
CREATED:20251208T140148Z
LAST-MODIFIED:20251208T140148Z
UID:47472-1765375200-1765389600@www.goiasfomento.com
SUMMARY:Rivael Aguiar Pereira: Atendimentos e Despachos Internos
DESCRIPTION:
URL:https://www.goiasfomento.com/agenda/rivael-aguiar-pereira-atendimentos-e-despachos-internos-198/
LOCATION:Gabinete da Presidência da GoiásFomento – Agência de Fomento de Goiás.
CATEGORIES:Presidência
END:VEVENT
BEGIN:VEVENT
DTSTART;TZID=America/Sao_Paulo:20251210T140000
DTEND;TZID=America/Sao_Paulo:20251210T180000
DTSTAMP:20260426T011456
CREATED:20251210T143213Z
LAST-MODIFIED:20251210T143213Z
UID:47542-1765375200-1765389600@www.goiasfomento.com
SUMMARY:Lara Garcia: Despachos Internos e Administrativos.
DESCRIPTION:
URL:https://www.goiasfomento.com/agenda/lara-garcia-despachos-internos-e-administrativos-114/
LOCATION:Gabinete da Diretoria Administrativa e Financeira – Agência de Fomento de Goiás.
CATEGORIES:Diretoria Administrativa e Financeira
END:VEVENT
BEGIN:VEVENT
DTSTART;TZID=America/Sao_Paulo:20251210T140000
DTEND;TZID=America/Sao_Paulo:20251210T180000
DTSTAMP:20260426T011456
CREATED:20251210T144746Z
LAST-MODIFIED:20251210T144746Z
UID:47544-1765375200-1765389600@www.goiasfomento.com
SUMMARY:Vinícius Luz: Atendimentos e Despachos Internos.
DESCRIPTION:
URL:https://www.goiasfomento.com/agenda/vinicius-luz-atendimentos-e-despachos-internos-198/
LOCATION:Gabinete da Presidência da GoiásFomento – Agência de Fomento de Goiás.
CATEGORIES:Diretoria de Operações
END:VEVENT
BEGIN:VEVENT
DTSTART;TZID=America/Sao_Paulo:20251210T140000
DTEND;TZID=America/Sao_Paulo:20251210T183000
DTSTAMP:20260426T011456
CREATED:20251208T141945Z
LAST-MODIFIED:20251208T141945Z
UID:47485-1765375200-1765391400@www.goiasfomento.com
SUMMARY:Rufino Veríssimo: Atendimentos e Despachos Internos.
DESCRIPTION:
URL:https://www.goiasfomento.com/agenda/rufino-verissimo-atendimentos-e-despachos-internos-206/
LOCATION:Chefia de Gabinete – Agência de Fomento de Goiás
CATEGORIES:Chefia de Gabinete
END:VEVENT
END:VCALENDAR