BEGIN:VCALENDAR
VERSION:2.0
PRODID:-//GoiásFomento - Agência de Fomento - ECPv6.15.20//NONSGML v1.0//EN
CALSCALE:GREGORIAN
METHOD:PUBLISH
X-ORIGINAL-URL:https://www.goiasfomento.com
X-WR-CALDESC:Eventos para GoiásFomento - Agência de Fomento
REFRESH-INTERVAL;VALUE=DURATION:PT1H
X-Robots-Tag:noindex
X-PUBLISHED-TTL:PT1H
BEGIN:VTIMEZONE
TZID:America/Sao_Paulo
BEGIN:STANDARD
TZOFFSETFROM:-0300
TZOFFSETTO:-0300
TZNAME:-03
DTSTART:20240101T000000
END:STANDARD
END:VTIMEZONE
BEGIN:VEVENT
DTSTART;TZID=America/Sao_Paulo:20251202T080000
DTEND;TZID=America/Sao_Paulo:20251202T090000
DTSTAMP:20260426T011053
CREATED:20251202T115451Z
LAST-MODIFIED:20251202T115451Z
UID:47324-1764662400-1764666000@www.goiasfomento.com
SUMMARY:Rivael Aguiar Pereira: 420ª Reunião Ordinária do CDE/FCO
DESCRIPTION:
URL:https://www.goiasfomento.com/agenda/rivael-aguiar-pereira-420a-reuniao-ordinaria-do-cde-fco/
LOCATION:Gabinete da Presidência da GoiásFomento – Agência de Fomento de Goiás.
CATEGORIES:Presidência
END:VEVENT
BEGIN:VEVENT
DTSTART;TZID=America/Sao_Paulo:20251202T080000
DTEND;TZID=America/Sao_Paulo:20251202T120000
DTSTAMP:20260426T011053
CREATED:20251202T111034Z
LAST-MODIFIED:20251202T111034Z
UID:47286-1764662400-1764676800@www.goiasfomento.com
SUMMARY:Rufino Veríssimo: Atendimentos e Despachos Internos.
DESCRIPTION:
URL:https://www.goiasfomento.com/agenda/rufino-verissimo-atendimentos-e-despachos-internos-193/
LOCATION:Chefia de Gabinete – Agência de Fomento de Goiás
CATEGORIES:Chefia de Gabinete
END:VEVENT
BEGIN:VEVENT
DTSTART;TZID=America/Sao_Paulo:20251202T080000
DTEND;TZID=America/Sao_Paulo:20251202T120000
DTSTAMP:20260426T011053
CREATED:20251202T122128Z
LAST-MODIFIED:20251202T122134Z
UID:47349-1764662400-1764676800@www.goiasfomento.com
SUMMARY:Lara Garcia: Despachos Internos e Administrativos.
DESCRIPTION:
URL:https://www.goiasfomento.com/agenda/lara-garcia-despachos-internos-e-administrativos-103/
LOCATION:Gabinete da Diretoria de Operações da GoiásFomento – Agência de Fomento de Goiás.
CATEGORIES:Diretoria Administrativa e Financeira
END:VEVENT
BEGIN:VEVENT
DTSTART;TZID=America/Sao_Paulo:20251202T080000
DTEND;TZID=America/Sao_Paulo:20251202T120000
DTSTAMP:20260426T011053
CREATED:20251202T132229Z
LAST-MODIFIED:20251202T132229Z
UID:47387-1764662400-1764676800@www.goiasfomento.com
SUMMARY:Vinícius Luz: Atendimentos e Despachos Internos.
DESCRIPTION:
URL:https://www.goiasfomento.com/agenda/vinicius-luz-atendimentos-e-despachos-internos-185/
LOCATION:Gabinete da Diretoria de Operações da GoiásFomento – Agência de Fomento de Goiás.
CATEGORIES:Diretoria de Operações
END:VEVENT
BEGIN:VEVENT
DTSTART;TZID=America/Sao_Paulo:20251202T090000
DTEND;TZID=America/Sao_Paulo:20251202T120000
DTSTAMP:20260426T011053
CREATED:20251202T115630Z
LAST-MODIFIED:20251202T115630Z
UID:47326-1764666000-1764676800@www.goiasfomento.com
SUMMARY:Rivael Aguiar Pereira: Atendimentos e Despachos Internos
DESCRIPTION:
URL:https://www.goiasfomento.com/agenda/rivael-aguiar-pereira-atendimentos-e-despachos-internos-187/
LOCATION:Gabinete da Presidência da GoiásFomento – Agência de Fomento de Goiás.
CATEGORIES:Presidência
END:VEVENT
BEGIN:VEVENT
DTSTART;TZID=America/Sao_Paulo:20251202T140000
DTEND;TZID=America/Sao_Paulo:20251202T153000
DTSTAMP:20260426T011053
CREATED:20251202T115814Z
LAST-MODIFIED:20251202T115850Z
UID:47328-1764684000-1764689400@www.goiasfomento.com
SUMMARY:Rivael Aguiar Pereira: Encontro do Fórum Permanente do Setor de Mineração do Estado de Goiás
DESCRIPTION:Pauta: Plano Estadual de Recursos Minerais (PERM-GO)\, o Sistema Ipê de Licenciamento Ambiental de Goiás\, além de experiências e perspectivas relacionadas à cadeia produtiva de terras raras no estado.
URL:https://www.goiasfomento.com/agenda/rivael-aguiar-pereira-encontro-do-forum-permanente-do-setor-de-mineracao-do-estado-de-goias/
LOCATION:Assembléia Legislativa do Estado de Goiás.
CATEGORIES:Presidência
END:VEVENT
BEGIN:VEVENT
DTSTART;TZID=America/Sao_Paulo:20251202T140000
DTEND;TZID=America/Sao_Paulo:20251202T180000
DTSTAMP:20260426T011053
CREATED:20251202T111102Z
LAST-MODIFIED:20251202T111102Z
UID:47288-1764684000-1764698400@www.goiasfomento.com
SUMMARY:Rufino Veríssimo: Atendimentos e Despachos Internos.
DESCRIPTION:
URL:https://www.goiasfomento.com/agenda/rufino-verissimo-atendimentos-e-despachos-internos-194/
LOCATION:Chefia de Gabinete – Agência de Fomento de Goiás
CATEGORIES:Chefia de Gabinete
END:VEVENT
BEGIN:VEVENT
DTSTART;TZID=America/Sao_Paulo:20251202T140000
DTEND;TZID=America/Sao_Paulo:20251202T180000
DTSTAMP:20260426T011053
CREATED:20251202T130849Z
LAST-MODIFIED:20251202T130849Z
UID:47380-1764684000-1764698400@www.goiasfomento.com
SUMMARY:Lara Garcia: Despachos Internos e Administrativos.
DESCRIPTION:
URL:https://www.goiasfomento.com/agenda/lara-garcia-despachos-internos-e-administrativos-104/
LOCATION:Gabinete da Diretoria Administrativa e Financeira – Agência de Fomento de Goiás.
CATEGORIES:Diretoria Administrativa e Financeira
END:VEVENT
BEGIN:VEVENT
DTSTART;TZID=America/Sao_Paulo:20251202T140000
DTEND;TZID=America/Sao_Paulo:20251202T180000
DTSTAMP:20260426T011053
CREATED:20251202T132257Z
LAST-MODIFIED:20251202T132257Z
UID:47389-1764684000-1764698400@www.goiasfomento.com
SUMMARY:Vinícius Luz: Atendimentos e Despachos Internos.
DESCRIPTION:
URL:https://www.goiasfomento.com/agenda/vinicius-luz-atendimentos-e-despachos-internos-186/
LOCATION:Gabinete da Diretoria de Operações da GoiásFomento – Agência de Fomento de Goiás.
CATEGORIES:Diretoria de Operações
END:VEVENT
BEGIN:VEVENT
DTSTART;TZID=America/Sao_Paulo:20251202T153000
DTEND;TZID=America/Sao_Paulo:20251202T180000
DTSTAMP:20260426T011053
CREATED:20251202T115954Z
LAST-MODIFIED:20251202T115954Z
UID:47334-1764689400-1764698400@www.goiasfomento.com
SUMMARY:Rivael Aguiar Pereira: Atendimentos e Despachos Internos
DESCRIPTION:
URL:https://www.goiasfomento.com/agenda/rivael-aguiar-pereira-atendimentos-e-despachos-internos-188/
LOCATION:Gabinete da Presidência da GoiásFomento – Agência de Fomento de Goiás.
CATEGORIES:Presidência
END:VEVENT
END:VCALENDAR