BEGIN:VCALENDAR
VERSION:2.0
PRODID:-//GoiásFomento - Agência de Fomento - ECPv6.15.20//NONSGML v1.0//EN
CALSCALE:GREGORIAN
METHOD:PUBLISH
X-WR-CALNAME:GoiásFomento - Agência de Fomento
X-ORIGINAL-URL:https://www.goiasfomento.com
X-WR-CALDESC:Eventos para GoiásFomento - Agência de Fomento
REFRESH-INTERVAL;VALUE=DURATION:PT1H
X-Robots-Tag:noindex
X-PUBLISHED-TTL:PT1H
BEGIN:VTIMEZONE
TZID:America/Sao_Paulo
BEGIN:STANDARD
TZOFFSETFROM:-0300
TZOFFSETTO:-0300
TZNAME:-03
DTSTART:20240101T000000
END:STANDARD
END:VTIMEZONE
BEGIN:VEVENT
DTSTART;TZID=America/Sao_Paulo:20251125T080000
DTEND;TZID=America/Sao_Paulo:20251125T090000
DTSTAMP:20260425T235118
CREATED:20251125T190245Z
LAST-MODIFIED:20251125T190245Z
UID:47219-1764057600-1764061200@www.goiasfomento.com
SUMMARY:Lara Garcia: Despachos Internos e Administrativos.
DESCRIPTION:
URL:https://www.goiasfomento.com/agenda/lara-garcia-despachos-internos-e-administrativos-94/
LOCATION:Gabinete da Diretoria Administrativa e Financeira – Agência de Fomento de Goiás.
CATEGORIES:Diretoria Administrativa e Financeira
END:VEVENT
BEGIN:VEVENT
DTSTART;TZID=America/Sao_Paulo:20251125T080000
DTEND;TZID=America/Sao_Paulo:20251125T110000
DTSTAMP:20260425T235118
CREATED:20251125T191752Z
LAST-MODIFIED:20251125T191752Z
UID:47236-1764057600-1764068400@www.goiasfomento.com
SUMMARY:Vinícius Luz: GoiasFomento até Você em Jataí - Goiás.
DESCRIPTION:
URL:https://www.goiasfomento.com/agenda/vinicius-luz-goiasfomento-ate-voce-em-jatai-goias/
LOCATION:Jataí – GO.
CATEGORIES:Diretoria de Operações
END:VEVENT
BEGIN:VEVENT
DTSTART;TZID=America/Sao_Paulo:20251125T080000
DTEND;TZID=America/Sao_Paulo:20251125T120000
DTSTAMP:20260425T235118
CREATED:20251124T182803Z
LAST-MODIFIED:20251124T182803Z
UID:47178-1764057600-1764072000@www.goiasfomento.com
SUMMARY:Rufino Veríssimo: Atendimentos e Despachos Internos.
DESCRIPTION:
URL:https://www.goiasfomento.com/agenda/rufino-verissimo-atendimentos-e-despachos-internos-183/
CATEGORIES:Chefia de Gabinete
END:VEVENT
BEGIN:VEVENT
DTSTART;TZID=America/Sao_Paulo:20251125T080000
DTEND;TZID=America/Sao_Paulo:20251125T120000
DTSTAMP:20260425T235118
CREATED:20251125T123750Z
LAST-MODIFIED:20251125T123750Z
UID:47196-1764057600-1764072000@www.goiasfomento.com
SUMMARY:Rivael Aguiar Pereira: Atendimentos e Despachos Internos
DESCRIPTION:
URL:https://www.goiasfomento.com/agenda/rivael-aguiar-pereira-atendimentos-e-despachos-internos-177/
LOCATION:Gabinete da Presidência.
CATEGORIES:Presidência
END:VEVENT
BEGIN:VEVENT
DTSTART;TZID=America/Sao_Paulo:20251125T090000
DTEND;TZID=America/Sao_Paulo:20251125T110000
DTSTAMP:20260425T235118
CREATED:20251125T190422Z
LAST-MODIFIED:20251125T190422Z
UID:47221-1764061200-1764068400@www.goiasfomento.com
SUMMARY:Lara Garcia: 1º Seminário de Educação Previdenciário.
DESCRIPTION:
URL:https://www.goiasfomento.com/agenda/lara-garcia-1o-seminario-de-educacao-previdenciario/
LOCATION:TJGO – Tribunal de Justiça do Estado de Goiás
CATEGORIES:Diretoria Administrativa e Financeira
END:VEVENT
BEGIN:VEVENT
DTSTART;TZID=America/Sao_Paulo:20251125T110000
DTEND;TZID=America/Sao_Paulo:20251125T120000
DTSTAMP:20260425T235118
CREATED:20251125T190514Z
LAST-MODIFIED:20251125T190514Z
UID:47224-1764068400-1764072000@www.goiasfomento.com
SUMMARY:Lara Garcia: Despachos Internos e Administrativos.
DESCRIPTION:
URL:https://www.goiasfomento.com/agenda/lara-garcia-despachos-internos-e-administrativos-95/
LOCATION:Gabinete da Diretoria Administrativa e Financeira – Agência de Fomento de Goiás.
CATEGORIES:Diretoria Administrativa e Financeira
END:VEVENT
BEGIN:VEVENT
DTSTART;TZID=America/Sao_Paulo:20251125T110000
DTEND;TZID=America/Sao_Paulo:20251125T120000
DTSTAMP:20260425T235118
CREATED:20251125T191146Z
LAST-MODIFIED:20251125T194809Z
UID:47231-1764068400-1764072000@www.goiasfomento.com
SUMMARY:Vinícius Luz: Entrevista na Rádio Difusora de Jataí - Goiás.
DESCRIPTION:PAUTA: GoiasFomento até Você chega a Jataí de Goiás.
URL:https://www.goiasfomento.com/agenda/vinicius-luz-entrevista-na-radio-difusora-de-jatai-de-goias/
LOCATION:Jataí – GO.
CATEGORIES:Diretoria de Operações
END:VEVENT
BEGIN:VEVENT
DTSTART;TZID=America/Sao_Paulo:20251125T120000
DTEND;TZID=America/Sao_Paulo:20251125T130000
DTSTAMP:20260425T235118
CREATED:20251125T191307Z
LAST-MODIFIED:20251125T194831Z
UID:47233-1764072000-1764075600@www.goiasfomento.com
SUMMARY:Vinícius Luz: Entrevista na TV Sudoeste  CANAL 11 (afiliada TV Brasil) em Jataí - Goiás.
DESCRIPTION:PAUTA: GoiasFomento até Você chega a Jataí
URL:https://www.goiasfomento.com/agenda/vinicius-luz-entrevista-na-tv-sudoeste-canal-11-afiliada-tv-brasil/
LOCATION:Jataí – GO.
CATEGORIES:Diretoria de Operações
END:VEVENT
BEGIN:VEVENT
DTSTART;TZID=America/Sao_Paulo:20251125T140000
DTEND;TZID=America/Sao_Paulo:20251125T180000
DTSTAMP:20260425T235118
CREATED:20251124T182829Z
LAST-MODIFIED:20251124T182829Z
UID:47180-1764079200-1764093600@www.goiasfomento.com
SUMMARY:Rufino Veríssimo: Atendimentos e Despachos Internos.
DESCRIPTION:
URL:https://www.goiasfomento.com/agenda/rufino-verissimo-atendimentos-e-despachos-internos-184/
LOCATION:Chefia de Gabinete – Agência de Fomento de Goiás
CATEGORIES:Chefia de Gabinete
END:VEVENT
BEGIN:VEVENT
DTSTART;TZID=America/Sao_Paulo:20251125T140000
DTEND;TZID=America/Sao_Paulo:20251125T180000
DTSTAMP:20260425T235118
CREATED:20251125T123817Z
LAST-MODIFIED:20251125T123817Z
UID:47198-1764079200-1764093600@www.goiasfomento.com
SUMMARY:Rivael Aguiar Pereira: Atendimentos e Despachos Internos
DESCRIPTION:
URL:https://www.goiasfomento.com/agenda/rivael-aguiar-pereira-atendimentos-e-despachos-internos-178/
LOCATION:Gabinete da Presidência.
CATEGORIES:Presidência
END:VEVENT
BEGIN:VEVENT
DTSTART;TZID=America/Sao_Paulo:20251125T140000
DTEND;TZID=America/Sao_Paulo:20251125T180000
DTSTAMP:20260425T235118
CREATED:20251125T190537Z
LAST-MODIFIED:20251125T190537Z
UID:47226-1764079200-1764093600@www.goiasfomento.com
SUMMARY:Lara Garcia: Despachos Internos e Administrativos.
DESCRIPTION:
URL:https://www.goiasfomento.com/agenda/lara-garcia-despachos-internos-e-administrativos-96/
LOCATION:Gabinete da Diretoria Administrativa e Financeira – Agência de Fomento de Goiás.
CATEGORIES:Diretoria Administrativa e Financeira
END:VEVENT
BEGIN:VEVENT
DTSTART;TZID=America/Sao_Paulo:20251125T140000
DTEND;TZID=America/Sao_Paulo:20251125T180000
DTSTAMP:20260425T235118
CREATED:20251125T191840Z
LAST-MODIFIED:20251125T191840Z
UID:47238-1764079200-1764093600@www.goiasfomento.com
SUMMARY:Vinícius Luz: GoiasFomento até Você em Jataí - Goiás
DESCRIPTION:
URL:https://www.goiasfomento.com/agenda/vinicius-luz-goiasfomento-ate-voce-em-jatai-goias-2/
LOCATION:Jataí – GO.
CATEGORIES:Diretoria de Operações
END:VEVENT
END:VCALENDAR