BEGIN:VCALENDAR
VERSION:2.0
PRODID:-//GoiásFomento - Agência de Fomento - ECPv6.15.20//NONSGML v1.0//EN
CALSCALE:GREGORIAN
METHOD:PUBLISH
X-WR-CALNAME:GoiásFomento - Agência de Fomento
X-ORIGINAL-URL:https://www.goiasfomento.com
X-WR-CALDESC:Eventos para GoiásFomento - Agência de Fomento
REFRESH-INTERVAL;VALUE=DURATION:PT1H
X-Robots-Tag:noindex
X-PUBLISHED-TTL:PT1H
BEGIN:VTIMEZONE
TZID:America/Sao_Paulo
BEGIN:STANDARD
TZOFFSETFROM:-0300
TZOFFSETTO:-0300
TZNAME:-03
DTSTART:20240101T000000
END:STANDARD
END:VTIMEZONE
BEGIN:VEVENT
DTSTART;TZID=America/Sao_Paulo:20251111T080000
DTEND;TZID=America/Sao_Paulo:20251111T120000
DTSTAMP:20260425T235118
CREATED:20251105T135540Z
LAST-MODIFIED:20251105T135540Z
UID:46929-1762848000-1762862400@www.goiasfomento.com
SUMMARY:Rufino Veríssimo: Atendimentos e Despachos Internos.
DESCRIPTION:
URL:https://www.goiasfomento.com/agenda/rufino-verissimo-atendimentos-e-despachos-internos-165/
LOCATION:Chefia de Gabinete – Agência de Fomento de Goiás
CATEGORIES:Chefia de Gabinete
END:VEVENT
BEGIN:VEVENT
DTSTART;TZID=America/Sao_Paulo:20251111T080000
DTEND;TZID=America/Sao_Paulo:20251111T120000
DTSTAMP:20260425T235118
CREATED:20251111T131155Z
LAST-MODIFIED:20251111T131155Z
UID:47018-1762848000-1762862400@www.goiasfomento.com
SUMMARY:Rivael Aguiar Pereira: Atendimentos e Despachos Internos
DESCRIPTION:
URL:https://www.goiasfomento.com/agenda/rivael-aguiar-pereira-atendimentos-e-despachos-internos-167/
LOCATION:Gabinete da Presidência da GoiásFomento – Agência de Fomento de Goiás.
CATEGORIES:Presidência
END:VEVENT
BEGIN:VEVENT
DTSTART;TZID=America/Sao_Paulo:20251111T080000
DTEND;TZID=America/Sao_Paulo:20251111T120000
DTSTAMP:20260425T235118
CREATED:20251111T132732Z
LAST-MODIFIED:20251111T132732Z
UID:47027-1762848000-1762862400@www.goiasfomento.com
SUMMARY:Lara Garcia: Despachos Internos e Administrativos.
DESCRIPTION:
URL:https://www.goiasfomento.com/agenda/lara-garcia-despachos-internos-e-administrativos-80/
LOCATION:Gabinete da Diretoria Administrativa e Financeira – Agência de Fomento de Goiás.
CATEGORIES:Diretoria Administrativa e Financeira
END:VEVENT
BEGIN:VEVENT
DTSTART;TZID=America/Sao_Paulo:20251111T080000
DTEND;TZID=America/Sao_Paulo:20251111T120000
DTSTAMP:20260425T235118
CREATED:20251111T134338Z
LAST-MODIFIED:20251111T134417Z
UID:47044-1762848000-1762862400@www.goiasfomento.com
SUMMARY:Vinícius Luz: GOIÁS SOCIAL em Novo Gama de Goiás.
DESCRIPTION:
URL:https://www.goiasfomento.com/agenda/vinicius-luz-goias-social-em-novo-gama-de-goias/
LOCATION:Novo Gama – Goiás
CATEGORIES:Diretoria de Operações
END:VEVENT
BEGIN:VEVENT
DTSTART;TZID=America/Sao_Paulo:20251111T140000
DTEND;TZID=America/Sao_Paulo:20251111T180000
DTSTAMP:20260425T235118
CREATED:20251105T135710Z
LAST-MODIFIED:20251105T135710Z
UID:46931-1762869600-1762884000@www.goiasfomento.com
SUMMARY:Rufino Veríssimo: Atendimentos e Despachos Internos.
DESCRIPTION:
URL:https://www.goiasfomento.com/agenda/rufino-verissimo-atendimentos-e-despachos-internos-166/
LOCATION:Chefia de Gabinete – Agência de Fomento de Goiás
CATEGORIES:Chefia de Gabinete
END:VEVENT
BEGIN:VEVENT
DTSTART;TZID=America/Sao_Paulo:20251111T140000
DTEND;TZID=America/Sao_Paulo:20251111T180000
DTSTAMP:20260425T235118
CREATED:20251111T131245Z
LAST-MODIFIED:20251111T131245Z
UID:47020-1762869600-1762884000@www.goiasfomento.com
SUMMARY:Rivael Aguiar Pereira: Atendimentos e Despachos Internos
DESCRIPTION:
URL:https://www.goiasfomento.com/agenda/rivael-aguiar-pereira-atendimentos-e-despachos-internos-168/
CATEGORIES:Presidência
END:VEVENT
BEGIN:VEVENT
DTSTART;TZID=America/Sao_Paulo:20251111T140000
DTEND;TZID=America/Sao_Paulo:20251111T180000
DTSTAMP:20260425T235118
CREATED:20251111T132806Z
LAST-MODIFIED:20251111T132806Z
UID:47029-1762869600-1762884000@www.goiasfomento.com
SUMMARY:Lara Garcia: Despachos Internos e Administrativos.
DESCRIPTION:
URL:https://www.goiasfomento.com/agenda/lara-garcia-despachos-internos-e-administrativos-81/
LOCATION:Gabinete da Diretoria Administrativa e Financeira – Agência de Fomento de Goiás.
CATEGORIES:Diretoria Administrativa e Financeira
END:VEVENT
BEGIN:VEVENT
DTSTART;TZID=America/Sao_Paulo:20251111T140000
DTEND;TZID=America/Sao_Paulo:20251111T180000
DTSTAMP:20260425T235118
CREATED:20251111T133758Z
LAST-MODIFIED:20251111T134145Z
UID:47040-1762869600-1762884000@www.goiasfomento.com
SUMMARY:Vinícius Luz: Atendimentos e Despachos Internos.
DESCRIPTION:
URL:https://www.goiasfomento.com/agenda/vinicius-luz-atendimentos-e-despachos-internos-162/
LOCATION:Gabinete da Diretoria de Operações da GoiásFomento – Agência de Fomento de Goiás.
CATEGORIES:Diretoria de Operações
END:VEVENT
END:VCALENDAR