BEGIN:VCALENDAR
VERSION:2.0
PRODID:-//GoiásFomento - Agência de Fomento - ECPv6.15.20//NONSGML v1.0//EN
CALSCALE:GREGORIAN
METHOD:PUBLISH
X-ORIGINAL-URL:https://www.goiasfomento.com
X-WR-CALDESC:Eventos para GoiásFomento - Agência de Fomento
REFRESH-INTERVAL;VALUE=DURATION:PT1H
X-Robots-Tag:noindex
X-PUBLISHED-TTL:PT1H
BEGIN:VTIMEZONE
TZID:America/Sao_Paulo
BEGIN:STANDARD
TZOFFSETFROM:-0300
TZOFFSETTO:-0300
TZNAME:-03
DTSTART:20240101T000000
END:STANDARD
END:VTIMEZONE
BEGIN:VEVENT
DTSTART;TZID=America/Sao_Paulo:20251031T080000
DTEND;TZID=America/Sao_Paulo:20251031T120000
DTSTAMP:20260425T215841
CREATED:20251028T131456Z
LAST-MODIFIED:20251028T131456Z
UID:46753-1761897600-1761912000@www.goiasfomento.com
SUMMARY:Rufino Veríssimo: Atendimentos e Despachos Internos.
DESCRIPTION:
URL:https://www.goiasfomento.com/agenda/rufino-verissimo-atendimentos-e-despachos-internos-152/
LOCATION:Chefia de Gabinete – Agência de Fomento de Goiás
CATEGORIES:Chefia de Gabinete
END:VEVENT
BEGIN:VEVENT
DTSTART;TZID=America/Sao_Paulo:20251031T080000
DTEND;TZID=America/Sao_Paulo:20251031T120000
DTSTAMP:20260425T215841
CREATED:20251028T132705Z
LAST-MODIFIED:20251028T132705Z
UID:46773-1761897600-1761912000@www.goiasfomento.com
SUMMARY:Rivael Aguiar Pereira: Atendimentos e Despachos Internos
DESCRIPTION:
URL:https://www.goiasfomento.com/agenda/rivael-aguiar-pereira-atendimentos-e-despachos-internos-151/
LOCATION:Presidência – Agência de Fomento de Goiás
CATEGORIES:Presidência
END:VEVENT
BEGIN:VEVENT
DTSTART;TZID=America/Sao_Paulo:20251031T080000
DTEND;TZID=America/Sao_Paulo:20251031T120000
DTSTAMP:20260425T215841
CREATED:20251031T141613Z
LAST-MODIFIED:20251031T141613Z
UID:46826-1761897600-1761912000@www.goiasfomento.com
SUMMARY:Lara Garcia: Despachos Internos e Administrativos.
DESCRIPTION:
URL:https://www.goiasfomento.com/agenda/lara-garcia-despachos-internos-e-administrativos-65/
LOCATION:Gabinete da Diretoria Administrativa e Financeira – Agência de Fomento de Goiás.
CATEGORIES:Diretoria Administrativa e Financeira
END:VEVENT
BEGIN:VEVENT
DTSTART;TZID=America/Sao_Paulo:20251031T080000
DTEND;TZID=America/Sao_Paulo:20251031T120000
DTSTAMP:20260425T215841
CREATED:20251104T174519Z
LAST-MODIFIED:20251104T174519Z
UID:46879-1761897600-1761912000@www.goiasfomento.com
SUMMARY:Vinícius Luz: Atendimentos e Despachos Internos.
DESCRIPTION:
URL:https://www.goiasfomento.com/agenda/vinicius-luz-atendimentos-e-despachos-internos-154/
LOCATION:Gabinete da Diretoria de Operações da GoiásFomento – Agência de Fomento de Goiás.
CATEGORIES:Diretoria de Operações
END:VEVENT
BEGIN:VEVENT
DTSTART;TZID=America/Sao_Paulo:20251031T140000
DTEND;TZID=America/Sao_Paulo:20251031T180000
DTSTAMP:20260425T215841
CREATED:20251028T131605Z
LAST-MODIFIED:20251028T131605Z
UID:46755-1761919200-1761933600@www.goiasfomento.com
SUMMARY:Rufino Veríssimo: Atendimentos e Despachos Internos.
DESCRIPTION:
URL:https://www.goiasfomento.com/agenda/rufino-verissimo-atendimentos-e-despachos-internos-153/
LOCATION:Chefia de Gabinete – Agência de Fomento de Goiás
CATEGORIES:Chefia de Gabinete
END:VEVENT
BEGIN:VEVENT
DTSTART;TZID=America/Sao_Paulo:20251031T140000
DTEND;TZID=America/Sao_Paulo:20251031T180000
DTSTAMP:20260425T215841
CREATED:20251028T132732Z
LAST-MODIFIED:20251028T132732Z
UID:46775-1761919200-1761933600@www.goiasfomento.com
SUMMARY:Rivael Aguiar Pereira: Atendimentos e Despachos Internos
DESCRIPTION:
URL:https://www.goiasfomento.com/agenda/rivael-aguiar-pereira-atendimentos-e-despachos-internos-152/
LOCATION:Presidência – Agência de Fomento de Goiás
CATEGORIES:Presidência
END:VEVENT
BEGIN:VEVENT
DTSTART;TZID=America/Sao_Paulo:20251031T140000
DTEND;TZID=America/Sao_Paulo:20251031T180000
DTSTAMP:20260425T215841
CREATED:20251031T141633Z
LAST-MODIFIED:20251031T141633Z
UID:46828-1761919200-1761933600@www.goiasfomento.com
SUMMARY:Lara Garcia: Despachos Internos e Administrativos.
DESCRIPTION:
URL:https://www.goiasfomento.com/agenda/lara-garcia-despachos-internos-e-administrativos-66/
LOCATION:Gabinete da Diretoria Administrativa e Financeira – Agência de Fomento de Goiás.
CATEGORIES:Diretoria Administrativa e Financeira
END:VEVENT
BEGIN:VEVENT
DTSTART;TZID=America/Sao_Paulo:20251031T140000
DTEND;TZID=America/Sao_Paulo:20251031T180000
DTSTAMP:20260425T215841
CREATED:20251031T141806Z
LAST-MODIFIED:20251031T141806Z
UID:46830-1761919200-1761933600@www.goiasfomento.com
SUMMARY:Vinícius Luz: Atendimentos e Despachos Internos.
DESCRIPTION:
URL:https://www.goiasfomento.com/agenda/vinicius-luz-atendimentos-e-despachos-internos-147/
LOCATION:Gabinete da Diretoria de Operações da GoiásFomento – Agência de Fomento de Goiás.
CATEGORIES:Diretoria de Operações
END:VEVENT
END:VCALENDAR