BEGIN:VCALENDAR
VERSION:2.0
PRODID:-//GoiásFomento - Agência de Fomento - ECPv6.15.20//NONSGML v1.0//EN
CALSCALE:GREGORIAN
METHOD:PUBLISH
X-ORIGINAL-URL:https://www.goiasfomento.com
X-WR-CALDESC:Eventos para GoiásFomento - Agência de Fomento
REFRESH-INTERVAL;VALUE=DURATION:PT1H
X-Robots-Tag:noindex
X-PUBLISHED-TTL:PT1H
BEGIN:VTIMEZONE
TZID:America/Sao_Paulo
BEGIN:STANDARD
TZOFFSETFROM:-0300
TZOFFSETTO:-0300
TZNAME:-03
DTSTART:20240101T000000
END:STANDARD
END:VTIMEZONE
BEGIN:VEVENT
DTSTART;TZID=America/Sao_Paulo:20250903T080000
DTEND;TZID=America/Sao_Paulo:20250903T120000
DTSTAMP:20260425T203622
CREATED:20250901T180237Z
LAST-MODIFIED:20250901T180237Z
UID:45773-1756886400-1756900800@www.goiasfomento.com
SUMMARY:Rufino Veríssimo: Atendimentos e Despachos Internos.
DESCRIPTION:
URL:https://www.goiasfomento.com/agenda/rufino-verissimo-atendimentos-e-despachos-internos-72/
CATEGORIES:Chefia de Gabinete
END:VEVENT
BEGIN:VEVENT
DTSTART;TZID=America/Sao_Paulo:20250903T080000
DTEND;TZID=America/Sao_Paulo:20250903T120000
DTSTAMP:20260425T203622
CREATED:20250902T144456Z
LAST-MODIFIED:20250902T144456Z
UID:45808-1756886400-1756900800@www.goiasfomento.com
SUMMARY:Rivael Aguiar Pereira: Atendimentos e Despachos Internos
DESCRIPTION:
URL:https://www.goiasfomento.com/agenda/rivael-aguiar-pereira-atendimentos-e-despachos-internos-75/
LOCATION:Agência de Fomento de Goiás
CATEGORIES:Presidência
END:VEVENT
BEGIN:VEVENT
DTSTART;TZID=America/Sao_Paulo:20250903T080000
DTEND;TZID=America/Sao_Paulo:20250903T120000
DTSTAMP:20260425T203622
CREATED:20250903T151220Z
LAST-MODIFIED:20250903T151220Z
UID:45825-1756886400-1756900800@www.goiasfomento.com
SUMMARY:Lara Garcia: Despachos Internos e Administrativos.
DESCRIPTION:
URL:https://www.goiasfomento.com/agenda/lara-garcia-despachos-internos-e-administrativos/
LOCATION:Gabinete da Diretoria Administrativa e Financeira – Agência de Fomento de Goiás.
CATEGORIES:Diretoria Administrativa e Financeira
END:VEVENT
BEGIN:VEVENT
DTSTART;TZID=America/Sao_Paulo:20250903T080000
DTEND;TZID=America/Sao_Paulo:20250903T120000
DTSTAMP:20260425T203622
CREATED:20250903T185614Z
LAST-MODIFIED:20250903T185614Z
UID:45856-1756886400-1756900800@www.goiasfomento.com
SUMMARY:Vinícius Luz: Atendimentos e Despachos Internos.
DESCRIPTION:
URL:https://www.goiasfomento.com/agenda/vinicius-luz-atendimentos-e-despachos-internos-74/
LOCATION:Gabinete da Diretoria de Operações da GoiásFomento – Agência de Fomento de Goiás.
CATEGORIES:Diretoria de Operações
END:VEVENT
BEGIN:VEVENT
DTSTART;TZID=America/Sao_Paulo:20250903T140000
DTEND;TZID=America/Sao_Paulo:20250903T150000
DTSTAMP:20260425T203622
CREATED:20250903T175712Z
LAST-MODIFIED:20250903T175712Z
UID:45833-1756908000-1756911600@www.goiasfomento.com
SUMMARY:Rivael Aguiar Pereira: Atendimentos e Despachos Internos.
DESCRIPTION:
URL:https://www.goiasfomento.com/agenda/rivael-aguiar-pereira-atendimentos-e-despachos-internos-76/
CATEGORIES:Presidência
END:VEVENT
BEGIN:VEVENT
DTSTART;TZID=America/Sao_Paulo:20250903T140000
DTEND;TZID=America/Sao_Paulo:20250903T150000
DTSTAMP:20260425T203622
CREATED:20250903T185321Z
LAST-MODIFIED:20250903T185507Z
UID:45852-1756908000-1756911600@www.goiasfomento.com
SUMMARY:Vinícius Luz: Atendimentos e Despachos Internos.
DESCRIPTION:
URL:https://www.goiasfomento.com/agenda/vinicius-luz-atendimentos-e-despachos-internos-72/
LOCATION:Gabinete da Diretoria de Operações da GoiásFomento – Agência de Fomento de Goiás.
CATEGORIES:Diretoria de Operações
END:VEVENT
BEGIN:VEVENT
DTSTART;TZID=America/Sao_Paulo:20250903T140000
DTEND;TZID=America/Sao_Paulo:20250903T180000
DTSTAMP:20260425T203622
CREATED:20250901T180352Z
LAST-MODIFIED:20250901T180352Z
UID:45776-1756908000-1756922400@www.goiasfomento.com
SUMMARY:Rufino Veríssimo: Atendimentos e Despachos Internos.
DESCRIPTION:
URL:https://www.goiasfomento.com/agenda/rufino-verissimo-atendimentos-e-despachos-internos-73/
CATEGORIES:Chefia de Gabinete
END:VEVENT
BEGIN:VEVENT
DTSTART;TZID=America/Sao_Paulo:20250903T140000
DTEND;TZID=America/Sao_Paulo:20250903T180000
DTSTAMP:20260425T203622
CREATED:20250903T151605Z
LAST-MODIFIED:20250903T151605Z
UID:45827-1756908000-1756922400@www.goiasfomento.com
SUMMARY:Lara Garcia: Atendimentos e Despachos Internos.
DESCRIPTION:
URL:https://www.goiasfomento.com/agenda/lara-garcia-atendimentos-e-despachos-internos-73/
LOCATION:Gabinete da Diretoria Administrativa e Financeira – Agência de Fomento de Goiás.
CATEGORIES:Diretoria Administrativa e Financeira
END:VEVENT
BEGIN:VEVENT
DTSTART;TZID=America/Sao_Paulo:20250903T150000
DTEND;TZID=America/Sao_Paulo:20250903T160000
DTSTAMP:20260425T203622
CREATED:20250903T174914Z
LAST-MODIFIED:20250903T174914Z
UID:45830-1756911600-1756915200@www.goiasfomento.com
SUMMARY:Reunião de Alinhamento sobre Fiagro (Fundo de Investimento nas Cadeias Produtivas) Seapa/Goiás Parcerias/ Goiás Fomento.
DESCRIPTION:
URL:https://www.goiasfomento.com/agenda/reuniao-de-alinhamento-sobre-fiagro-fundo-de-investimento-nas-cadeias-produtivas-seapa-goias-parcerias-goias-fomento/
LOCATION:Secretaria de Estado de Agricultura\, Pecuária e Abastecimento de Goiás – SEAPA
CATEGORIES:Presidência
END:VEVENT
BEGIN:VEVENT
DTSTART;TZID=America/Sao_Paulo:20250903T150000
DTEND;TZID=America/Sao_Paulo:20250903T160000
DTSTAMP:20260425T203622
CREATED:20250903T184103Z
LAST-MODIFIED:20250903T184103Z
UID:45843-1756911600-1756915200@www.goiasfomento.com
SUMMARY:Reunião de Alinhamento sobre Fiagro (Fundo de Investimento nas Cadeias Produtivas) Seapa/Goiás Parcerias/ Goiás Fomento.
DESCRIPTION:
URL:https://www.goiasfomento.com/agenda/reuniao-de-alinhamento-sobre-fiagro-fundo-de-investimento-nas-cadeias-produtivas-seapa-goias-parcerias-goias-fomento-2/
LOCATION:Secretaria de Estado de Agricultura\, Pecuária e Abastecimento de Goiás – SEAPA
CATEGORIES:Diretoria de Operações
END:VEVENT
BEGIN:VEVENT
DTSTART;TZID=America/Sao_Paulo:20250903T160000
DTEND;TZID=America/Sao_Paulo:20250903T180000
DTSTAMP:20260425T203622
CREATED:20250903T175812Z
LAST-MODIFIED:20250903T175812Z
UID:45835-1756915200-1756922400@www.goiasfomento.com
SUMMARY:Rivael Aguiar Pereira: Atendimentos e Despachos Internos
DESCRIPTION:
URL:https://www.goiasfomento.com/agenda/rivael-aguiar-pereira-atendimentos-e-despachos-internos-77/
CATEGORIES:Presidência
END:VEVENT
BEGIN:VEVENT
DTSTART;TZID=America/Sao_Paulo:20250903T160000
DTEND;TZID=America/Sao_Paulo:20250903T180000
DTSTAMP:20260425T203622
CREATED:20250903T185542Z
LAST-MODIFIED:20250903T185542Z
UID:45854-1756915200-1756922400@www.goiasfomento.com
SUMMARY:Vinícius Luz: Atendimentos e Despachos Internos.
DESCRIPTION:
URL:https://www.goiasfomento.com/agenda/vinicius-luz-atendimentos-e-despachos-internos-73/
LOCATION:Gabinete da Diretoria de Operações da GoiásFomento – Agência de Fomento de Goiás.
CATEGORIES:Diretoria de Operações
END:VEVENT
END:VCALENDAR