BEGIN:VCALENDAR
VERSION:2.0
PRODID:-//GoiásFomento - Agência de Fomento - ECPv6.15.20//NONSGML v1.0//EN
CALSCALE:GREGORIAN
METHOD:PUBLISH
X-ORIGINAL-URL:https://www.goiasfomento.com
X-WR-CALDESC:Eventos para GoiásFomento - Agência de Fomento
REFRESH-INTERVAL;VALUE=DURATION:PT1H
X-Robots-Tag:noindex
X-PUBLISHED-TTL:PT1H
BEGIN:VTIMEZONE
TZID:America/Sao_Paulo
BEGIN:STANDARD
TZOFFSETFROM:-0300
TZOFFSETTO:-0300
TZNAME:-03
DTSTART:20240101T000000
END:STANDARD
END:VTIMEZONE
BEGIN:VEVENT
DTSTART;TZID=America/Sao_Paulo:20250806T080000
DTEND;TZID=America/Sao_Paulo:20250806T103000
DTSTAMP:20260425T190648
CREATED:20250806T171425Z
LAST-MODIFIED:20250806T171425Z
UID:45367-1754467200-1754476200@www.goiasfomento.com
SUMMARY:Vinícius Luz: Atendimentos e Despachos Internos.
DESCRIPTION:
URL:https://www.goiasfomento.com/agenda/vinicius-luz-atendimentos-e-despachos-internos-33/
LOCATION:Gabinete da Diretoria de Operações da GoiásFomento – Agência de Fomento de Goiás.
CATEGORIES:Diretoria de Operações
END:VEVENT
BEGIN:VEVENT
DTSTART;TZID=America/Sao_Paulo:20250806T080000
DTEND;TZID=America/Sao_Paulo:20250806T120000
DTSTAMP:20260425T190648
CREATED:20250806T140253Z
LAST-MODIFIED:20250806T140253Z
UID:45333-1754467200-1754481600@www.goiasfomento.com
SUMMARY:Rivael Aguiar Pereira: Atendimentos e Despachos Internos
DESCRIPTION:
URL:https://www.goiasfomento.com/agenda/rivael-aguiar-pereira-atendimentos-e-despachos-internos-37/
CATEGORIES:Presidência
END:VEVENT
BEGIN:VEVENT
DTSTART;TZID=America/Sao_Paulo:20250806T080000
DTEND;TZID=America/Sao_Paulo:20250806T120000
DTSTAMP:20260425T190648
CREATED:20250806T140738Z
LAST-MODIFIED:20250806T140738Z
UID:45345-1754467200-1754481600@www.goiasfomento.com
SUMMARY:Rufino Veríssimo: Atendimentos e Despachos Internos
DESCRIPTION:
URL:https://www.goiasfomento.com/agenda/rufino-verissimo-atendimentos-e-despachos-internos-30/
CATEGORIES:Chefia de Gabinete
END:VEVENT
BEGIN:VEVENT
DTSTART;TZID=America/Sao_Paulo:20250806T080000
DTEND;TZID=America/Sao_Paulo:20250806T120000
DTSTAMP:20260425T190648
CREATED:20250806T171655Z
LAST-MODIFIED:20250806T171655Z
UID:45369-1754467200-1754481600@www.goiasfomento.com
SUMMARY:Lara Garcia: Atendimentos e Despachos Internos.
DESCRIPTION:
URL:https://www.goiasfomento.com/agenda/lara-garcia-atendimentos-e-despachos-internos-34/
LOCATION:Gabinete da Diretoria Administrativa e Financeira – Agência de Fomento de Goiás.
CATEGORIES:Diretoria Administrativa e Financeira
END:VEVENT
BEGIN:VEVENT
DTSTART;TZID=America/Sao_Paulo:20250806T103000
DTEND;TZID=America/Sao_Paulo:20250806T120000
DTSTAMP:20260425T190648
CREATED:20250806T171346Z
LAST-MODIFIED:20250806T171456Z
UID:45365-1754476200-1754481600@www.goiasfomento.com
SUMMARY:Vinícius Luz: Reunião GoiásFomento\, Seds e Inttegrar.
DESCRIPTION:
URL:https://www.goiasfomento.com/agenda/vinicius-luz-reuniao-goiasfomento-seds-e-inttegrar/
LOCATION:Secretaria de Desenvolvimento Social – SEDS.
CATEGORIES:Diretoria de Operações
END:VEVENT
BEGIN:VEVENT
DTSTART;TZID=America/Sao_Paulo:20250806T140000
DTEND;TZID=America/Sao_Paulo:20250806T180000
DTSTAMP:20260425T190648
CREATED:20250806T140224Z
LAST-MODIFIED:20250806T140224Z
UID:45331-1754488800-1754503200@www.goiasfomento.com
SUMMARY:Rivael Aguiar Pereira: Atendimentos e Despachos Internos
DESCRIPTION:
URL:https://www.goiasfomento.com/agenda/rivael-aguiar-pereira-atendimentos-e-despachos-internos-36/
CATEGORIES:Presidência
END:VEVENT
BEGIN:VEVENT
DTSTART;TZID=America/Sao_Paulo:20250806T140000
DTEND;TZID=America/Sao_Paulo:20250806T180000
DTSTAMP:20260425T190648
CREATED:20250806T140851Z
LAST-MODIFIED:20250806T140851Z
UID:45347-1754488800-1754503200@www.goiasfomento.com
SUMMARY:Rufino Veríssimo: Atendimentos e Despachos Internos
DESCRIPTION:
URL:https://www.goiasfomento.com/agenda/rufino-verissimo-atendimentos-e-despachos-internos-31/
CATEGORIES:Chefia de Gabinete
END:VEVENT
BEGIN:VEVENT
DTSTART;TZID=America/Sao_Paulo:20250806T140000
DTEND;TZID=America/Sao_Paulo:20250806T180000
DTSTAMP:20260425T190648
CREATED:20250807T135122Z
LAST-MODIFIED:20250807T135122Z
UID:45372-1754488800-1754503200@www.goiasfomento.com
SUMMARY:Vinícius Luz: Atendimentos e Despachos Internos.
DESCRIPTION:
URL:https://www.goiasfomento.com/agenda/vinicius-luz-atendimentos-e-despachos-internos-34/
LOCATION:Gabinete da Diretoria de Operações da GoiásFomento – Agência de Fomento de Goiás.
CATEGORIES:Diretoria de Operações
END:VEVENT
BEGIN:VEVENT
DTSTART;TZID=America/Sao_Paulo:20250806T140000
DTEND;TZID=America/Sao_Paulo:20250806T180000
DTSTAMP:20260425T190648
CREATED:20250807T135832Z
LAST-MODIFIED:20250807T135936Z
UID:45374-1754488800-1754503200@www.goiasfomento.com
SUMMARY:Lara Garcia: Atendimentos e Despachos Internos.
DESCRIPTION:
URL:https://www.goiasfomento.com/agenda/lara-garcia-atendimentos-e-despachos-internos-35/
LOCATION:Gabinete da Diretoria Administrativa e Financeira – Agência de Fomento de Goiás.
CATEGORIES:Diretoria Administrativa e Financeira
END:VEVENT
END:VCALENDAR