BEGIN:VCALENDAR
VERSION:2.0
PRODID:-//GoiásFomento - Agência de Fomento - ECPv6.15.20//NONSGML v1.0//EN
CALSCALE:GREGORIAN
METHOD:PUBLISH
X-ORIGINAL-URL:https://www.goiasfomento.com
X-WR-CALDESC:Eventos para GoiásFomento - Agência de Fomento
REFRESH-INTERVAL;VALUE=DURATION:PT1H
X-Robots-Tag:noindex
X-PUBLISHED-TTL:PT1H
BEGIN:VTIMEZONE
TZID:America/Sao_Paulo
BEGIN:STANDARD
TZOFFSETFROM:-0300
TZOFFSETTO:-0300
TZNAME:-03
DTSTART:20240101T000000
END:STANDARD
END:VTIMEZONE
BEGIN:VEVENT
DTSTART;VALUE=DATE:20250729
DTEND;VALUE=DATE:20250730
DTSTAMP:20260425T155108
CREATED:20250717T142320Z
LAST-MODIFIED:20250717T142325Z
UID:44998-1753747200-1753833599@www.goiasfomento.com
SUMMARY:Rivael Aguiar Pereira: Solenidade de Entrega da Comenda da Ordem do Mérito Anhanguera.
DESCRIPTION:
URL:https://www.goiasfomento.com/agenda/rivael-aguiar-pereira-solenidade-de-entrega-da-comenda-da-ordem-do-merito-anhanguera/
LOCATION:Praça do Chafariz – Cidade de Goiás
CATEGORIES:Presidência
END:VEVENT
BEGIN:VEVENT
DTSTART;TZID=America/Sao_Paulo:20250729T080000
DTEND;TZID=America/Sao_Paulo:20250729T120000
DTSTAMP:20260425T155108
CREATED:20250721T172906Z
LAST-MODIFIED:20250721T172926Z
UID:45063-1753776000-1753790400@www.goiasfomento.com
SUMMARY:Rufino Veríssimo: Atendimentos e Despachos Internos.
DESCRIPTION:
URL:https://www.goiasfomento.com/agenda/rufino-verissimo-atendimentos-e-despachos-internos-22/
CATEGORIES:Chefia de Gabinete
END:VEVENT
BEGIN:VEVENT
DTSTART;TZID=America/Sao_Paulo:20250729T080000
DTEND;TZID=America/Sao_Paulo:20250729T120000
DTSTAMP:20260425T155108
CREATED:20250729T192957Z
LAST-MODIFIED:20250729T192957Z
UID:45206-1753776000-1753790400@www.goiasfomento.com
SUMMARY:Vinícius Luz: Atendimentos e Despachos Internos.
DESCRIPTION:
URL:https://www.goiasfomento.com/agenda/vinicius-luz-atendimentos-e-despachos-internos-22/
LOCATION:Gabinete da Diretoria de Operações da GoiásFomento – Agência de Fomento de Goiás.
CATEGORIES:Diretoria de Operações
END:VEVENT
BEGIN:VEVENT
DTSTART;TZID=America/Sao_Paulo:20250729T080000
DTEND;TZID=America/Sao_Paulo:20250729T120000
DTSTAMP:20260425T155108
CREATED:20250729T193147Z
LAST-MODIFIED:20250729T193147Z
UID:45210-1753776000-1753790400@www.goiasfomento.com
SUMMARY:Lara Garcia: Atendimentos e Despachos Internos.
DESCRIPTION:
URL:https://www.goiasfomento.com/agenda/lara-garcia-atendimentos-e-despachos-internos-25/
LOCATION:Gabinete da Diretoria Administrativa e Financeira – Agência de Fomento de Goiás.
CATEGORIES:Diretoria Administrativa e Financeira
END:VEVENT
BEGIN:VEVENT
DTSTART;TZID=America/Sao_Paulo:20250729T140000
DTEND;TZID=America/Sao_Paulo:20250729T160000
DTSTAMP:20260425T155108
CREATED:20250721T172958Z
LAST-MODIFIED:20250721T172958Z
UID:45065-1753797600-1753804800@www.goiasfomento.com
SUMMARY:Rufino Veríssimo: Atendimentos e Despachos Internos.
DESCRIPTION:
URL:https://www.goiasfomento.com/agenda/rufino-verissimo-atendimentos-e-despachos-internos-23/
CATEGORIES:Chefia de Gabinete
END:VEVENT
BEGIN:VEVENT
DTSTART;TZID=America/Sao_Paulo:20250729T140000
DTEND;TZID=America/Sao_Paulo:20250729T180000
DTSTAMP:20260425T155108
CREATED:20250729T193029Z
LAST-MODIFIED:20250729T193029Z
UID:45208-1753797600-1753812000@www.goiasfomento.com
SUMMARY:Vinícius Luz: Atendimentos e Despachos Internos.
DESCRIPTION:
URL:https://www.goiasfomento.com/agenda/vinicius-luz-atendimentos-e-despachos-internos-23/
LOCATION:Gabinete da Diretoria de Operações da GoiásFomento – Agência de Fomento de Goiás.
CATEGORIES:Diretoria de Operações
END:VEVENT
BEGIN:VEVENT
DTSTART;TZID=America/Sao_Paulo:20250729T140000
DTEND;TZID=America/Sao_Paulo:20250729T180000
DTSTAMP:20260425T155108
CREATED:20250729T193425Z
LAST-MODIFIED:20250729T193425Z
UID:45214-1753797600-1753812000@www.goiasfomento.com
SUMMARY:Lara Garcia: Instalação dos Poderes Executivo\, Legislativo e Judiciário.
DESCRIPTION:
URL:https://www.goiasfomento.com/agenda/lara-garcia-instalacao-dos-poderes-executivo-legislativo-e-judiciario/
LOCATION:Palácio Conde dos Arcos – Centro – Cidade de Goiás
CATEGORIES:Diretoria Administrativa e Financeira
END:VEVENT
BEGIN:VEVENT
DTSTART;TZID=America/Sao_Paulo:20250729T180000
DTEND;TZID=America/Sao_Paulo:20250729T210000
DTSTAMP:20260425T155108
CREATED:20250721T172456Z
LAST-MODIFIED:20250721T172810Z
UID:45061-1753812000-1753822800@www.goiasfomento.com
SUMMARY:Rufino Veríssimo: Solenidade de Entrega da Comenda da Ordem do Mérito Anhanguera.
DESCRIPTION:
URL:https://www.goiasfomento.com/agenda/rufino-verissimo-solenidade-de-entrega-da-comenda-da-ordem-do-merito-anhanguera/
CATEGORIES:Chefia de Gabinete
END:VEVENT
BEGIN:VEVENT
DTSTART;TZID=America/Sao_Paulo:20250729T180000
DTEND;TZID=America/Sao_Paulo:20250729T210000
DTSTAMP:20260425T155108
CREATED:20250729T193304Z
LAST-MODIFIED:20250729T193533Z
UID:45212-1753812000-1753822800@www.goiasfomento.com
SUMMARY:Lara Garcia: Solenidade de Entrega da Comenda da Ordem do Mérito Anhanguera.
DESCRIPTION:
URL:https://www.goiasfomento.com/agenda/lara-garcia-solenidade-de-entrega-da-comenda-da-ordem-do-merito-anhanguera/
LOCATION:Praça do Chafariz – Cidade de Goiás
CATEGORIES:Diretoria Administrativa e Financeira
END:VEVENT
END:VCALENDAR