BEGIN:VCALENDAR
VERSION:2.0
PRODID:-//GoiásFomento - Agência de Fomento - ECPv6.15.20//NONSGML v1.0//EN
CALSCALE:GREGORIAN
METHOD:PUBLISH
X-ORIGINAL-URL:https://www.goiasfomento.com
X-WR-CALDESC:Eventos para GoiásFomento - Agência de Fomento
REFRESH-INTERVAL;VALUE=DURATION:PT1H
X-Robots-Tag:noindex
X-PUBLISHED-TTL:PT1H
BEGIN:VTIMEZONE
TZID:America/Sao_Paulo
BEGIN:STANDARD
TZOFFSETFROM:-0300
TZOFFSETTO:-0300
TZNAME:-03
DTSTART:20240101T000000
END:STANDARD
END:VTIMEZONE
BEGIN:VEVENT
DTSTART;TZID=America/Sao_Paulo:20250725T080000
DTEND;TZID=America/Sao_Paulo:20250725T083000
DTSTAMP:20260425T155131
CREATED:20250725T135159Z
LAST-MODIFIED:20250725T135159Z
UID:45183-1753430400-1753432200@www.goiasfomento.com
SUMMARY:Vinícius Luz: Atendimentos e Despachos Internos.
DESCRIPTION:
URL:https://www.goiasfomento.com/agenda/vinicius-luz-atendimentos-e-despachos-internos-18/
LOCATION:Gabinete da Diretoria de Operações da GoiásFomento – Agência de Fomento de Goiás.
CATEGORIES:Diretoria de Operações
END:VEVENT
BEGIN:VEVENT
DTSTART;TZID=America/Sao_Paulo:20250725T080000
DTEND;TZID=America/Sao_Paulo:20250725T103000
DTSTAMP:20260425T155131
CREATED:20250725T141224Z
LAST-MODIFIED:20250725T141224Z
UID:45191-1753430400-1753439400@www.goiasfomento.com
SUMMARY:Rivael Aguiar Pereira: Atendimentos e Despachos Internos
DESCRIPTION:
URL:https://www.goiasfomento.com/agenda/rivael-aguiar-pereira-atendimentos-e-despachos-internos-30/
CATEGORIES:Presidência
END:VEVENT
BEGIN:VEVENT
DTSTART;TZID=America/Sao_Paulo:20250725T080000
DTEND;TZID=America/Sao_Paulo:20250725T120000
DTSTAMP:20260425T155131
CREATED:20250721T171726Z
LAST-MODIFIED:20250721T171726Z
UID:45057-1753430400-1753444800@www.goiasfomento.com
SUMMARY:Rufino Veríssimo: Atendimentos e Despachos Internos.
DESCRIPTION:
URL:https://www.goiasfomento.com/agenda/rufino-verissimo-atendimentos-e-despachos-internos-20/
CATEGORIES:Chefia de Gabinete
END:VEVENT
BEGIN:VEVENT
DTSTART;TZID=America/Sao_Paulo:20250725T080000
DTEND;TZID=America/Sao_Paulo:20250725T120000
DTSTAMP:20260425T155131
CREATED:20250725T135103Z
LAST-MODIFIED:20250725T135103Z
UID:45181-1753430400-1753444800@www.goiasfomento.com
SUMMARY:Lara Garcia: Atendimentos e Despachos Internos.
DESCRIPTION:
URL:https://www.goiasfomento.com/agenda/lara-garcia-atendimentos-e-despachos-internos-23/
LOCATION:Gabinete da Diretoria Administrativa e Financeira – Agência de Fomento de Goiás.
CATEGORIES:Diretoria Administrativa e Financeira
END:VEVENT
BEGIN:VEVENT
DTSTART;TZID=America/Sao_Paulo:20250725T083000
DTEND;TZID=America/Sao_Paulo:20250725T100000
DTSTAMP:20260425T155131
CREATED:20250725T140335Z
LAST-MODIFIED:20250725T140335Z
UID:45187-1753432200-1753437600@www.goiasfomento.com
SUMMARY:Vinícius Luz: Reunião com os Gerentes da Dirop.
DESCRIPTION:
URL:https://www.goiasfomento.com/agenda/vinicius-luz-reuniao-com-os-gerentes-da-dirop/
LOCATION:Gabinete da Diretoria de Operações da GoiásFomento – Agência de Fomento de Goiás.
CATEGORIES:Diretoria de Operações
END:VEVENT
BEGIN:VEVENT
DTSTART;TZID=America/Sao_Paulo:20250725T100000
DTEND;TZID=America/Sao_Paulo:20250725T103000
DTSTAMP:20260425T155131
CREATED:20250725T135816Z
LAST-MODIFIED:20250725T140539Z
UID:45185-1753437600-1753439400@www.goiasfomento.com
SUMMARY:Vinícius Luz: Atendimentos e Despachos Internos.
DESCRIPTION:
URL:https://www.goiasfomento.com/agenda/vinicius-luz-atendimentos-e-despachos-internos-19/
LOCATION:Gabinete da Diretoria de Operações da GoiásFomento – Agência de Fomento de Goiás.
CATEGORIES:Diretoria de Operações
END:VEVENT
BEGIN:VEVENT
DTSTART;TZID=America/Sao_Paulo:20250725T103000
DTEND;TZID=America/Sao_Paulo:20250725T113000
DTSTAMP:20260425T155131
CREATED:20250725T140744Z
LAST-MODIFIED:20250725T142315Z
UID:45189-1753439400-1753443000@www.goiasfomento.com
SUMMARY:Vinícius Luz: Reunião com a Secretária de Estado da Cultura (SECULT) – Yara Nunes dos Santos.
DESCRIPTION:
URL:https://www.goiasfomento.com/agenda/vinicius-luz-reuniao-com-a-secretaria-de-cultura-yara-nunes/
LOCATION:Sala de Reuniões da Diretoria – Agência de Fomento de Goiás.
CATEGORIES:Diretoria de Operações
END:VEVENT
BEGIN:VEVENT
DTSTART;TZID=America/Sao_Paulo:20250725T103000
DTEND;TZID=America/Sao_Paulo:20250725T113000
DTSTAMP:20260425T155131
CREATED:20250725T141528Z
LAST-MODIFIED:20250725T141528Z
UID:45193-1753439400-1753443000@www.goiasfomento.com
SUMMARY:Rivael Aguiar Pereira: Reunião com a Secretária de Estado da Cultura (SECULT) -  Yara Nunes dos Santos
DESCRIPTION:
URL:https://www.goiasfomento.com/agenda/rivael-aguiar-pereira-reuniao-com-a-secretaria-de-estado-da-cultura-secult-yara-nunes-dos-santos/
CATEGORIES:Presidência
END:VEVENT
BEGIN:VEVENT
DTSTART;TZID=America/Sao_Paulo:20250725T113000
DTEND;TZID=America/Sao_Paulo:20250725T120000
DTSTAMP:20260425T155131
CREATED:20250725T141729Z
LAST-MODIFIED:20250725T141729Z
UID:45195-1753443000-1753444800@www.goiasfomento.com
SUMMARY:Rivael Aguiar Pereira: Atendimentos e Despachos Internos
DESCRIPTION:
URL:https://www.goiasfomento.com/agenda/rivael-aguiar-pereira-atendimentos-e-despachos-internos-31/
CATEGORIES:Presidência
END:VEVENT
BEGIN:VEVENT
DTSTART;TZID=America/Sao_Paulo:20250725T113000
DTEND;TZID=America/Sao_Paulo:20250725T120000
DTSTAMP:20260425T155131
CREATED:20250725T203624Z
LAST-MODIFIED:20250725T203624Z
UID:45202-1753443000-1753444800@www.goiasfomento.com
SUMMARY:Vinícius Luz: Atendimentos e Despachos Internos.
DESCRIPTION:
URL:https://www.goiasfomento.com/agenda/vinicius-luz-atendimentos-e-despachos-internos-20/
LOCATION:Gabinete da Diretoria de Operações da GoiásFomento – Agência de Fomento de Goiás.
CATEGORIES:Diretoria de Operações
END:VEVENT
BEGIN:VEVENT
DTSTART;TZID=America/Sao_Paulo:20250725T140000
DTEND;TZID=America/Sao_Paulo:20250725T180000
DTSTAMP:20260425T155131
CREATED:20250721T171855Z
LAST-MODIFIED:20250721T171855Z
UID:45059-1753452000-1753466400@www.goiasfomento.com
SUMMARY:Rufino Veríssimo: Atendimentos e Despachos Internos.
DESCRIPTION:
URL:https://www.goiasfomento.com/agenda/rufino-verissimo-atendimentos-e-despachos-internos-21/
CATEGORIES:Chefia de Gabinete
END:VEVENT
BEGIN:VEVENT
DTSTART;TZID=America/Sao_Paulo:20250725T140000
DTEND;TZID=America/Sao_Paulo:20250725T180000
DTSTAMP:20260425T155131
CREATED:20250725T141813Z
LAST-MODIFIED:20250725T141813Z
UID:45197-1753452000-1753466400@www.goiasfomento.com
SUMMARY:Rivael Aguiar Pereira: Atendimentos e Despachos Internos
DESCRIPTION:
URL:https://www.goiasfomento.com/agenda/rivael-aguiar-pereira-atendimentos-e-despachos-internos-32/
CATEGORIES:Presidência
END:VEVENT
BEGIN:VEVENT
DTSTART;TZID=America/Sao_Paulo:20250725T140000
DTEND;TZID=America/Sao_Paulo:20250725T180000
DTSTAMP:20260425T155131
CREATED:20250725T190943Z
LAST-MODIFIED:20250725T190943Z
UID:45200-1753452000-1753466400@www.goiasfomento.com
SUMMARY:Lara Garcia: Atendimentos e Despachos Internos.
DESCRIPTION:
URL:https://www.goiasfomento.com/agenda/lara-garcia-atendimentos-e-despachos-internos-24/
LOCATION:Gabinete da Diretoria Administrativa e Financeira – Agência de Fomento de Goiás.
CATEGORIES:Diretoria Administrativa e Financeira
END:VEVENT
BEGIN:VEVENT
DTSTART;TZID=America/Sao_Paulo:20250725T140000
DTEND;TZID=America/Sao_Paulo:20250725T180000
DTSTAMP:20260425T155131
CREATED:20250725T203642Z
LAST-MODIFIED:20250725T203642Z
UID:45204-1753452000-1753466400@www.goiasfomento.com
SUMMARY:Vinícius Luz: Atendimentos e Despachos Internos.
DESCRIPTION:
URL:https://www.goiasfomento.com/agenda/vinicius-luz-atendimentos-e-despachos-internos-21/
LOCATION:Gabinete da Diretoria de Operações da GoiásFomento – Agência de Fomento de Goiás.
CATEGORIES:Diretoria de Operações
END:VEVENT
END:VCALENDAR