BEGIN:VCALENDAR
VERSION:2.0
PRODID:-//GoiásFomento - Agência de Fomento - ECPv6.15.20//NONSGML v1.0//EN
CALSCALE:GREGORIAN
METHOD:PUBLISH
X-ORIGINAL-URL:https://www.goiasfomento.com
X-WR-CALDESC:Eventos para GoiásFomento - Agência de Fomento
REFRESH-INTERVAL;VALUE=DURATION:PT1H
X-Robots-Tag:noindex
X-PUBLISHED-TTL:PT1H
BEGIN:VTIMEZONE
TZID:America/Sao_Paulo
BEGIN:STANDARD
TZOFFSETFROM:-0300
TZOFFSETTO:-0300
TZNAME:-03
DTSTART:20240101T000000
END:STANDARD
END:VTIMEZONE
BEGIN:VEVENT
DTSTART;TZID=America/Sao_Paulo:20250715T073000
DTEND;TZID=America/Sao_Paulo:20250715T090000
DTSTAMP:20260425T155131
CREATED:20250715T135406Z
LAST-MODIFIED:20250715T135406Z
UID:44924-1752564600-1752570000@www.goiasfomento.com
SUMMARY:Rufino Veríssimo: Atendimentos e Despachos Internos.
DESCRIPTION:
URL:https://www.goiasfomento.com/agenda/rufino-verissimo-atendimentos-e-despachos-internos-2/
LOCATION:Chefia de Gabinete – Agência de Fomento de Goiás
CATEGORIES:Chefia de Gabinete
END:VEVENT
BEGIN:VEVENT
DTSTART;TZID=America/Sao_Paulo:20250715T080000
DTEND;TZID=America/Sao_Paulo:20250715T090000
DTSTAMP:20260425T155131
CREATED:20250715T132238Z
LAST-MODIFIED:20250715T132238Z
UID:44911-1752566400-1752570000@www.goiasfomento.com
SUMMARY:Lara Garcia: Atendimentos e Despachos Internos.
DESCRIPTION:
URL:https://www.goiasfomento.com/agenda/lara-garcia-atendimentos-e-despachos-internos-3/
LOCATION:Gabinete da Diretoria Administrativa e Financeira – Agência de Fomento de Goiás.
CATEGORIES:Diretoria Administrativa e Financeira
END:VEVENT
BEGIN:VEVENT
DTSTART;TZID=America/Sao_Paulo:20250715T080000
DTEND;TZID=America/Sao_Paulo:20250715T090000
DTSTAMP:20260425T155131
CREATED:20250715T135656Z
LAST-MODIFIED:20250715T135656Z
UID:44928-1752566400-1752570000@www.goiasfomento.com
SUMMARY:Vinícius Luz: Atendimentos e Despachos Internos.
DESCRIPTION:
URL:https://www.goiasfomento.com/agenda/vinicius-luz-atendimentos-e-despachos-internos-2/
LOCATION:Gabinete da Diretoria de Operações da GoiásFomento – Agência de Fomento de Goiás.
CATEGORIES:Diretoria de Operações
END:VEVENT
BEGIN:VEVENT
DTSTART;TZID=America/Sao_Paulo:20250715T080000
DTEND;TZID=America/Sao_Paulo:20250715T110000
DTSTAMP:20260425T155131
CREATED:20250714T173028Z
LAST-MODIFIED:20250714T173028Z
UID:44813-1752566400-1752577200@www.goiasfomento.com
SUMMARY:Rivael Aguiar Pereira: Atendimentos e Despachos Internos
DESCRIPTION:
URL:https://www.goiasfomento.com/agenda/rivael-aguiar-pereira-atendimentos-e-despachos-internos-14/
CATEGORIES:Presidência
END:VEVENT
BEGIN:VEVENT
DTSTART;TZID=America/Sao_Paulo:20250715T090000
DTEND;TZID=America/Sao_Paulo:20250715T100000
DTSTAMP:20260425T155131
CREATED:20250715T121327Z
LAST-MODIFIED:20250715T121327Z
UID:44905-1752570000-1752573600@www.goiasfomento.com
SUMMARY:Vinícius Luz: Reunião com os gerentes da GoiásFomento. Pauta – Contrato da BK.
DESCRIPTION:
URL:https://www.goiasfomento.com/agenda/vinicius-luz-reuniao-com-os-gerentes-da-goiasfomento-pauta-contrato-da-bk-2/
LOCATION:Gabinete da Diretoria de Operações da GoiásFomento – Agência de Fomento de Goiás.
CATEGORIES:Diretoria de Operações
END:VEVENT
BEGIN:VEVENT
DTSTART;TZID=America/Sao_Paulo:20250715T090000
DTEND;TZID=America/Sao_Paulo:20250715T100000
DTSTAMP:20260425T155131
CREATED:20250715T132210Z
LAST-MODIFIED:20250715T132315Z
UID:44907-1752570000-1752573600@www.goiasfomento.com
SUMMARY:Lara Garcia: Reunião com os gerentes da GoiásFomento. Pauta – Contrato da BK.
DESCRIPTION:
URL:https://www.goiasfomento.com/agenda/lara-garcia-reuniao-com-os-gerentes-da-goiasfomento-pauta-contrato-da-bk/
LOCATION:Gabinete da Diretoria de Operações da GoiásFomento – Agência de Fomento de Goiás.
CATEGORIES:Diretoria Administrativa e Financeira
END:VEVENT
BEGIN:VEVENT
DTSTART;TZID=America/Sao_Paulo:20250715T090000
DTEND;TZID=America/Sao_Paulo:20250715T100000
DTSTAMP:20260425T155131
CREATED:20250715T132532Z
LAST-MODIFIED:20250715T132532Z
UID:44913-1752570000-1752573600@www.goiasfomento.com
SUMMARY:Rufino Veríssimo: Reunião com os gerentes da GoiásFomento. Pauta – Contrato da BK.
DESCRIPTION:
URL:https://www.goiasfomento.com/agenda/rufino-verissimo-reuniao-com-os-gerentes-da-goiasfomento-pauta-contrato-da-bk/
LOCATION:Gabinete da Diretoria de Operações da GoiásFomento – Agência de Fomento de Goiás.
CATEGORIES:Chefia de Gabinete
END:VEVENT
BEGIN:VEVENT
DTSTART;TZID=America/Sao_Paulo:20250715T100000
DTEND;TZID=America/Sao_Paulo:20250715T113000
DTSTAMP:20260425T155131
CREATED:20250715T133622Z
LAST-MODIFIED:20250715T135004Z
UID:44915-1752573600-1752579000@www.goiasfomento.com
SUMMARY:Lara Garcia: Reunião com Subsecretaria de Energia\, Telecomunicações e Cidades Inteligente.
DESCRIPTION:
URL:https://www.goiasfomento.com/agenda/lara-garcia-reuniao-com-subsecretaria-de-energia-telecomunicacoes-e-cidades-inteligente/
LOCATION:Sala de Reuniões da Diretoria – Agência de Fomento de Goiás.
CATEGORIES:Diretoria Administrativa e Financeira
END:VEVENT
BEGIN:VEVENT
DTSTART;TZID=America/Sao_Paulo:20250715T100000
DTEND;TZID=America/Sao_Paulo:20250715T113000
DTSTAMP:20260425T155131
CREATED:20250715T133938Z
LAST-MODIFIED:20250715T133938Z
UID:44918-1752573600-1752579000@www.goiasfomento.com
SUMMARY:Vinícius Luz: Reunião com Subsecretaria de Energia\, Telecomunicações e Cidades Inteligente.
DESCRIPTION:
URL:https://www.goiasfomento.com/agenda/vinicius-luz-reuniao-com-subsecretaria-de-energia-telecomunicacoes-e-cidades-inteligente/
LOCATION:Sala de Reuniões da Diretoria – Agência de Fomento de Goiás.
CATEGORIES:Diretoria de Operações
END:VEVENT
BEGIN:VEVENT
DTSTART;TZID=America/Sao_Paulo:20250715T100000
DTEND;TZID=America/Sao_Paulo:20250715T113000
DTSTAMP:20260425T155131
CREATED:20250715T135320Z
LAST-MODIFIED:20250715T135320Z
UID:44922-1752573600-1752579000@www.goiasfomento.com
SUMMARY:Rufino Veríssimo: Reunião com Subsecretaria de Energia\, Telecomunicações e Cidades Inteligente.
DESCRIPTION:
URL:https://www.goiasfomento.com/agenda/rufino-verissimo-reuniao-com-subsecretaria-de-energia-telecomunicacoes-e-cidades-inteligente/
LOCATION:Sala de Reuniões da Diretoria – Agência de Fomento de Goiás.
CATEGORIES:Chefia de Gabinete
END:VEVENT
BEGIN:VEVENT
DTSTART;TZID=America/Sao_Paulo:20250715T110000
DTEND;TZID=America/Sao_Paulo:20250715T120000
DTSTAMP:20260425T155131
CREATED:20250714T173122Z
LAST-MODIFIED:20250714T173507Z
UID:44815-1752577200-1752580800@www.goiasfomento.com
SUMMARY:Rivael Aguiar Pereira: Reunião Virtual – Apresentação do Planejamento Estratégico ABDE 2025–2027 (Reunião com Agências e Bancos de Desenvolvimento)
DESCRIPTION:
URL:https://www.goiasfomento.com/agenda/reuniao-virtual-apresentacao-do-planejamento-estrategico-abde-2025-2027-reuniao-com-agencias-e-bancos-de-desenvolvimento/
CATEGORIES:Presidência
END:VEVENT
BEGIN:VEVENT
DTSTART;TZID=America/Sao_Paulo:20250715T113000
DTEND;TZID=America/Sao_Paulo:20250715T120000
DTSTAMP:20260425T155131
CREATED:20250715T135122Z
LAST-MODIFIED:20250715T135122Z
UID:44920-1752579000-1752580800@www.goiasfomento.com
SUMMARY:Lara Garcia: Atendimentos e Despachos Internos.
DESCRIPTION:
URL:https://www.goiasfomento.com/agenda/lara-garcia-atendimentos-e-despachos-internos-4/
LOCATION:Gabinete da Diretoria Administrativa e Financeira – Agência de Fomento de Goiás.
CATEGORIES:Diretoria Administrativa e Financeira
END:VEVENT
BEGIN:VEVENT
DTSTART;TZID=America/Sao_Paulo:20250715T113000
DTEND;TZID=America/Sao_Paulo:20250715T120000
DTSTAMP:20260425T155131
CREATED:20250715T135433Z
LAST-MODIFIED:20250715T135433Z
UID:44926-1752579000-1752580800@www.goiasfomento.com
SUMMARY:Rufino Veríssimo: Atendimentos e Despachos Internos.
DESCRIPTION:
URL:https://www.goiasfomento.com/agenda/rufino-verissimo-atendimentos-e-despachos-internos-3/
LOCATION:Chefia de Gabinete – Agência de Fomento de Goiás
CATEGORIES:Chefia de Gabinete
END:VEVENT
BEGIN:VEVENT
DTSTART;TZID=America/Sao_Paulo:20250715T113000
DTEND;TZID=America/Sao_Paulo:20250715T120000
DTSTAMP:20260425T155131
CREATED:20250715T135720Z
LAST-MODIFIED:20250715T135720Z
UID:44930-1752579000-1752580800@www.goiasfomento.com
SUMMARY:Vinícius Luz: Atendimentos e Despachos Internos.
DESCRIPTION:
URL:https://www.goiasfomento.com/agenda/vinicius-luz-atendimentos-e-despachos-internos-3/
LOCATION:Gabinete da Diretoria de Operações da GoiásFomento – Agência de Fomento de Goiás.
CATEGORIES:Diretoria de Operações
END:VEVENT
BEGIN:VEVENT
DTSTART;TZID=America/Sao_Paulo:20250715T140000
DTEND;TZID=America/Sao_Paulo:20250715T180000
DTSTAMP:20260425T155131
CREATED:20250714T173558Z
LAST-MODIFIED:20250714T173558Z
UID:44820-1752588000-1752602400@www.goiasfomento.com
SUMMARY:Rivael Aguiar Pereira: Atendimentos e Despachos Internos
DESCRIPTION:
URL:https://www.goiasfomento.com/agenda/rivael-aguiar-pereira-atendimentos-e-despachos-internos-15/
CATEGORIES:Presidência
END:VEVENT
BEGIN:VEVENT
DTSTART;TZID=America/Sao_Paulo:20250715T140000
DTEND;TZID=America/Sao_Paulo:20250715T180000
DTSTAMP:20260425T155131
CREATED:20250716T130918Z
LAST-MODIFIED:20250716T130918Z
UID:44932-1752588000-1752602400@www.goiasfomento.com
SUMMARY:Lara Garcia: Atendimentos e Despachos Internos.
DESCRIPTION:
URL:https://www.goiasfomento.com/agenda/lara-garcia-atendimentos-e-despachos-internos-5/
LOCATION:Gabinete da Diretoria de Operações da GoiásFomento – Agência de Fomento de Goiás.
CATEGORIES:Diretoria Administrativa e Financeira
END:VEVENT
BEGIN:VEVENT
DTSTART;TZID=America/Sao_Paulo:20250715T140000
DTEND;TZID=America/Sao_Paulo:20250715T180000
DTSTAMP:20260425T155131
CREATED:20250716T131147Z
LAST-MODIFIED:20250716T131823Z
UID:44938-1752588000-1752602400@www.goiasfomento.com
SUMMARY:Rufino Veríssimo: Atendimentos e Despachos Internos.
DESCRIPTION:
URL:https://www.goiasfomento.com/agenda/rufino-verissimo-atendimentos-e-despachos-internos-4/
LOCATION:Chefia de Gabinete – Agência de Fomento de Goiás
CATEGORIES:Chefia de Gabinete
END:VEVENT
END:VCALENDAR