BEGIN:VCALENDAR
VERSION:2.0
PRODID:-//GoiásFomento - Agência de Fomento - ECPv6.15.20//NONSGML v1.0//EN
CALSCALE:GREGORIAN
METHOD:PUBLISH
X-WR-CALNAME:GoiásFomento - Agência de Fomento
X-ORIGINAL-URL:https://www.goiasfomento.com
X-WR-CALDESC:Eventos para GoiásFomento - Agência de Fomento
REFRESH-INTERVAL;VALUE=DURATION:PT1H
X-Robots-Tag:noindex
X-PUBLISHED-TTL:PT1H
BEGIN:VTIMEZONE
TZID:America/Sao_Paulo
BEGIN:STANDARD
TZOFFSETFROM:-0300
TZOFFSETTO:-0300
TZNAME:-03
DTSTART:20240101T000000
END:STANDARD
END:VTIMEZONE
BEGIN:VEVENT
DTSTART;TZID=America/Sao_Paulo:20250612T070000
DTEND;TZID=America/Sao_Paulo:20250612T090000
DTSTAMP:20260425T141723
CREATED:20250612T134102Z
LAST-MODIFIED:20250612T140301Z
UID:44103-1749711600-1749718800@www.goiasfomento.com
SUMMARY:Rufino Veríssimo: Atendimentos e Despachos Interno.
DESCRIPTION:
URL:https://www.goiasfomento.com/agenda/rufino-verissimo-atendimentos-e-despachos-interno-55/
LOCATION:Gabinete da Diretoria de Operações da GoiásFomento – Agência de Fomento de Goiás.
CATEGORIES:Diretoria de Operações
END:VEVENT
BEGIN:VEVENT
DTSTART;TZID=America/Sao_Paulo:20250612T080000
DTEND;TZID=America/Sao_Paulo:20250612T090000
DTSTAMP:20260425T141723
CREATED:20250612T135408Z
LAST-MODIFIED:20250612T140237Z
UID:44113-1749715200-1749718800@www.goiasfomento.com
SUMMARY:Vinícius Luz: Atendimentos e Despachos Interno.
DESCRIPTION:
URL:https://www.goiasfomento.com/agenda/vinicius-luz-atendimentos-e-despachos-interno-18/
LOCATION:Chefia de Gabinete – Agência de Fomento de Goiás
CATEGORIES:Chefia de Gabinete
END:VEVENT
BEGIN:VEVENT
DTSTART;TZID=America/Sao_Paulo:20250612T080000
DTEND;TZID=America/Sao_Paulo:20250612T090000
DTSTAMP:20260425T141723
CREATED:20250612T143730Z
LAST-MODIFIED:20250612T143730Z
UID:44127-1749715200-1749718800@www.goiasfomento.com
SUMMARY:Rivael Aguiar Pereira: Atendimentos e Despachos Interno.
DESCRIPTION:
URL:https://www.goiasfomento.com/agenda/rivael-aguiar-pereira-atendimentos-e-despachos-interno-37/
LOCATION:Gabinete da Presidência da GoiásFomento – Agência de Fomento de Goiás.
CATEGORIES:Presidência
END:VEVENT
BEGIN:VEVENT
DTSTART;TZID=America/Sao_Paulo:20250612T080000
DTEND;TZID=America/Sao_Paulo:20250612T100000
DTSTAMP:20260425T141723
CREATED:20250612T144902Z
LAST-MODIFIED:20250612T144902Z
UID:44135-1749715200-1749722400@www.goiasfomento.com
SUMMARY:Lara Garcia : Atendimentos e Despachos Interno.
DESCRIPTION:
URL:https://www.goiasfomento.com/agenda/lara-garcia-atendimentos-e-despachos-interno-27/
LOCATION:Gabinete da Diretoria Administrativa e Financeira – Agência de Fomento de Goiás.
CATEGORIES:Diretoria Administrativa e Financeira
END:VEVENT
BEGIN:VEVENT
DTSTART;TZID=America/Sao_Paulo:20250612T090000
DTEND;TZID=America/Sao_Paulo:20250612T100000
DTSTAMP:20260425T141723
CREATED:20250612T140713Z
LAST-MODIFIED:20250612T140713Z
UID:44121-1749718800-1749722400@www.goiasfomento.com
SUMMARY:Vinícius Luz: Reunião da Diretoria Executiva da Agência de Fomento de Goiás.
DESCRIPTION:
URL:https://www.goiasfomento.com/agenda/vinicius-luz-reuniao-da-diretoria-executiva-da-agencia-de-fomento-de-goias-4/
LOCATION:Gabinete da Diretoria de Operações da GoiásFomento – Agência de Fomento de Goiás.
CATEGORIES:Chefia de Gabinete
END:VEVENT
BEGIN:VEVENT
DTSTART;TZID=America/Sao_Paulo:20250612T090000
DTEND;TZID=America/Sao_Paulo:20250612T100000
DTSTAMP:20260425T141723
CREATED:20250612T141412Z
LAST-MODIFIED:20250612T141412Z
UID:44123-1749718800-1749722400@www.goiasfomento.com
SUMMARY:Rufino Veríssimo: Reunião da Diretoria Executiva da Agência de Fomento de Goiás.
DESCRIPTION:
URL:https://www.goiasfomento.com/agenda/rufino-verissimo-reuniao-da-diretoria-executiva-da-agencia-de-fomento-de-goias-10/
LOCATION:Gabinete da Diretoria de Operações da GoiásFomento – Agência de Fomento de Goiás.
CATEGORIES:Diretoria de Operações
END:VEVENT
BEGIN:VEVENT
DTSTART;TZID=America/Sao_Paulo:20250612T090000
DTEND;TZID=America/Sao_Paulo:20250612T100000
DTSTAMP:20260425T141723
CREATED:20250612T143636Z
LAST-MODIFIED:20250612T143636Z
UID:44125-1749718800-1749722400@www.goiasfomento.com
SUMMARY:Rivael Aguiar Pereira: Reunião da Diretoria Executiva da Agência de Fomento de Goiás.
DESCRIPTION:
URL:https://www.goiasfomento.com/agenda/rivael-aguiar-pereira-reuniao-da-diretoria-executiva-da-agencia-de-fomento-de-goias-2/
LOCATION:Gabinete da Diretoria de Operações da GoiásFomento – Agência de Fomento de Goiás.
CATEGORIES:Presidência
END:VEVENT
BEGIN:VEVENT
DTSTART;TZID=America/Sao_Paulo:20250612T100000
DTEND;TZID=America/Sao_Paulo:20250612T113000
DTSTAMP:20260425T141723
CREATED:20250612T134152Z
LAST-MODIFIED:20250612T134152Z
UID:44105-1749722400-1749727800@www.goiasfomento.com
SUMMARY:Rufino Veríssimo: Reunião GoiasFomento\, Seds e Inttegra.
DESCRIPTION:
URL:https://www.goiasfomento.com/agenda/rufino-verissimo-reuniao-goiasfomento-seds-e-inttegra/
LOCATION:Sala de Reuniões da Diretoria – Agência de Fomento de Goiás.
CATEGORIES:Diretoria de Operações
END:VEVENT
BEGIN:VEVENT
DTSTART;TZID=America/Sao_Paulo:20250612T100000
DTEND;TZID=America/Sao_Paulo:20250612T113000
DTSTAMP:20260425T141723
CREATED:20250612T135542Z
LAST-MODIFIED:20250612T135542Z
UID:44115-1749722400-1749727800@www.goiasfomento.com
SUMMARY:Vinícius Luz: Reunião GoiasFomento\, Seds e Inttegra.
DESCRIPTION:
URL:https://www.goiasfomento.com/agenda/vinicius-luz-reuniao-goiasfomento-seds-e-inttegra/
LOCATION:Sala de Reuniões da Diretoria – Agência de Fomento de Goiás.
CATEGORIES:Chefia de Gabinete
END:VEVENT
BEGIN:VEVENT
DTSTART;TZID=America/Sao_Paulo:20250612T100000
DTEND;TZID=America/Sao_Paulo:20250612T120000
DTSTAMP:20260425T141723
CREATED:20250612T144314Z
LAST-MODIFIED:20250612T144314Z
UID:44131-1749722400-1749729600@www.goiasfomento.com
SUMMARY:Rivael Aguiar Pereira: Reunião com a Comissão de Concurso.
DESCRIPTION:
URL:https://www.goiasfomento.com/agenda/rivael-aguiar-pereira-reuniao-com-a-comissao-de-concurso/
LOCATION:Gabinete da Presidência da GoiásFomento – Agência de Fomento de Goiás.
CATEGORIES:Presidência
END:VEVENT
BEGIN:VEVENT
DTSTART;TZID=America/Sao_Paulo:20250612T100000
DTEND;TZID=America/Sao_Paulo:20250612T120000
DTSTAMP:20260425T141723
CREATED:20250612T144824Z
LAST-MODIFIED:20250612T144824Z
UID:44133-1749722400-1749729600@www.goiasfomento.com
SUMMARY:Lara Garcia: Reunião com a Comissão de Concurso.
DESCRIPTION:
URL:https://www.goiasfomento.com/agenda/lara-garcia-reuniao-com-a-comissao-de-concurso/
LOCATION:Gabinete da Presidência da GoiásFomento – Agência de Fomento de Goiás.
CATEGORIES:Diretoria Administrativa e Financeira
END:VEVENT
BEGIN:VEVENT
DTSTART;TZID=America/Sao_Paulo:20250612T113000
DTEND;TZID=America/Sao_Paulo:20250612T120000
DTSTAMP:20260425T141723
CREATED:20250612T134225Z
LAST-MODIFIED:20250612T134225Z
UID:44107-1749727800-1749729600@www.goiasfomento.com
SUMMARY:Rufino Veríssimo: Atendimentos e Despachos Interno.
DESCRIPTION:
URL:https://www.goiasfomento.com/agenda/rufino-verissimo-atendimentos-e-despachos-interno-56/
LOCATION:Gabinete da Diretoria de Operações da GoiásFomento – Agência de Fomento de Goiás.
CATEGORIES:Diretoria de Operações
END:VEVENT
BEGIN:VEVENT
DTSTART;TZID=America/Sao_Paulo:20250612T113000
DTEND;TZID=America/Sao_Paulo:20250612T120000
DTSTAMP:20260425T141723
CREATED:20250612T135628Z
LAST-MODIFIED:20250612T135628Z
UID:44117-1749727800-1749729600@www.goiasfomento.com
SUMMARY:Vinícius Luz: Atendimentos e Despachos Interno.
DESCRIPTION:
URL:https://www.goiasfomento.com/agenda/vinicius-luz-atendimentos-e-despachos-interno-19/
LOCATION:Chefia de Gabinete – Agência de Fomento de Goiás
CATEGORIES:Chefia de Gabinete
END:VEVENT
BEGIN:VEVENT
DTSTART;TZID=America/Sao_Paulo:20250612T140000
DTEND;TZID=America/Sao_Paulo:20250612T180000
DTSTAMP:20260425T141723
CREATED:20250611T171633Z
LAST-MODIFIED:20250611T171704Z
UID:44053-1749736800-1749751200@www.goiasfomento.com
SUMMARY:Rivael Aguiar Pereira: Atendimentos e Despachos Interno.
DESCRIPTION:
URL:https://www.goiasfomento.com/agenda/rivael-aguiar-pereira-atendimentos-e-despachos-interno-36/
LOCATION:Gabinete da Presidência.
CATEGORIES:Presidência
END:VEVENT
BEGIN:VEVENT
DTSTART;TZID=America/Sao_Paulo:20250612T140000
DTEND;TZID=America/Sao_Paulo:20250612T180000
DTSTAMP:20260425T141723
CREATED:20250612T145059Z
LAST-MODIFIED:20250612T145108Z
UID:44137-1749736800-1749751200@www.goiasfomento.com
SUMMARY:Lara Garcia: Atendimentos e Despachos Interno.
DESCRIPTION:
URL:https://www.goiasfomento.com/agenda/lara-garcia-atendimentos-e-despachos-interno-28/
LOCATION:Gabinete da Diretoria Administrativa e Financeira – Agência de Fomento de Goiás.
CATEGORIES:Diretoria Administrativa e Financeira
END:VEVENT
BEGIN:VEVENT
DTSTART;TZID=America/Sao_Paulo:20250612T140000
DTEND;TZID=America/Sao_Paulo:20250612T180000
DTSTAMP:20260425T141723
CREATED:20250612T194131Z
LAST-MODIFIED:20250612T194131Z
UID:44141-1749736800-1749751200@www.goiasfomento.com
SUMMARY:Vinícius Luz: Atendimentos e Despachos Interno.
DESCRIPTION:
URL:https://www.goiasfomento.com/agenda/vinicius-luz-atendimentos-e-despachos-interno-22/
LOCATION:Chefia de Gabinete – Agência de Fomento de Goiás
CATEGORIES:Chefia de Gabinete
END:VEVENT
END:VCALENDAR