BEGIN:VCALENDAR
VERSION:2.0
PRODID:-//GoiásFomento - Agência de Fomento - ECPv6.15.20//NONSGML v1.0//EN
CALSCALE:GREGORIAN
METHOD:PUBLISH
X-ORIGINAL-URL:https://www.goiasfomento.com
X-WR-CALDESC:Eventos para GoiásFomento - Agência de Fomento
REFRESH-INTERVAL;VALUE=DURATION:PT1H
X-Robots-Tag:noindex
X-PUBLISHED-TTL:PT1H
BEGIN:VTIMEZONE
TZID:America/Sao_Paulo
BEGIN:STANDARD
TZOFFSETFROM:-0300
TZOFFSETTO:-0300
TZNAME:-03
DTSTART:20240101T000000
END:STANDARD
END:VTIMEZONE
BEGIN:VEVENT
DTSTART;VALUE=DATE:20250610
DTEND;VALUE=DATE:20250612
DTSTAMP:20260425T141827
CREATED:20250610T165929Z
LAST-MODIFIED:20250610T165929Z
UID:44014-1749513600-1749686399@www.goiasfomento.com
SUMMARY:Rivael Aguiar Pereira: Evento - FEBRABAN TECH: Reconhecido como o Principal Congresso Anual Sobre Tecnologia e Inovação no Setor Financeiro.
DESCRIPTION:
URL:https://www.goiasfomento.com/agenda/rivael-aguiar-pereira-evento-febraban-tech-reconhecido-como-o-principal-congresso-anual-sobre-tecnologia-e-inovacao-no-setor-financeiro/
LOCATION:SÃO PAULO.
CATEGORIES:Presidência
END:VEVENT
BEGIN:VEVENT
DTSTART;TZID=America/Sao_Paulo:20250611T070000
DTEND;TZID=America/Sao_Paulo:20250611T090000
DTSTAMP:20260425T141827
CREATED:20250611T195337Z
LAST-MODIFIED:20250611T195337Z
UID:44061-1749625200-1749632400@www.goiasfomento.com
SUMMARY:Rufino Veríssimo: Atendimentos e Despachos Interno.
DESCRIPTION:
URL:https://www.goiasfomento.com/agenda/rufino-verissimo-atendimentos-e-despachos-interno-52/
LOCATION:Gabinete da Diretoria de Operações da GoiásFomento – Agência de Fomento de Goiás.
CATEGORIES:Diretoria de Operações
END:VEVENT
BEGIN:VEVENT
DTSTART;TZID=America/Sao_Paulo:20250611T080000
DTEND;TZID=America/Sao_Paulo:20250611T120000
DTSTAMP:20260425T141827
CREATED:20250611T171933Z
LAST-MODIFIED:20250611T171933Z
UID:44055-1749628800-1749643200@www.goiasfomento.com
SUMMARY:Lara Garcia : Atendimentos e Despachos Interno.
DESCRIPTION:
URL:https://www.goiasfomento.com/agenda/lara-garcia-atendimentos-e-despachos-interno-25/
LOCATION:Gabinete da Diretoria Administrativa e Financeira – Agência de Fomento de Goiás.
CATEGORIES:Diretoria Administrativa e Financeira
END:VEVENT
BEGIN:VEVENT
DTSTART;TZID=America/Sao_Paulo:20250611T080000
DTEND;TZID=America/Sao_Paulo:20250611T120000
DTSTAMP:20260425T141827
CREATED:20250611T195704Z
LAST-MODIFIED:20250611T195704Z
UID:44069-1749628800-1749643200@www.goiasfomento.com
SUMMARY:Vinícius Luz: Atendimentos e Despachos Interno.
DESCRIPTION:
URL:https://www.goiasfomento.com/agenda/vinicius-luz-atendimentos-e-despachos-interno-16/
LOCATION:Chefia de Gabinete – Agência de Fomento de Goiás
CATEGORIES:Chefia de Gabinete
END:VEVENT
BEGIN:VEVENT
DTSTART;TZID=America/Sao_Paulo:20250611T090000
DTEND;TZID=America/Sao_Paulo:20250611T103000
DTSTAMP:20260425T141827
CREATED:20250611T195306Z
LAST-MODIFIED:20250611T195306Z
UID:44059-1749632400-1749637800@www.goiasfomento.com
SUMMARY:Rufino Veríssimo: Reunião: Pauta - Contrato da BK.
DESCRIPTION:
URL:https://www.goiasfomento.com/agenda/rufino-verissimo-reuniao-pauta-contrato-da-bk/
LOCATION:Gabinete da Diretoria de Operações da GoiásFomento – Agência de Fomento de Goiás.
CATEGORIES:Diretoria de Operações
END:VEVENT
BEGIN:VEVENT
DTSTART;TZID=America/Sao_Paulo:20250611T103000
DTEND;TZID=America/Sao_Paulo:20250611T113000
DTSTAMP:20260425T141827
CREATED:20250611T195525Z
LAST-MODIFIED:20250611T195525Z
UID:44067-1749637800-1749641400@www.goiasfomento.com
SUMMARY:Rufino Veríssimo: Reunião com os Gerentes da Diretoria de Operações.
DESCRIPTION:
URL:https://www.goiasfomento.com/agenda/rufino-verissimo-reuniao-com-os-gerentes-da-diretoria-de-operacoes-19/
LOCATION:Gabinete da Diretoria de Operações da GoiásFomento – Agência de Fomento de Goiás.
CATEGORIES:Diretoria de Operações
END:VEVENT
BEGIN:VEVENT
DTSTART;TZID=America/Sao_Paulo:20250611T113000
DTEND;TZID=America/Sao_Paulo:20250611T123000
DTSTAMP:20260425T141827
CREATED:20250611T195419Z
LAST-MODIFIED:20250611T195419Z
UID:44063-1749641400-1749645000@www.goiasfomento.com
SUMMARY:Rufino Veríssimo: Atendimentos e Despachos Interno.
DESCRIPTION:
URL:https://www.goiasfomento.com/agenda/rufino-verissimo-atendimentos-e-despachos-interno-53/
LOCATION:Gabinete da Diretoria de Operações da GoiásFomento – Agência de Fomento de Goiás.
CATEGORIES:Diretoria de Operações
END:VEVENT
BEGIN:VEVENT
DTSTART;TZID=America/Sao_Paulo:20250611T140000
DTEND;TZID=America/Sao_Paulo:20250611T180000
DTSTAMP:20260425T141827
CREATED:20250611T172015Z
LAST-MODIFIED:20250611T172015Z
UID:44057-1749650400-1749664800@www.goiasfomento.com
SUMMARY:Lara Garcia : Atendimentos e Despachos Interno.
DESCRIPTION:
URL:https://www.goiasfomento.com/agenda/lara-garcia-atendimentos-e-despachos-interno-26/
LOCATION:Gabinete da Diretoria Administrativa e Financeira – Agência de Fomento de Goiás.
CATEGORIES:Diretoria Administrativa e Financeira
END:VEVENT
BEGIN:VEVENT
DTSTART;TZID=America/Sao_Paulo:20250611T140000
DTEND;TZID=America/Sao_Paulo:20250611T180000
DTSTAMP:20260425T141827
CREATED:20250611T195733Z
LAST-MODIFIED:20250611T195733Z
UID:44071-1749650400-1749664800@www.goiasfomento.com
SUMMARY:Vinícius Luz: Atendimentos e Despachos Interno.
DESCRIPTION:
URL:https://www.goiasfomento.com/agenda/vinicius-luz-atendimentos-e-despachos-interno-17/
LOCATION:Chefia de Gabinete – Agência de Fomento de Goiás
CATEGORIES:Chefia de Gabinete
END:VEVENT
BEGIN:VEVENT
DTSTART;TZID=America/Sao_Paulo:20250611T140000
DTEND;TZID=America/Sao_Paulo:20250611T183000
DTSTAMP:20260425T141827
CREATED:20250611T195443Z
LAST-MODIFIED:20250611T195443Z
UID:44065-1749650400-1749666600@www.goiasfomento.com
SUMMARY:Rufino Veríssimo: Atendimentos e Despachos Interno.
DESCRIPTION:
URL:https://www.goiasfomento.com/agenda/rufino-verissimo-atendimentos-e-despachos-interno-54/
LOCATION:Gabinete da Diretoria de Operações da GoiásFomento – Agência de Fomento de Goiás.
CATEGORIES:Diretoria de Operações
END:VEVENT
END:VCALENDAR