BEGIN:VCALENDAR
VERSION:2.0
PRODID:-//GoiásFomento - Agência de Fomento - ECPv6.15.20//NONSGML v1.0//EN
CALSCALE:GREGORIAN
METHOD:PUBLISH
X-WR-CALNAME:GoiásFomento - Agência de Fomento
X-ORIGINAL-URL:https://www.goiasfomento.com
X-WR-CALDESC:Eventos para GoiásFomento - Agência de Fomento
REFRESH-INTERVAL;VALUE=DURATION:PT1H
X-Robots-Tag:noindex
X-PUBLISHED-TTL:PT1H
BEGIN:VTIMEZONE
TZID:America/Sao_Paulo
BEGIN:STANDARD
TZOFFSETFROM:-0300
TZOFFSETTO:-0300
TZNAME:-03
DTSTART:20240101T000000
END:STANDARD
END:VTIMEZONE
BEGIN:VEVENT
DTSTART;VALUE=DATE:20250610
DTEND;VALUE=DATE:20250611
DTSTAMP:20260425T141724
CREATED:20250609T123655Z
LAST-MODIFIED:20250609T124127Z
UID:43984-1749513600-1749599999@www.goiasfomento.com
SUMMARY:26ª Edição do Festival Internacional de Cinema e Vídeo Ambiental - FICA.
DESCRIPTION:
URL:https://www.goiasfomento.com/agenda/26a-edicao-do-festival-internacional-de-cinema-e-video-ambiental-fica/
LOCATION:Cidade de Goiás
CATEGORIES:Diretoria Administrativa e Financeira
END:VEVENT
BEGIN:VEVENT
DTSTART;VALUE=DATE:20250610
DTEND;VALUE=DATE:20250612
DTSTAMP:20260425T141724
CREATED:20250610T165929Z
LAST-MODIFIED:20250610T165929Z
UID:44014-1749513600-1749686399@www.goiasfomento.com
SUMMARY:Rivael Aguiar Pereira: Evento - FEBRABAN TECH: Reconhecido como o Principal Congresso Anual Sobre Tecnologia e Inovação no Setor Financeiro.
DESCRIPTION:
URL:https://www.goiasfomento.com/agenda/rivael-aguiar-pereira-evento-febraban-tech-reconhecido-como-o-principal-congresso-anual-sobre-tecnologia-e-inovacao-no-setor-financeiro/
LOCATION:SÃO PAULO.
CATEGORIES:Presidência
END:VEVENT
BEGIN:VEVENT
DTSTART;TZID=America/Sao_Paulo:20250610T070000
DTEND;TZID=America/Sao_Paulo:20250610T090000
DTSTAMP:20260425T141724
CREATED:20250610T141817Z
LAST-MODIFIED:20250610T141817Z
UID:44004-1749538800-1749546000@www.goiasfomento.com
SUMMARY:Rufino Veríssimo: Atendimentos e Despachos Interno.
DESCRIPTION:
URL:https://www.goiasfomento.com/agenda/rufino-verissimo-atendimentos-e-despachos-interno-47/
LOCATION:Gabinete da Diretoria de Operações da GoiásFomento – Agência de Fomento de Goiás.
CATEGORIES:Diretoria de Operações
END:VEVENT
BEGIN:VEVENT
DTSTART;TZID=America/Sao_Paulo:20250610T080000
DTEND;TZID=America/Sao_Paulo:20250610T120000
DTSTAMP:20260425T141724
CREATED:20250609T194606Z
LAST-MODIFIED:20250609T194606Z
UID:44000-1749542400-1749556800@www.goiasfomento.com
SUMMARY:Vinícius Luz: Atendimentos e Despachos Interno.
DESCRIPTION:
URL:https://www.goiasfomento.com/agenda/vinicius-luz-atendimentos-e-despachos-interno-14/
LOCATION:Chefia de Gabinete – Agência de Fomento de Goiás
CATEGORIES:Chefia de Gabinete
END:VEVENT
BEGIN:VEVENT
DTSTART;TZID=America/Sao_Paulo:20250610T090000
DTEND;TZID=America/Sao_Paulo:20250610T100000
DTSTAMP:20260425T141724
CREATED:20250610T141925Z
LAST-MODIFIED:20250610T142134Z
UID:44006-1749546000-1749549600@www.goiasfomento.com
SUMMARY:Rufino Veríssimo: Reunião com o Júlio Barbosa de Araújo Neto - Secretário de Aninuns - Goiás.
DESCRIPTION:
URL:https://www.goiasfomento.com/agenda/rufino-verissimo-atendimentos-e-despachos-interno-48/
LOCATION:Gabinete da Diretoria de Operações da GoiásFomento – Agência de Fomento de Goiás.
CATEGORIES:Diretoria de Operações
END:VEVENT
BEGIN:VEVENT
DTSTART;TZID=America/Sao_Paulo:20250610T100000
DTEND;TZID=America/Sao_Paulo:20250610T110000
DTSTAMP:20260425T141724
CREATED:20250610T142244Z
LAST-MODIFIED:20250610T142244Z
UID:44010-1749549600-1749553200@www.goiasfomento.com
SUMMARY:Rufino Veríssimo: Reunião com o Rodrigo Barbosa Tavares - Prefeito de Nova Crixás - Goiás.
DESCRIPTION:
URL:https://www.goiasfomento.com/agenda/rufino-verissimo-reuniao-com-o-rodrigo-barbosa-tavares-prefeito-de-nova-crixas-goias/
LOCATION:Sala de Reuniões da Diretoria – Agência de Fomento de Goiás.
CATEGORIES:Diretoria de Operações
END:VEVENT
BEGIN:VEVENT
DTSTART;TZID=America/Sao_Paulo:20250610T110000
DTEND;TZID=America/Sao_Paulo:20250610T120000
DTSTAMP:20260425T141724
CREATED:20250610T142316Z
LAST-MODIFIED:20250610T142316Z
UID:44012-1749553200-1749556800@www.goiasfomento.com
SUMMARY:Rufino Veríssimo: Atendimentos e Despachos Interno.
DESCRIPTION:
URL:https://www.goiasfomento.com/agenda/rufino-verissimo-atendimentos-e-despachos-interno-49/
LOCATION:Gabinete da Diretoria de Operações da GoiásFomento – Agência de Fomento de Goiás.
CATEGORIES:Diretoria de Operações
END:VEVENT
BEGIN:VEVENT
DTSTART;TZID=America/Sao_Paulo:20250610T140000
DTEND;TZID=America/Sao_Paulo:20250610T143000
DTSTAMP:20260425T141724
CREATED:20250610T185337Z
LAST-MODIFIED:20250610T185337Z
UID:44019-1749564000-1749565800@www.goiasfomento.com
SUMMARY:Rufino Veríssimo: Atendimentos e Despachos Interno.
DESCRIPTION:
URL:https://www.goiasfomento.com/agenda/rufino-verissimo-atendimentos-e-despachos-interno-51/
LOCATION:Gabinete da Diretoria de Operações da GoiásFomento – Agência de Fomento de Goiás.
CATEGORIES:Diretoria de Operações
END:VEVENT
BEGIN:VEVENT
DTSTART;TZID=America/Sao_Paulo:20250610T140000
DTEND;TZID=America/Sao_Paulo:20250610T180000
DTSTAMP:20260425T141724
CREATED:20250609T194634Z
LAST-MODIFIED:20250609T194634Z
UID:44002-1749564000-1749578400@www.goiasfomento.com
SUMMARY:Vinícius Luz: Atendimentos e Despachos Interno.
DESCRIPTION:
URL:https://www.goiasfomento.com/agenda/vinicius-luz-atendimentos-e-despachos-interno-15/
LOCATION:Chefia de Gabinete – Agência de Fomento de Goiás
CATEGORIES:Chefia de Gabinete
END:VEVENT
BEGIN:VEVENT
DTSTART;TZID=America/Sao_Paulo:20250610T143000
DTEND;TZID=America/Sao_Paulo:20250610T150000
DTSTAMP:20260425T141724
CREATED:20250610T185639Z
LAST-MODIFIED:20250610T185639Z
UID:44021-1749565800-1749567600@www.goiasfomento.com
SUMMARY:Rufino Veríssimo: Assembleia Geral Extraordinária (AGE) - online.
DESCRIPTION:
URL:https://www.goiasfomento.com/agenda/rufino-verissimo-assembleia-geral-extraordinaria-age-online/
LOCATION:Gabinete da Diretoria de Operações da GoiásFomento – Agência de Fomento de Goiás.
CATEGORIES:Diretoria de Operações
END:VEVENT
BEGIN:VEVENT
DTSTART;TZID=America/Sao_Paulo:20250610T150000
DTEND;TZID=America/Sao_Paulo:20250610T183000
DTSTAMP:20260425T141724
CREATED:20250610T185226Z
LAST-MODIFIED:20250610T185313Z
UID:44017-1749567600-1749580200@www.goiasfomento.com
SUMMARY:Rufino Veríssimo: Atendimentos e Despachos Interno.
DESCRIPTION:
URL:https://www.goiasfomento.com/agenda/rufino-verissimo-atendimentos-e-despachos-interno-50/
LOCATION:Gabinete da Diretoria de Operações da GoiásFomento – Agência de Fomento de Goiás.
CATEGORIES:Diretoria de Operações
END:VEVENT
END:VCALENDAR