BEGIN:VCALENDAR
VERSION:2.0
PRODID:-//GoiásFomento - Agência de Fomento - ECPv6.15.20//NONSGML v1.0//EN
CALSCALE:GREGORIAN
METHOD:PUBLISH
X-ORIGINAL-URL:https://www.goiasfomento.com
X-WR-CALDESC:Eventos para GoiásFomento - Agência de Fomento
REFRESH-INTERVAL;VALUE=DURATION:PT1H
X-Robots-Tag:noindex
X-PUBLISHED-TTL:PT1H
BEGIN:VTIMEZONE
TZID:America/Sao_Paulo
BEGIN:STANDARD
TZOFFSETFROM:-0300
TZOFFSETTO:-0300
TZNAME:-03
DTSTART:20240101T000000
END:STANDARD
END:VTIMEZONE
BEGIN:VEVENT
DTSTART;TZID=America/Sao_Paulo:20250604T070000
DTEND;TZID=America/Sao_Paulo:20250604T120000
DTSTAMP:20260425T141800
CREATED:20250604T111717Z
LAST-MODIFIED:20250604T111717Z
UID:43880-1749020400-1749038400@www.goiasfomento.com
SUMMARY:Rufino Veríssimo: Atendimentos e Despachos Interno.
DESCRIPTION:
URL:https://www.goiasfomento.com/agenda/rufino-verissimo-atendimentos-e-despachos-interno-36/
CATEGORIES:Diretoria de Operações
END:VEVENT
BEGIN:VEVENT
DTSTART;TZID=America/Sao_Paulo:20250604T080000
DTEND;TZID=America/Sao_Paulo:20250604T093000
DTSTAMP:20260425T141800
CREATED:20250604T122652Z
LAST-MODIFIED:20250604T122652Z
UID:43888-1749024000-1749029400@www.goiasfomento.com
SUMMARY:Lara Garcia : Atendimentos e Despachos Interno.
DESCRIPTION:
URL:https://www.goiasfomento.com/agenda/lara-garcia-atendimentos-e-despachos-interno-18/
LOCATION:Gabinete da Diretoria Administrativa e Financeira – Agência de Fomento de Goiás.
CATEGORIES:Diretoria Administrativa e Financeira
END:VEVENT
BEGIN:VEVENT
DTSTART;TZID=America/Sao_Paulo:20250604T080000
DTEND;TZID=America/Sao_Paulo:20250604T120000
DTSTAMP:20260425T141800
CREATED:20250604T112028Z
LAST-MODIFIED:20250604T112028Z
UID:43882-1749024000-1749038400@www.goiasfomento.com
SUMMARY:Vinícius Luz: Atendimentos e Despachos Interno.
DESCRIPTION:
URL:https://www.goiasfomento.com/agenda/vinicius-luz-atendimentos-e-despachos-interno-5/
LOCATION:Chefia de Gabinete – Agência de Fomento de Goiás
CATEGORIES:Chefia de Gabinete
END:VEVENT
BEGIN:VEVENT
DTSTART;TZID=America/Sao_Paulo:20250604T080000
DTEND;TZID=America/Sao_Paulo:20250604T120000
DTSTAMP:20260425T141800
CREATED:20250604T121509Z
LAST-MODIFIED:20250604T121509Z
UID:43884-1749024000-1749038400@www.goiasfomento.com
SUMMARY:Rivael Aguiar Pereira: Atendimentos e Despachos Interno.
DESCRIPTION:
URL:https://www.goiasfomento.com/agenda/rivael-aguiar-pereira-atendimentos-e-despachos-interno-28/
LOCATION:Gabinete da Presidência.
CATEGORIES:Presidência
END:VEVENT
BEGIN:VEVENT
DTSTART;TZID=America/Sao_Paulo:20250604T093000
DTEND;TZID=America/Sao_Paulo:20250604T120000
DTSTAMP:20260425T141800
CREATED:20250604T123036Z
LAST-MODIFIED:20250604T123036Z
UID:43890-1749029400-1749038400@www.goiasfomento.com
SUMMARY:Lara Garcia : Abertura da Semana do Meio Ambiente.
DESCRIPTION:
URL:https://www.goiasfomento.com/agenda/lara-garcia-abertura-da-semana-do-meio-ambiente/
LOCATION:Memoratto Eventos
CATEGORIES:Diretoria Administrativa e Financeira
END:VEVENT
BEGIN:VEVENT
DTSTART;TZID=America/Sao_Paulo:20250604T140000
DTEND;TZID=America/Sao_Paulo:20250604T180000
DTSTAMP:20260425T141800
CREATED:20250604T121544Z
LAST-MODIFIED:20250604T121558Z
UID:43886-1749045600-1749060000@www.goiasfomento.com
SUMMARY:Rivael Aguiar Pereira: Atendimentos e Despachos Interno.
DESCRIPTION:
URL:https://www.goiasfomento.com/agenda/rivael-aguiar-pereira-atendimentos-e-despachos-interno-29/
LOCATION:Gabinete da Presidência.
CATEGORIES:Presidência
END:VEVENT
BEGIN:VEVENT
DTSTART;TZID=America/Sao_Paulo:20250604T140000
DTEND;TZID=America/Sao_Paulo:20250604T180000
DTSTAMP:20260425T141800
CREATED:20250604T123120Z
LAST-MODIFIED:20250604T123120Z
UID:43893-1749045600-1749060000@www.goiasfomento.com
SUMMARY:Lara Garcia : Atendimentos e Despachos Interno.
DESCRIPTION:
URL:https://www.goiasfomento.com/agenda/lara-garcia-atendimentos-e-despachos-interno-19/
LOCATION:Gabinete da Diretoria Administrativa e Financeira – Agência de Fomento de Goiás.
CATEGORIES:Diretoria Administrativa e Financeira
END:VEVENT
BEGIN:VEVENT
DTSTART;TZID=America/Sao_Paulo:20250604T140000
DTEND;TZID=America/Sao_Paulo:20250604T183000
DTSTAMP:20260425T141800
CREATED:20250604T184841Z
LAST-MODIFIED:20250604T184841Z
UID:43899-1749045600-1749061800@www.goiasfomento.com
SUMMARY:Rufino Veríssimo: Atendimentos e Despachos Interno.
DESCRIPTION:
URL:https://www.goiasfomento.com/agenda/rufino-verissimo-atendimentos-e-despachos-interno-37/
LOCATION:Gabinete da Diretoria de Operações da GoiásFomento – Agência de Fomento de Goiás.
CATEGORIES:Diretoria de Operações
END:VEVENT
BEGIN:VEVENT
DTSTART;TZID=America/Sao_Paulo:20250604T140000
DTEND;TZID=America/Sao_Paulo:20250604T183000
DTSTAMP:20260425T141800
CREATED:20250604T184958Z
LAST-MODIFIED:20250604T184958Z
UID:43901-1749045600-1749061800@www.goiasfomento.com
SUMMARY:Vinícius Luz: Atendimentos e Despachos Interno.
DESCRIPTION:
URL:https://www.goiasfomento.com/agenda/vinicius-luz-atendimentos-e-despachos-interno-6/
LOCATION:Chefia de Gabinete – Agência de Fomento de Goiás
CATEGORIES:Chefia de Gabinete
END:VEVENT
END:VCALENDAR