BEGIN:VCALENDAR
VERSION:2.0
PRODID:-//GoiásFomento - Agência de Fomento - ECPv6.15.20//NONSGML v1.0//EN
CALSCALE:GREGORIAN
METHOD:PUBLISH
X-WR-CALNAME:GoiásFomento - Agência de Fomento
X-ORIGINAL-URL:https://www.goiasfomento.com
X-WR-CALDESC:Eventos para GoiásFomento - Agência de Fomento
REFRESH-INTERVAL;VALUE=DURATION:PT1H
X-Robots-Tag:noindex
X-PUBLISHED-TTL:PT1H
BEGIN:VTIMEZONE
TZID:America/Sao_Paulo
BEGIN:STANDARD
TZOFFSETFROM:-0300
TZOFFSETTO:-0300
TZNAME:-03
DTSTART:20240101T000000
END:STANDARD
END:VTIMEZONE
BEGIN:VEVENT
DTSTART;TZID=America/Sao_Paulo:20250530T070000
DTEND;TZID=America/Sao_Paulo:20250530T100000
DTSTAMP:20260425T124504
CREATED:20250530T151444Z
LAST-MODIFIED:20250530T151444Z
UID:43715-1748588400-1748599200@www.goiasfomento.com
SUMMARY:Rufino Veríssimo: Atendimentos e Despachos Interno.
DESCRIPTION:
URL:https://www.goiasfomento.com/agenda/rufino-verissimo-atendimentos-e-despachos-interno-24/
LOCATION:Gabinete da Diretoria de Operações da GoiásFomento – Agência de Fomento de Goiás.
CATEGORIES:Diretoria de Operações
END:VEVENT
BEGIN:VEVENT
DTSTART;TZID=America/Sao_Paulo:20250530T080000
DTEND;TZID=America/Sao_Paulo:20250530T090000
DTSTAMP:20260425T124504
CREATED:20250530T150615Z
LAST-MODIFIED:20250530T150615Z
UID:43712-1748592000-1748595600@www.goiasfomento.com
SUMMARY:Rivael Aguiar Pereira: Atendimentos e Despachos Interno.
DESCRIPTION:
URL:https://www.goiasfomento.com/agenda/rivael-aguiar-pereira-atendimentos-e-despachos-interno-21/
LOCATION:Gabinete da Presidência.
CATEGORIES:Presidência
END:VEVENT
BEGIN:VEVENT
DTSTART;TZID=America/Sao_Paulo:20250530T080000
DTEND;TZID=America/Sao_Paulo:20250530T120000
DTSTAMP:20260425T124504
CREATED:20250530T112224Z
LAST-MODIFIED:20250530T112230Z
UID:43706-1748592000-1748606400@www.goiasfomento.com
SUMMARY:Deivison Costa: Despachos Internos.
DESCRIPTION:
URL:https://www.goiasfomento.com/agenda/deivison-costa-despachos-internos-88/
LOCATION:Chefia de Gabinete – Agência de Fomento de Goiás
CATEGORIES:Chefia de Gabinete
END:VEVENT
BEGIN:VEVENT
DTSTART;TZID=America/Sao_Paulo:20250530T080000
DTEND;TZID=America/Sao_Paulo:20250530T120000
DTSTAMP:20260425T124504
CREATED:20250530T174629Z
LAST-MODIFIED:20250530T174629Z
UID:43728-1748592000-1748606400@www.goiasfomento.com
SUMMARY:Lara Garcia : Atendimentos e Despachos Interno.
DESCRIPTION:
URL:https://www.goiasfomento.com/agenda/lara-garcia-atendimentos-e-despachos-interno-12/
LOCATION:Gabinete da Diretoria Administrativa e Financeira – Agência de Fomento de Goiás.
CATEGORIES:Diretoria Administrativa e Financeira
END:VEVENT
BEGIN:VEVENT
DTSTART;TZID=America/Sao_Paulo:20250530T090000
DTEND;TZID=America/Sao_Paulo:20250530T120000
DTSTAMP:20260425T124504
CREATED:20250530T151326Z
LAST-MODIFIED:20250530T151326Z
UID:43714-1748595600-1748606400@www.goiasfomento.com
SUMMARY:Rivael Aguiar Pereira: Audiência pública da Comissão de Empreendedorismo e Cidades Inteligentes.
DESCRIPTION:
URL:https://www.goiasfomento.com/agenda/rivael-aguiar-pereira-audiencia-publica-da-comissao-de-empreendedorismo-e-cidades-inteligentes/
LOCATION:Assembléia Legislativa do Estado de Goiás.
CATEGORIES:Presidência
END:VEVENT
BEGIN:VEVENT
DTSTART;TZID=America/Sao_Paulo:20250530T100000
DTEND;TZID=America/Sao_Paulo:20250530T110000
DTSTAMP:20260425T124504
CREATED:20250530T170534Z
LAST-MODIFIED:20250530T170534Z
UID:43720-1748599200-1748602800@www.goiasfomento.com
SUMMARY:Rufino Veríssimo: Reunião com Eurípedes do Carmo - Prefeito de Bela Vista de Goiás. Pauta: Semana do Crédito.
DESCRIPTION:
URL:https://www.goiasfomento.com/agenda/rufino-verissimo-reuniao-com-euripedes-do-carmo-prefeito-de-bela-vista-de-goias-pauta-semana-do-credito/
LOCATION:Bela Vista de Goiás
CATEGORIES:Diretoria de Operações
END:VEVENT
BEGIN:VEVENT
DTSTART;TZID=America/Sao_Paulo:20250530T110000
DTEND;TZID=America/Sao_Paulo:20250530T120000
DTSTAMP:20260425T124504
CREATED:20250530T170632Z
LAST-MODIFIED:20250530T170632Z
UID:43724-1748602800-1748606400@www.goiasfomento.com
SUMMARY:Rufino Veríssimo: Atendimentos e Despachos Interno.
DESCRIPTION:
URL:https://www.goiasfomento.com/agenda/rufino-verissimo-atendimentos-e-despachos-interno-25/
LOCATION:Gabinete da Diretoria de Operações da GoiásFomento – Agência de Fomento de Goiás.
CATEGORIES:Diretoria de Operações
END:VEVENT
BEGIN:VEVENT
DTSTART;TZID=America/Sao_Paulo:20250530T140000
DTEND;TZID=America/Sao_Paulo:20250530T180000
DTSTAMP:20260425T124504
CREATED:20250530T112306Z
LAST-MODIFIED:20250530T112306Z
UID:43708-1748613600-1748628000@www.goiasfomento.com
SUMMARY:Deivison Costa: Despachos Internos.
DESCRIPTION:
URL:https://www.goiasfomento.com/agenda/deivison-costa-despachos-internos-89/
LOCATION:Chefia de Gabinete – Agência de Fomento de Goiás
CATEGORIES:Chefia de Gabinete
END:VEVENT
BEGIN:VEVENT
DTSTART;TZID=America/Sao_Paulo:20250530T140000
DTEND;TZID=America/Sao_Paulo:20250530T180000
DTSTAMP:20260425T124504
CREATED:20250530T151425Z
LAST-MODIFIED:20250530T152343Z
UID:43717-1748613600-1748628000@www.goiasfomento.com
SUMMARY:Rivael Aguiar Pereira: Atendimentos e Despachos Interno.
DESCRIPTION:
URL:https://www.goiasfomento.com/agenda/rivael-aguiar-pereira-atendimentos-e-despachos-interno-22/
LOCATION:Gabinete da Presidência.
CATEGORIES:Presidência
END:VEVENT
BEGIN:VEVENT
DTSTART;TZID=America/Sao_Paulo:20250530T140000
DTEND;TZID=America/Sao_Paulo:20250530T180000
DTSTAMP:20260425T124504
CREATED:20250530T170654Z
LAST-MODIFIED:20250530T170654Z
UID:43726-1748613600-1748628000@www.goiasfomento.com
SUMMARY:Rufino Veríssimo: Atendimentos e Despachos Interno.
DESCRIPTION:
URL:https://www.goiasfomento.com/agenda/rufino-verissimo-atendimentos-e-despachos-interno-26/
LOCATION:Gabinete da Diretoria de Operações da GoiásFomento – Agência de Fomento de Goiás.
CATEGORIES:Diretoria de Operações
END:VEVENT
BEGIN:VEVENT
DTSTART;TZID=America/Sao_Paulo:20250530T140000
DTEND;TZID=America/Sao_Paulo:20250530T180000
DTSTAMP:20260425T124504
CREATED:20250530T174743Z
LAST-MODIFIED:20250602T131132Z
UID:43730-1748613600-1748628000@www.goiasfomento.com
SUMMARY:Lara Garcia : Atendimentos e Despachos Interno.
DESCRIPTION:
URL:https://www.goiasfomento.com/agenda/lara-garcia-atendimentos-e-despachos-interno-13/
LOCATION:Gabinete da Diretoria Administrativa e Financeira – Agência de Fomento de Goiás.
CATEGORIES:Diretoria Administrativa e Financeira
END:VEVENT
END:VCALENDAR