BEGIN:VCALENDAR
VERSION:2.0
PRODID:-//GoiásFomento - Agência de Fomento - ECPv6.15.20//NONSGML v1.0//EN
CALSCALE:GREGORIAN
METHOD:PUBLISH
X-ORIGINAL-URL:https://www.goiasfomento.com
X-WR-CALDESC:Eventos para GoiásFomento - Agência de Fomento
REFRESH-INTERVAL;VALUE=DURATION:PT1H
X-Robots-Tag:noindex
X-PUBLISHED-TTL:PT1H
BEGIN:VTIMEZONE
TZID:America/Sao_Paulo
BEGIN:STANDARD
TZOFFSETFROM:-0300
TZOFFSETTO:-0300
TZNAME:-03
DTSTART:20240101T000000
END:STANDARD
END:VTIMEZONE
BEGIN:VEVENT
DTSTART;TZID=America/Sao_Paulo:20250521T070000
DTEND;TZID=America/Sao_Paulo:20250521T120000
DTSTAMP:20260425T125202
CREATED:20250520T174255Z
LAST-MODIFIED:20250521T111514Z
UID:43516-1747810800-1747828800@www.goiasfomento.com
SUMMARY:Rufino Veríssimo: Atendimentos e Despachos Interno.
DESCRIPTION:
URL:https://www.goiasfomento.com/agenda/rufino-verissimo-atendimentos-e-despachos-interno-5/
LOCATION:Gabinete da Diretoria de Operações da GoiásFomento – Agência de Fomento de Goiás.
CATEGORIES:Diretoria de Operações
END:VEVENT
BEGIN:VEVENT
DTSTART;TZID=America/Sao_Paulo:20250521T080000
DTEND;TZID=America/Sao_Paulo:20250521T120000
DTSTAMP:20260425T125202
CREATED:20250519T133041Z
LAST-MODIFIED:20250522T143446Z
UID:43446-1747814400-1747828800@www.goiasfomento.com
SUMMARY:Rivael Aguiar Pereira: Atendimentos e Despachos Interno.
DESCRIPTION:
URL:https://www.goiasfomento.com/agenda/rivael-aguiar-pereira-atendimentos-e-despachos-interno-3/
LOCATION:Gabinete da Presidência.
CATEGORIES:Presidência
END:VEVENT
BEGIN:VEVENT
DTSTART;TZID=America/Sao_Paulo:20250521T080000
DTEND;TZID=America/Sao_Paulo:20250521T120000
DTSTAMP:20260425T125202
CREATED:20250521T111629Z
LAST-MODIFIED:20250521T111629Z
UID:43521-1747814400-1747828800@www.goiasfomento.com
SUMMARY:Deivison Costa: Atendimentos e Despachos Interno.
DESCRIPTION:
URL:https://www.goiasfomento.com/agenda/deivison-costa-atendimentos-e-despachos-interno/
LOCATION:Chefia de Gabinete – Agência de Fomento de Goiás
CATEGORIES:Chefia de Gabinete
END:VEVENT
BEGIN:VEVENT
DTSTART;TZID=America/Sao_Paulo:20250521T080000
DTEND;TZID=America/Sao_Paulo:20250521T120000
DTSTAMP:20260425T125202
CREATED:20250521T133644Z
LAST-MODIFIED:20250521T133644Z
UID:43559-1747814400-1747828800@www.goiasfomento.com
SUMMARY:Lara Garcia : Atendimentos e Despachos Interno.
DESCRIPTION:
URL:https://www.goiasfomento.com/agenda/lara-garcia-atendimentos-e-despachos-interno/
LOCATION:Gabinete da Diretoria Administrativa e Financeira – Agência de Fomento de Goiás.
CATEGORIES:Diretoria Administrativa e Financeira
END:VEVENT
BEGIN:VEVENT
DTSTART;TZID=America/Sao_Paulo:20250521T140000
DTEND;TZID=America/Sao_Paulo:20250521T160000
DTSTAMP:20260425T125202
CREATED:20250521T134832Z
LAST-MODIFIED:20250521T134832Z
UID:43580-1747836000-1747843200@www.goiasfomento.com
SUMMARY:Lara Garcia : Reunião com os Gerentes da Diretoria Administrativa e Financeira.
DESCRIPTION:
URL:https://www.goiasfomento.com/agenda/lara-garcia-reuniao-com-os-gerentes-da-diretoria-administrativa-e-financeira/
LOCATION:Sala de reuniões da Diretoria.
CATEGORIES:Diretoria Administrativa e Financeira
END:VEVENT
BEGIN:VEVENT
DTSTART;TZID=America/Sao_Paulo:20250521T140000
DTEND;TZID=America/Sao_Paulo:20250521T180000
DTSTAMP:20260425T125202
CREATED:20250519T133117Z
LAST-MODIFIED:20250522T143935Z
UID:43448-1747836000-1747850400@www.goiasfomento.com
SUMMARY:Rivael Aguiar Pereira: Atendimentos e Despachos Interno.
DESCRIPTION:
URL:https://www.goiasfomento.com/agenda/rivael-aguiar-pereira-atendimentos-e-despachos-interno-4/
LOCATION:Gabinete da Presidência.
CATEGORIES:Presidência
END:VEVENT
BEGIN:VEVENT
DTSTART;TZID=America/Sao_Paulo:20250521T140000
DTEND;TZID=America/Sao_Paulo:20250521T180000
DTSTAMP:20260425T125202
CREATED:20250520T174330Z
LAST-MODIFIED:20250520T174330Z
UID:43518-1747836000-1747850400@www.goiasfomento.com
SUMMARY:Rufino Veríssimo: Atendimentos e Despachos Interno.
DESCRIPTION:
URL:https://www.goiasfomento.com/agenda/rufino-verissimo-atendimentos-e-despachos-interno-9/
LOCATION:Gabinete da Diretoria de Operações da GoiásFomento – Agência de Fomento de Goiás.
CATEGORIES:Diretoria de Operações
END:VEVENT
BEGIN:VEVENT
DTSTART;TZID=America/Sao_Paulo:20250521T140000
DTEND;TZID=America/Sao_Paulo:20250521T180000
DTSTAMP:20260425T125202
CREATED:20250521T111746Z
LAST-MODIFIED:20250521T120021Z
UID:43524-1747836000-1747850400@www.goiasfomento.com
SUMMARY:Deivison Costa: Atendimentos e Despachos Interno.
DESCRIPTION:
URL:https://www.goiasfomento.com/agenda/deivison-costa-atendimentos-e-despachos-interno-2/
LOCATION:Chefia de Gabinete – Agência de Fomento de Goiás
CATEGORIES:Chefia de Gabinete
END:VEVENT
BEGIN:VEVENT
DTSTART;TZID=America/Sao_Paulo:20250521T160000
DTEND;TZID=America/Sao_Paulo:20250521T180000
DTSTAMP:20260425T125202
CREATED:20250521T135029Z
LAST-MODIFIED:20250521T135029Z
UID:43582-1747843200-1747850400@www.goiasfomento.com
SUMMARY:Lara Garcia : Atendimentos e Despachos Interno.
DESCRIPTION:
URL:https://www.goiasfomento.com/agenda/lara-garcia-atendimentos-e-despachos-interno-2/
LOCATION:Gabinete da Diretoria Administrativa e Financeira – Agência de Fomento de Goiás.
CATEGORIES:Diretoria Administrativa e Financeira
END:VEVENT
END:VCALENDAR