BEGIN:VCALENDAR
VERSION:2.0
PRODID:-//GoiásFomento - Agência de Fomento - ECPv6.15.20//NONSGML v1.0//EN
CALSCALE:GREGORIAN
METHOD:PUBLISH
X-WR-CALNAME:GoiásFomento - Agência de Fomento
X-ORIGINAL-URL:https://www.goiasfomento.com
X-WR-CALDESC:Eventos para GoiásFomento - Agência de Fomento
REFRESH-INTERVAL;VALUE=DURATION:PT1H
X-Robots-Tag:noindex
X-PUBLISHED-TTL:PT1H
BEGIN:VTIMEZONE
TZID:America/Sao_Paulo
BEGIN:STANDARD
TZOFFSETFROM:-0300
TZOFFSETTO:-0300
TZNAME:-03
DTSTART:20240101T000000
END:STANDARD
END:VTIMEZONE
BEGIN:VEVENT
DTSTART;TZID=America/Sao_Paulo:20250501T080000
DTEND;TZID=America/Sao_Paulo:20250511T170000
DTSTAMP:20260425T124504
CREATED:20250506T195036Z
LAST-MODIFIED:20250506T195554Z
UID:42908-1746086400-1746982800@www.goiasfomento.com
SUMMARY:Cargo Vago desde 19/03/2025.
DESCRIPTION:
URL:https://www.goiasfomento.com/agenda/cargo-vago-desde-19-03-2025-5/
CATEGORIES:Diretoria Administrativa e Financeira
END:VEVENT
BEGIN:VEVENT
DTSTART;TZID=America/Sao_Paulo:20250508T070000
DTEND;TZID=America/Sao_Paulo:20250508T083000
DTSTAMP:20260425T124504
CREATED:20250508T113916Z
LAST-MODIFIED:20250508T113916Z
UID:43038-1746687600-1746693000@www.goiasfomento.com
SUMMARY:Rufino Veríssimo – Diretor Presidente (Em substituição): Despachos Internos.
DESCRIPTION:
URL:https://www.goiasfomento.com/agenda/rufino-verissimo-diretor-presidente-em-substituicao-despachos-internos-73/
LOCATION:Gabinete da Diretoria de Operações da GoiásFomento – Agência de Fomento de Goiás.
CATEGORIES:Presidência
END:VEVENT
BEGIN:VEVENT
DTSTART;TZID=America/Sao_Paulo:20250508T070000
DTEND;TZID=America/Sao_Paulo:20250508T083000
DTSTAMP:20260425T124504
CREATED:20250508T113951Z
LAST-MODIFIED:20250508T113951Z
UID:43040-1746687600-1746693000@www.goiasfomento.com
SUMMARY:Rufino Veríssimo: Despachos Internos.
DESCRIPTION:
URL:https://www.goiasfomento.com/agenda/rufino-verissimo-despachos-internos-285/
LOCATION:Gabinete da Diretoria de Operações da GoiásFomento – Agência de Fomento de Goiás.
CATEGORIES:Diretoria de Operações
END:VEVENT
BEGIN:VEVENT
DTSTART;TZID=America/Sao_Paulo:20250508T080000
DTEND;TZID=America/Sao_Paulo:20250508T120000
DTSTAMP:20260425T124504
CREATED:20250508T192823Z
LAST-MODIFIED:20250508T192823Z
UID:43071-1746691200-1746705600@www.goiasfomento.com
SUMMARY:Deivison Costa: Despachos Internos.
DESCRIPTION:
URL:https://www.goiasfomento.com/agenda/deivison-costa-despachos-internos-76/
LOCATION:Chefia de Gabinete – Agência de Fomento de Goiás
CATEGORIES:Chefia de Gabinete
END:VEVENT
BEGIN:VEVENT
DTSTART;TZID=America/Sao_Paulo:20250508T083000
DTEND;TZID=America/Sao_Paulo:20250508T084500
DTSTAMP:20260425T124504
CREATED:20250508T114054Z
LAST-MODIFIED:20250508T114054Z
UID:43042-1746693000-1746693900@www.goiasfomento.com
SUMMARY:Rufino Veríssimo – Diretor Presidente (Em substituição): Reunião com Paulo Cesar Paiva - Assessor de Estratégia e Planejamento.
DESCRIPTION:
URL:https://www.goiasfomento.com/agenda/rufino-verissimo-diretor-presidente-em-substituicao-reuniao-com-paulo-cesar-paiva-assessor-de-estrategia-e-planejamento-25/
LOCATION:Gabinete da Diretoria de Operações da GoiásFomento – Agência de Fomento de Goiás.
CATEGORIES:Presidência
END:VEVENT
BEGIN:VEVENT
DTSTART;TZID=America/Sao_Paulo:20250508T083000
DTEND;TZID=America/Sao_Paulo:20250508T084500
DTSTAMP:20260425T124504
CREATED:20250508T114124Z
LAST-MODIFIED:20250508T114124Z
UID:43044-1746693000-1746693900@www.goiasfomento.com
SUMMARY:Rufino Veríssimo: Reunião com Paulo Cesar Paiva - Assessor de Estratégia e Planejamento.
DESCRIPTION:
URL:https://www.goiasfomento.com/agenda/rufino-verissimo-reuniao-com-paulo-cesar-paiva-assessor-de-estrategia-e-planejamento-32/
LOCATION:Gabinete da Diretoria de Operações da GoiásFomento – Agência de Fomento de Goiás.
CATEGORIES:Diretoria de Operações
END:VEVENT
BEGIN:VEVENT
DTSTART;TZID=America/Sao_Paulo:20250508T084500
DTEND;TZID=America/Sao_Paulo:20250508T093000
DTSTAMP:20260425T124504
CREATED:20250508T114212Z
LAST-MODIFIED:20250508T114212Z
UID:43046-1746693900-1746696600@www.goiasfomento.com
SUMMARY:Rufino Veríssimo – Diretor Presidente (Em substituição): Despachos Internos.
DESCRIPTION:
URL:https://www.goiasfomento.com/agenda/rufino-verissimo-diretor-presidente-em-substituicao-despachos-internos-74/
LOCATION:Gabinete da Diretoria de Operações da GoiásFomento – Agência de Fomento de Goiás.
CATEGORIES:Presidência
END:VEVENT
BEGIN:VEVENT
DTSTART;TZID=America/Sao_Paulo:20250508T084500
DTEND;TZID=America/Sao_Paulo:20250508T093000
DTSTAMP:20260425T124504
CREATED:20250508T114301Z
LAST-MODIFIED:20250508T114301Z
UID:43048-1746693900-1746696600@www.goiasfomento.com
SUMMARY:Rufino Veríssimo: Despachos Internos.
DESCRIPTION:
URL:https://www.goiasfomento.com/agenda/rufino-verissimo-despachos-internos-286/
LOCATION:Gabinete da Diretoria de Operações da GoiásFomento – Agência de Fomento de Goiás.
CATEGORIES:Diretoria de Operações
END:VEVENT
BEGIN:VEVENT
DTSTART;TZID=America/Sao_Paulo:20250508T093000
DTEND;TZID=America/Sao_Paulo:20250508T100000
DTSTAMP:20260425T124504
CREATED:20250508T175124Z
LAST-MODIFIED:20250508T175124Z
UID:43050-1746696600-1746698400@www.goiasfomento.com
SUMMARY:Rufino Veríssimo – Diretor Presidente (Em substituição):  Reunião com Luiz Arthur Medeiros Miguel - Gerente de Licitação e Contratos.
DESCRIPTION:
URL:https://www.goiasfomento.com/agenda/rufino-verissimo-diretor-presidente-em-substituicao-reuniao-com-luiz-arthur-medeiros-miguel-gerente-de-licitacao-e-contratos-17/
LOCATION:Gabinete da Diretoria de Operações da GoiásFomento – Agência de Fomento de Goiás.
CATEGORIES:Presidência
END:VEVENT
BEGIN:VEVENT
DTSTART;TZID=America/Sao_Paulo:20250508T093000
DTEND;TZID=America/Sao_Paulo:20250508T100000
DTSTAMP:20260425T124504
CREATED:20250508T175200Z
LAST-MODIFIED:20250508T175200Z
UID:43052-1746696600-1746698400@www.goiasfomento.com
SUMMARY:Rufino Veríssimo:  Reunião com Luiz Arthur Medeiros Miguel - Gerente de Licitação e Contratos.
DESCRIPTION:
URL:https://www.goiasfomento.com/agenda/rufino-verissimo-reuniao-com-luiz-arthur-medeiros-miguel-gerente-de-licitacao-e-contratos-22/
LOCATION:Gabinete da Diretoria de Operações da GoiásFomento – Agência de Fomento de Goiás.
CATEGORIES:Diretoria de Operações
END:VEVENT
BEGIN:VEVENT
DTSTART;TZID=America/Sao_Paulo:20250508T100000
DTEND;TZID=America/Sao_Paulo:20250508T103000
DTSTAMP:20260425T124504
CREATED:20250508T180042Z
LAST-MODIFIED:20250508T180042Z
UID:43054-1746698400-1746700200@www.goiasfomento.com
SUMMARY:Rufino Veríssimo – Diretor Presidente (Em substituição):  Reunião com José Marco Ferreira de Barri - Gerente Financeiro.
DESCRIPTION:
URL:https://www.goiasfomento.com/agenda/rufino-verissimo-diretor-presidente-em-substituicao-reuniao-com-jose-marco-ferreira-de-barri-gerente-financeiro-8/
LOCATION:Gabinete da Diretoria de Operações da GoiásFomento – Agência de Fomento de Goiás.
CATEGORIES:Presidência
END:VEVENT
BEGIN:VEVENT
DTSTART;TZID=America/Sao_Paulo:20250508T100000
DTEND;TZID=America/Sao_Paulo:20250508T103000
DTSTAMP:20260425T124504
CREATED:20250508T180252Z
LAST-MODIFIED:20250508T180252Z
UID:43056-1746698400-1746700200@www.goiasfomento.com
SUMMARY:Rufino Veríssimo:  Reunião com José Marco Ferreira de Barri - Gerente Financeiro.
DESCRIPTION:
URL:https://www.goiasfomento.com/agenda/rufino-verissimo-reuniao-com-jose-marco-ferreira-de-barri-gerente-financeiro-11/
LOCATION:Gabinete da Diretoria de Operações da GoiásFomento – Agência de Fomento de Goiás.
CATEGORIES:Diretoria de Operações
END:VEVENT
BEGIN:VEVENT
DTSTART;TZID=America/Sao_Paulo:20250508T103000
DTEND;TZID=America/Sao_Paulo:20250508T110000
DTSTAMP:20260425T124504
CREATED:20250508T180410Z
LAST-MODIFIED:20250508T180410Z
UID:43058-1746700200-1746702000@www.goiasfomento.com
SUMMARY:Rufino Veríssimo – Diretor Presidente (Em substituição): Reunião Empresa Inttegra.
DESCRIPTION:
URL:https://www.goiasfomento.com/agenda/rufino-verissimo-diretor-presidente-em-substituicao-reuniao-empresa-inttegra/
LOCATION:Gabinete da Diretoria de Operações da GoiásFomento – Agência de Fomento de Goiás.
CATEGORIES:Presidência
END:VEVENT
BEGIN:VEVENT
DTSTART;TZID=America/Sao_Paulo:20250508T103000
DTEND;TZID=America/Sao_Paulo:20250508T110000
DTSTAMP:20260425T124504
CREATED:20250508T180453Z
LAST-MODIFIED:20250508T180501Z
UID:43060-1746700200-1746702000@www.goiasfomento.com
SUMMARY:Rufino Veríssimo: Reunião com a  Empresa Inttegra.
DESCRIPTION:
URL:https://www.goiasfomento.com/agenda/rufino-verissimo-reuniao-com-a-empresa-inttegra/
LOCATION:Gabinete da Diretoria de Operações da GoiásFomento – Agência de Fomento de Goiás.
CATEGORIES:Diretoria de Operações
END:VEVENT
BEGIN:VEVENT
DTSTART;TZID=America/Sao_Paulo:20250508T110000
DTEND;TZID=America/Sao_Paulo:20250508T123000
DTSTAMP:20260425T124504
CREATED:20250508T180525Z
LAST-MODIFIED:20250508T180525Z
UID:43064-1746702000-1746707400@www.goiasfomento.com
SUMMARY:Rufino Veríssimo – Diretor Presidente (Em substituição): Reunião GF\, SEDS e Empresa Inttegra.
DESCRIPTION:
URL:https://www.goiasfomento.com/agenda/rufino-verissimo-diretor-presidente-em-substituicao-reuniao-gf-seds-e-empresa-inttegra-2/
LOCATION:Gabinete da Diretoria de Operações da GoiásFomento – Agência de Fomento de Goiás.
CATEGORIES:Presidência
END:VEVENT
BEGIN:VEVENT
DTSTART;TZID=America/Sao_Paulo:20250508T110000
DTEND;TZID=America/Sao_Paulo:20250508T123000
DTSTAMP:20260425T124504
CREATED:20250508T180555Z
LAST-MODIFIED:20250508T180555Z
UID:43066-1746702000-1746707400@www.goiasfomento.com
SUMMARY:Rufino Veríssimo: Reunião GF\, SEDS e Empresa Inttegra.
DESCRIPTION:
URL:https://www.goiasfomento.com/agenda/rufino-verissimo-reuniao-gf-seds-e-empresa-inttegra-2/
LOCATION:Gabinete da Diretoria de Operações da GoiásFomento – Agência de Fomento de Goiás.
CATEGORIES:Diretoria de Operações
END:VEVENT
BEGIN:VEVENT
DTSTART;TZID=America/Sao_Paulo:20250508T123000
DTEND;TZID=America/Sao_Paulo:20250508T130000
DTSTAMP:20260425T124504
CREATED:20250508T180635Z
LAST-MODIFIED:20250508T180635Z
UID:43068-1746707400-1746709200@www.goiasfomento.com
SUMMARY:Rufino Veríssimo – Diretor Presidente (Em substituição): Reunião GF e Empresa Inttegra.
DESCRIPTION:
URL:https://www.goiasfomento.com/agenda/rufino-verissimo-diretor-presidente-em-substituicao-reuniao-gf-e-empresa-inttegra/
LOCATION:Gabinete da Diretoria de Operações da GoiásFomento – Agência de Fomento de Goiás.
CATEGORIES:Presidência
END:VEVENT
BEGIN:VEVENT
DTSTART;TZID=America/Sao_Paulo:20250508T123000
DTEND;TZID=America/Sao_Paulo:20250508T130000
DTSTAMP:20260425T124504
CREATED:20250508T193601Z
LAST-MODIFIED:20250508T193601Z
UID:43070-1746707400-1746709200@www.goiasfomento.com
SUMMARY:Rufino Veríssimo: Reunião GF e Empresa Inttegra.
DESCRIPTION:
URL:https://www.goiasfomento.com/agenda/rufino-verissimo-reuniao-gf-e-empresa-inttegra/
LOCATION:Gabinete da Diretoria de Operações da GoiásFomento – Agência de Fomento de Goiás.
CATEGORIES:Diretoria de Operações
END:VEVENT
BEGIN:VEVENT
DTSTART;TZID=America/Sao_Paulo:20250508T140000
DTEND;TZID=America/Sao_Paulo:20250508T143000
DTSTAMP:20260425T124504
CREATED:20250508T194012Z
LAST-MODIFIED:20250508T194012Z
UID:43080-1746712800-1746714600@www.goiasfomento.com
SUMMARY:Rufino Veríssimo – Diretor Presidente (Em substituição): Reunião com Wagner Siqueira Coelho – Gerente de Prospecção de Negócios.
DESCRIPTION:
URL:https://www.goiasfomento.com/agenda/rufino-verissimo-diretor-presidente-em-substituicao-reuniao-com-wagner-siqueira-coelho-gerente-de-prospeccao-de-negocios-11/
LOCATION:Gabinete da Diretoria de Operações da GoiásFomento – Agência de Fomento de Goiás.
CATEGORIES:Presidência
END:VEVENT
BEGIN:VEVENT
DTSTART;TZID=America/Sao_Paulo:20250508T140000
DTEND;TZID=America/Sao_Paulo:20250508T143000
DTSTAMP:20260425T124504
CREATED:20250508T194044Z
LAST-MODIFIED:20250508T194044Z
UID:43082-1746712800-1746714600@www.goiasfomento.com
SUMMARY:Rufino Veríssimo – Diretor Presidente (Em substituição): Reunião com Wagner Siqueira Coelho – Gerente de Prospecção de Negócios.
DESCRIPTION:
URL:https://www.goiasfomento.com/agenda/rufino-verissimo-diretor-presidente-em-substituicao-reuniao-com-wagner-siqueira-coelho-gerente-de-prospeccao-de-negocios-12/
LOCATION:Gabinete da Diretoria de Operações da GoiásFomento – Agência de Fomento de Goiás.
CATEGORIES:Diretoria de Operações
END:VEVENT
BEGIN:VEVENT
DTSTART;TZID=America/Sao_Paulo:20250508T140000
DTEND;TZID=America/Sao_Paulo:20250508T150000
DTSTAMP:20260425T124504
CREATED:20250508T193005Z
LAST-MODIFIED:20250508T193005Z
UID:43073-1746712800-1746716400@www.goiasfomento.com
SUMMARY:Deivison Costa: Despachos Internos.
DESCRIPTION:
URL:https://www.goiasfomento.com/agenda/deivison-costa-despachos-internos-77/
LOCATION:Chefia de Gabinete – Agência de Fomento de Goiás
CATEGORIES:Chefia de Gabinete
END:VEVENT
BEGIN:VEVENT
DTSTART;TZID=America/Sao_Paulo:20250508T143000
DTEND;TZID=America/Sao_Paulo:20250508T150000
DTSTAMP:20260425T124504
CREATED:20250508T194633Z
LAST-MODIFIED:20250508T194633Z
UID:43084-1746714600-1746716400@www.goiasfomento.com
SUMMARY:Rufino Veríssimo – Diretor Presidente (Em substituição): Reunião com Alexsander de Oliveira Linhares - Gerente de Parcerias e Operações Estruturadas.
DESCRIPTION:
URL:https://www.goiasfomento.com/agenda/rufino-verissimo-diretor-presidente-em-substituicao-reuniao-com-alexsander-de-oliveira-linhares-gerente-de-parcerias-e-operacoes-estruturadas-6/
LOCATION:Gabinete da Diretoria de Operações da GoiásFomento – Agência de Fomento de Goiás.
CATEGORIES:Presidência
END:VEVENT
BEGIN:VEVENT
DTSTART;TZID=America/Sao_Paulo:20250508T143000
DTEND;TZID=America/Sao_Paulo:20250508T150000
DTSTAMP:20260425T124504
CREATED:20250508T194740Z
LAST-MODIFIED:20250508T194740Z
UID:43086-1746714600-1746716400@www.goiasfomento.com
SUMMARY:Rufino Veríssimo: Reunião com Alexsander de Oliveira Linhares - Gerente de Parcerias e Operações Estruturadas.
DESCRIPTION:
URL:https://www.goiasfomento.com/agenda/rufino-verissimo-reuniao-com-alexsander-de-oliveira-linhares-gerente-de-parcerias-e-operacoes-estruturadas-11/
LOCATION:Gabinete da Diretoria de Operações da GoiásFomento – Agência de Fomento de Goiás.
CATEGORIES:Diretoria de Operações
END:VEVENT
BEGIN:VEVENT
DTSTART;TZID=America/Sao_Paulo:20250508T150000
DTEND;TZID=America/Sao_Paulo:20250508T153000
DTSTAMP:20260425T124504
CREATED:20250508T195210Z
LAST-MODIFIED:20250508T195210Z
UID:43096-1746716400-1746718200@www.goiasfomento.com
SUMMARY:Rufino Veríssimo – Diretor Presidente (Em substituição): Reunião com Paulo Cesar Paiva - Assessor de Estratégia e Planejamento.
DESCRIPTION:
URL:https://www.goiasfomento.com/agenda/rufino-verissimo-diretor-presidente-em-substituicao-reuniao-com-paulo-cesar-paiva-assessor-de-estrategia-e-planejamento-26/
LOCATION:Gabinete da Diretoria de Operações da GoiásFomento – Agência de Fomento de Goiás.
CATEGORIES:Presidência
END:VEVENT
BEGIN:VEVENT
DTSTART;TZID=America/Sao_Paulo:20250508T150000
DTEND;TZID=America/Sao_Paulo:20250508T153000
DTSTAMP:20260425T124504
CREATED:20250508T195241Z
LAST-MODIFIED:20250508T195241Z
UID:43098-1746716400-1746718200@www.goiasfomento.com
SUMMARY:Rufino Veríssimo: Reunião com Paulo Cesar Paiva - Assessor de Estratégia e Planejamento.
DESCRIPTION:
URL:https://www.goiasfomento.com/agenda/rufino-verissimo-reuniao-com-paulo-cesar-paiva-assessor-de-estrategia-e-planejamento-33/
LOCATION:Gabinete da Diretoria de Operações da GoiásFomento – Agência de Fomento de Goiás.
CATEGORIES:Diretoria de Operações
END:VEVENT
BEGIN:VEVENT
DTSTART;TZID=America/Sao_Paulo:20250508T150000
DTEND;TZID=America/Sao_Paulo:20250508T160000
DTSTAMP:20260425T124504
CREATED:20250508T193319Z
LAST-MODIFIED:20250508T193319Z
UID:43075-1746716400-1746720000@www.goiasfomento.com
SUMMARY:Deivison Costa: Reunião com o Desembargador Wilson da Silva Dias.
DESCRIPTION:
URL:https://www.goiasfomento.com/agenda/deivison-costa-reuniao-com-o-desembargador-wilson-da-silva-dias/
LOCATION:Tribunal de Justiça/GO.
CATEGORIES:Chefia de Gabinete
END:VEVENT
BEGIN:VEVENT
DTSTART;TZID=America/Sao_Paulo:20250508T153000
DTEND;TZID=America/Sao_Paulo:20250508T160000
DTSTAMP:20260425T124504
CREATED:20250508T195052Z
LAST-MODIFIED:20250508T195052Z
UID:43092-1746718200-1746720000@www.goiasfomento.com
SUMMARY:Rufino Veríssimo – Diretor Presidente (Em substituição): Reunião com Maria Terezinha da Mota Batista – Assessora Técnica de Contabilidade.
DESCRIPTION:
URL:https://www.goiasfomento.com/agenda/rufino-verissimo-diretor-presidente-em-substituicao-reuniao-com-maria-terezinha-da-mota-batista-assessora-tecnica-de-contabilidade-22/
LOCATION:Gabinete da Diretoria de Operações da GoiásFomento – Agência de Fomento de Goiás.
CATEGORIES:Presidência
END:VEVENT
BEGIN:VEVENT
DTSTART;TZID=America/Sao_Paulo:20250508T153000
DTEND;TZID=America/Sao_Paulo:20250508T160000
DTSTAMP:20260425T124504
CREATED:20250508T195119Z
LAST-MODIFIED:20250508T195119Z
UID:43094-1746718200-1746720000@www.goiasfomento.com
SUMMARY:Rufino Veríssimo: Reunião com Maria Terezinha da Mota Batista – Assessora Técnica de Contabilidade.
DESCRIPTION:
URL:https://www.goiasfomento.com/agenda/rufino-verissimo-reuniao-com-maria-terezinha-da-mota-batista-assessora-tecnica-de-contabilidade-21/
LOCATION:Gabinete da Diretoria de Operações da GoiásFomento – Agência de Fomento de Goiás.
CATEGORIES:Diretoria de Operações
END:VEVENT
BEGIN:VEVENT
DTSTART;TZID=America/Sao_Paulo:20250508T160000
DTEND;TZID=America/Sao_Paulo:20250508T163000
DTSTAMP:20260425T124504
CREATED:20250508T194944Z
LAST-MODIFIED:20250508T194944Z
UID:43088-1746720000-1746721800@www.goiasfomento.com
SUMMARY:Rufino Veríssimo – Diretor Presidente (Em substituição): Reunião com Porthos R. de Albuquerque Motta - Assessor de Gerenciamento de Riscos e Escritório de Projetos.
DESCRIPTION:
URL:https://www.goiasfomento.com/agenda/rufino-verissimo-diretor-presidente-em-substituicao-reuniao-com-porthos-r-de-albuquerque-motta-assessor-de-gerenciamento-de-riscos-e-escritorio-de-projetos-8/
LOCATION:Gabinete da Diretoria de Operações da GoiásFomento – Agência de Fomento de Goiás.
CATEGORIES:Presidência
END:VEVENT
BEGIN:VEVENT
DTSTART;TZID=America/Sao_Paulo:20250508T160000
DTEND;TZID=America/Sao_Paulo:20250508T163000
DTSTAMP:20260425T124504
CREATED:20250508T195017Z
LAST-MODIFIED:20250508T195017Z
UID:43090-1746720000-1746721800@www.goiasfomento.com
SUMMARY:Rufino Veríssimo: Reunião com Porthos R. de Albuquerque Motta - Assessor de Gerenciamento de Riscos e Escritório de Projetos.
DESCRIPTION:
URL:https://www.goiasfomento.com/agenda/rufino-verissimo-reuniao-com-porthos-r-de-albuquerque-motta-assessor-de-gerenciamento-de-riscos-e-escritorio-de-projetos-9/
LOCATION:Gabinete da Diretoria de Operações da GoiásFomento – Agência de Fomento de Goiás.
CATEGORIES:Diretoria de Operações
END:VEVENT
END:VCALENDAR