BEGIN:VCALENDAR
VERSION:2.0
PRODID:-//GoiásFomento - Agência de Fomento - ECPv6.15.20//NONSGML v1.0//EN
CALSCALE:GREGORIAN
METHOD:PUBLISH
X-WR-CALNAME:GoiásFomento - Agência de Fomento
X-ORIGINAL-URL:https://www.goiasfomento.com
X-WR-CALDESC:Eventos para GoiásFomento - Agência de Fomento
REFRESH-INTERVAL;VALUE=DURATION:PT1H
X-Robots-Tag:noindex
X-PUBLISHED-TTL:PT1H
BEGIN:VTIMEZONE
TZID:America/Sao_Paulo
BEGIN:STANDARD
TZOFFSETFROM:-0300
TZOFFSETTO:-0300
TZNAME:-03
DTSTART:20240101T000000
END:STANDARD
END:VTIMEZONE
BEGIN:VEVENT
DTSTART;TZID=America/Sao_Paulo:20250501T080000
DTEND;TZID=America/Sao_Paulo:20250511T170000
DTSTAMP:20260425T124452
CREATED:20250506T195036Z
LAST-MODIFIED:20250506T195554Z
UID:42908-1746086400-1746982800@www.goiasfomento.com
SUMMARY:Cargo Vago desde 19/03/2025.
DESCRIPTION:
URL:https://www.goiasfomento.com/agenda/cargo-vago-desde-19-03-2025-5/
CATEGORIES:Diretoria Administrativa e Financeira
END:VEVENT
BEGIN:VEVENT
DTSTART;TZID=America/Sao_Paulo:20250507T070000
DTEND;TZID=America/Sao_Paulo:20250507T090000
DTSTAMP:20260425T124452
CREATED:20250507T122641Z
LAST-MODIFIED:20250507T122641Z
UID:42922-1746601200-1746608400@www.goiasfomento.com
SUMMARY:Rufino Veríssimo – Diretor Presidente (Em substituição): Despachos Internos.
DESCRIPTION:
URL:https://www.goiasfomento.com/agenda/rufino-verissimo-diretor-presidente-em-substituicao-despachos-internos-70/
LOCATION:Gabinete da Diretoria de Operações da GoiásFomento – Agência de Fomento de Goiás.
CATEGORIES:Presidência
END:VEVENT
BEGIN:VEVENT
DTSTART;TZID=America/Sao_Paulo:20250507T070000
DTEND;TZID=America/Sao_Paulo:20250507T090000
DTSTAMP:20260425T124452
CREATED:20250507T122712Z
LAST-MODIFIED:20250507T122712Z
UID:42924-1746601200-1746608400@www.goiasfomento.com
SUMMARY:Rufino Veríssimo: Despachos Internos.
DESCRIPTION:
URL:https://www.goiasfomento.com/agenda/rufino-verissimo-despachos-internos-282/
LOCATION:Gabinete da Diretoria de Operações da GoiásFomento – Agência de Fomento de Goiás.
CATEGORIES:Diretoria de Operações
END:VEVENT
BEGIN:VEVENT
DTSTART;TZID=America/Sao_Paulo:20250507T080000
DTEND;TZID=America/Sao_Paulo:20250507T120000
DTSTAMP:20260425T124452
CREATED:20250507T120916Z
LAST-MODIFIED:20250507T120916Z
UID:42918-1746604800-1746619200@www.goiasfomento.com
SUMMARY:Deivison Costa: Despachos Internos.
DESCRIPTION:
URL:https://www.goiasfomento.com/agenda/deivison-costa-despachos-internos-74/
LOCATION:Chefia de Gabinete – Agência de Fomento de Goiás
CATEGORIES:Chefia de Gabinete
END:VEVENT
BEGIN:VEVENT
DTSTART;TZID=America/Sao_Paulo:20250507T090000
DTEND;TZID=America/Sao_Paulo:20250507T093000
DTSTAMP:20260425T124452
CREATED:20250507T125049Z
LAST-MODIFIED:20250507T125049Z
UID:42926-1746608400-1746610200@www.goiasfomento.com
SUMMARY:Rufino Veríssimo – Diretor Presidente (Em substituição): Reunião com Rafael Soffa Rézio – Gerente de Programas e Políticas Sociais.
DESCRIPTION:
URL:https://www.goiasfomento.com/agenda/rufino-verissimo-diretor-presidente-em-substituicao-reuniao-com-rafael-soffa-rezio-gerente-de-programas-e-politicas-sociais-37/
LOCATION:Gabinete da Diretoria de Operações da GoiásFomento – Agência de Fomento de Goiás.
CATEGORIES:Presidência
END:VEVENT
BEGIN:VEVENT
DTSTART;TZID=America/Sao_Paulo:20250507T090000
DTEND;TZID=America/Sao_Paulo:20250507T093000
DTSTAMP:20260425T124452
CREATED:20250507T125119Z
LAST-MODIFIED:20250507T125119Z
UID:42928-1746608400-1746610200@www.goiasfomento.com
SUMMARY:Rufino Veríssimo: Reunião com Rafael Soffa Rézio – Gerente de Programas e Políticas Sociais.
DESCRIPTION:
URL:https://www.goiasfomento.com/agenda/rufino-verissimo-reuniao-com-rafael-soffa-rezio-gerente-de-programas-e-politicas-sociais-50/
LOCATION:Gabinete da Diretoria de Operações da GoiásFomento – Agência de Fomento de Goiás.
CATEGORIES:Diretoria de Operações
END:VEVENT
BEGIN:VEVENT
DTSTART;TZID=America/Sao_Paulo:20250507T093000
DTEND;TZID=America/Sao_Paulo:20250507T100000
DTSTAMP:20260425T124452
CREATED:20250507T125319Z
LAST-MODIFIED:20250507T125319Z
UID:42930-1746610200-1746612000@www.goiasfomento.com
SUMMARY:Rufino Veríssimo – Diretor Presidente (Em substituição): Reunião com Maria Terezinha da Mota Batista – Assessora Técnica de Contabilidade.
DESCRIPTION:
URL:https://www.goiasfomento.com/agenda/rufino-verissimo-diretor-presidente-em-substituicao-reuniao-com-maria-terezinha-da-mota-batista-assessora-tecnica-de-contabilidade-21/
LOCATION:Gabinete da Diretoria de Operações da GoiásFomento – Agência de Fomento de Goiás.
CATEGORIES:Presidência
END:VEVENT
BEGIN:VEVENT
DTSTART;TZID=America/Sao_Paulo:20250507T093000
DTEND;TZID=America/Sao_Paulo:20250507T100000
DTSTAMP:20260425T124452
CREATED:20250507T125359Z
LAST-MODIFIED:20250507T125359Z
UID:42932-1746610200-1746612000@www.goiasfomento.com
SUMMARY:Rufino Veríssimo: Reunião com Maria Terezinha da Mota Batista – Assessora Técnica de Contabilidade.
DESCRIPTION:
URL:https://www.goiasfomento.com/agenda/rufino-verissimo-reuniao-com-maria-terezinha-da-mota-batista-assessora-tecnica-de-contabilidade-20/
LOCATION:Gabinete da Diretoria de Operações da GoiásFomento – Agência de Fomento de Goiás.
CATEGORIES:Diretoria de Operações
END:VEVENT
BEGIN:VEVENT
DTSTART;TZID=America/Sao_Paulo:20250507T100000
DTEND;TZID=America/Sao_Paulo:20250507T103000
DTSTAMP:20260425T124452
CREATED:20250507T132341Z
LAST-MODIFIED:20250507T132341Z
UID:42934-1746612000-1746613800@www.goiasfomento.com
SUMMARY:Rufino Veríssimo – Diretor Presidente (Em substituição): Reunião com Porthos R. de Albuquerque Motta - Assessor de Gerenciamento de Riscos e Escritório de Projetos.
DESCRIPTION:
URL:https://www.goiasfomento.com/agenda/rufino-verissimo-diretor-presidente-em-substituicao-reuniao-com-porthos-r-de-albuquerque-motta-assessor-de-gerenciamento-de-riscos-e-escritorio-de-projetos-7/
LOCATION:Gabinete da Diretoria de Operações da GoiásFomento – Agência de Fomento de Goiás.
CATEGORIES:Presidência
END:VEVENT
BEGIN:VEVENT
DTSTART;TZID=America/Sao_Paulo:20250507T100000
DTEND;TZID=America/Sao_Paulo:20250507T103000
DTSTAMP:20260425T124452
CREATED:20250507T132505Z
LAST-MODIFIED:20250507T132505Z
UID:42936-1746612000-1746613800@www.goiasfomento.com
SUMMARY:Rufino Veríssimo: Reunião com Porthos R. de Albuquerque Motta - Assessor de Gerenciamento de Riscos e Escritório de Projetos.
DESCRIPTION:
URL:https://www.goiasfomento.com/agenda/rufino-verissimo-reuniao-com-porthos-r-de-albuquerque-motta-assessor-de-gerenciamento-de-riscos-e-escritorio-de-projetos-8/
LOCATION:Gabinete da Diretoria de Operações da GoiásFomento – Agência de Fomento de Goiás.
CATEGORIES:Diretoria de Operações
END:VEVENT
BEGIN:VEVENT
DTSTART;TZID=America/Sao_Paulo:20250507T103000
DTEND;TZID=America/Sao_Paulo:20250507T104500
DTSTAMP:20260425T124452
CREATED:20250507T135139Z
LAST-MODIFIED:20250507T135139Z
UID:42938-1746613800-1746614700@www.goiasfomento.com
SUMMARY:Rufino Veríssimo – Diretor Presidente (Em substituição): Reunião com Luiz Carlos dos Santos Sardinha - Gerente de Tecnologia da Informação.
DESCRIPTION:
URL:https://www.goiasfomento.com/agenda/rufino-verissimo-diretor-presidente-em-substituicao-reuniao-com-luiz-carlos-dos-santos-sardinha-gerente-de-tecnologia-da-informacao-2/
LOCATION:Gabinete da Diretoria de Operações da GoiásFomento – Agência de Fomento de Goiás.
CATEGORIES:Presidência
END:VEVENT
BEGIN:VEVENT
DTSTART;TZID=America/Sao_Paulo:20250507T103000
DTEND;TZID=America/Sao_Paulo:20250507T104500
DTSTAMP:20260425T124452
CREATED:20250507T135212Z
LAST-MODIFIED:20250507T135212Z
UID:42940-1746613800-1746614700@www.goiasfomento.com
SUMMARY:Rufino Veríssimo: Reunião com Luiz Carlos dos Santos Sardinha - Gerente de Tecnologia da Informação.
DESCRIPTION:
URL:https://www.goiasfomento.com/agenda/rufino-verissimo-reuniao-com-luiz-carlos-dos-santos-sardinha-gerente-de-tecnologia-da-informacao-4/
LOCATION:Gabinete da Diretoria de Operações da GoiásFomento – Agência de Fomento de Goiás.
CATEGORIES:Diretoria de Operações
END:VEVENT
BEGIN:VEVENT
DTSTART;TZID=America/Sao_Paulo:20250507T104500
DTEND;TZID=America/Sao_Paulo:20250507T110000
DTSTAMP:20260425T124452
CREATED:20250507T135708Z
LAST-MODIFIED:20250507T135936Z
UID:42950-1746614700-1746615600@www.goiasfomento.com
SUMMARY:Rufino Veríssimo – Diretor Presidente (Em substituição): Reunião com José Marco Ferreira de Barri - Gerente Financeiro.
DESCRIPTION:
URL:https://www.goiasfomento.com/agenda/rufino-verissimo-diretor-presidente-em-substituicao-reuniao-com-jose-marco-ferreira-de-barri-gerente-financeiro-6/
LOCATION:Gabinete da Diretoria de Operações da GoiásFomento – Agência de Fomento de Goiás.
CATEGORIES:Presidência
END:VEVENT
BEGIN:VEVENT
DTSTART;TZID=America/Sao_Paulo:20250507T104500
DTEND;TZID=America/Sao_Paulo:20250507T110000
DTSTAMP:20260425T124452
CREATED:20250507T135746Z
LAST-MODIFIED:20250507T135907Z
UID:42952-1746614700-1746615600@www.goiasfomento.com
SUMMARY:Rufino Veríssimo: Reunião com José Marco Ferreira de Barri - Gerente Financeiro.
DESCRIPTION:
URL:https://www.goiasfomento.com/agenda/rufino-verissimo-reuniao-com-jose-marco-ferreira-de-barri-gerente-financeiro-9/
LOCATION:Gabinete da Diretoria de Operações da GoiásFomento – Agência de Fomento de Goiás.
CATEGORIES:Diretoria de Operações
END:VEVENT
BEGIN:VEVENT
DTSTART;TZID=America/Sao_Paulo:20250507T110000
DTEND;TZID=America/Sao_Paulo:20250507T111500
DTSTAMP:20260425T124452
CREATED:20250507T135525Z
LAST-MODIFIED:20250507T135525Z
UID:42946-1746615600-1746616500@www.goiasfomento.com
SUMMARY:Rufino Veríssimo – Diretor Presidente (Em substituição): Reunião com Alexsander de Oliveira Linhares - Gerente de Parcerias e Operações Estruturadas.
DESCRIPTION:
URL:https://www.goiasfomento.com/agenda/rufino-verissimo-diretor-presidente-em-substituicao-reuniao-com-alexsander-de-oliveira-linhares-gerente-de-parcerias-e-operacoes-estruturadas-4/
LOCATION:Gabinete da Diretoria de Operações da GoiásFomento – Agência de Fomento de Goiás.
CATEGORIES:Presidência
END:VEVENT
BEGIN:VEVENT
DTSTART;TZID=America/Sao_Paulo:20250507T110000
DTEND;TZID=America/Sao_Paulo:20250507T111500
DTSTAMP:20260425T124452
CREATED:20250507T135558Z
LAST-MODIFIED:20250507T135558Z
UID:42948-1746615600-1746616500@www.goiasfomento.com
SUMMARY:Rufino Veríssimo: Reunião com Alexsander de Oliveira Linhares - Gerente de Parcerias e Operações Estruturadas.
DESCRIPTION:
URL:https://www.goiasfomento.com/agenda/rufino-verissimo-reuniao-com-alexsander-de-oliveira-linhares-gerente-de-parcerias-e-operacoes-estruturadas-9/
LOCATION:Gabinete da Diretoria de Operações da GoiásFomento – Agência de Fomento de Goiás.
CATEGORIES:Diretoria de Operações
END:VEVENT
BEGIN:VEVENT
DTSTART;TZID=America/Sao_Paulo:20250507T111500
DTEND;TZID=America/Sao_Paulo:20250507T113000
DTSTAMP:20260425T124452
CREATED:20250507T140134Z
LAST-MODIFIED:20250507T140134Z
UID:42954-1746616500-1746617400@www.goiasfomento.com
SUMMARY:Rufino Veríssimo – Diretor Presidente (Em substituição): Reunião com Rafael Soffa Rézio – Gerente de Programas e Políticas Sociais.
DESCRIPTION:
URL:https://www.goiasfomento.com/agenda/rufino-verissimo-diretor-presidente-em-substituicao-reuniao-com-rafael-soffa-rezio-gerente-de-programas-e-politicas-sociais-39/
LOCATION:Gabinete da Diretoria de Operações da GoiásFomento – Agência de Fomento de Goiás.
CATEGORIES:Presidência
END:VEVENT
BEGIN:VEVENT
DTSTART;TZID=America/Sao_Paulo:20250507T111500
DTEND;TZID=America/Sao_Paulo:20250507T113000
DTSTAMP:20260425T124452
CREATED:20250507T140207Z
LAST-MODIFIED:20250507T140207Z
UID:42956-1746616500-1746617400@www.goiasfomento.com
SUMMARY:Rufino Veríssimo: Reunião com Rafael Soffa Rézio – Gerente de Programas e Políticas Sociais.
DESCRIPTION:
URL:https://www.goiasfomento.com/agenda/rufino-verissimo-reuniao-com-rafael-soffa-rezio-gerente-de-programas-e-politicas-sociais-52/
LOCATION:Gabinete da Diretoria de Operações da GoiásFomento – Agência de Fomento de Goiás.
CATEGORIES:Diretoria de Operações
END:VEVENT
BEGIN:VEVENT
DTSTART;TZID=America/Sao_Paulo:20250507T113000
DTEND;TZID=America/Sao_Paulo:20250507T114500
DTSTAMP:20260425T124452
CREATED:20250507T140846Z
LAST-MODIFIED:20250507T140846Z
UID:42958-1746617400-1746618300@www.goiasfomento.com
SUMMARY:Rufino Veríssimo – Diretor Presidente (Em substituição): Reunião com Gibran Carvalho Abrão - Gerente de Serviços Gerais e Patrimônio.
DESCRIPTION:
URL:https://www.goiasfomento.com/agenda/rufino-verissimo-diretor-presidente-em-substituicao-reuniao-com-gibran-carvalho-abrao-gerente-de-servicos-gerais-e-patrimonio-6/
LOCATION:Gabinete da Diretoria de Operações da GoiásFomento – Agência de Fomento de Goiás.
CATEGORIES:Presidência
END:VEVENT
BEGIN:VEVENT
DTSTART;TZID=America/Sao_Paulo:20250507T113000
DTEND;TZID=America/Sao_Paulo:20250507T114500
DTSTAMP:20260425T124452
CREATED:20250507T140919Z
LAST-MODIFIED:20250507T140919Z
UID:42960-1746617400-1746618300@www.goiasfomento.com
SUMMARY:Rufino Veríssimo: Reunião com Gibran Carvalho Abrão - Gerente de Serviços Gerais e Patrimônio.
DESCRIPTION:
URL:https://www.goiasfomento.com/agenda/rufino-verissimo-reuniao-com-gibran-carvalho-abrao-gerente-de-servicos-gerais-e-patrimonio-6/
LOCATION:Gabinete da Diretoria de Operações da GoiásFomento – Agência de Fomento de Goiás.
CATEGORIES:Diretoria de Operações
END:VEVENT
BEGIN:VEVENT
DTSTART;TZID=America/Sao_Paulo:20250507T114500
DTEND;TZID=America/Sao_Paulo:20250507T120000
DTSTAMP:20260425T124452
CREATED:20250507T150055Z
LAST-MODIFIED:20250507T150431Z
UID:42962-1746618300-1746619200@www.goiasfomento.com
SUMMARY:Rufino Veríssimo – Diretor Presidente (Em substituição): Reunião com Paulo Cesar Paiva - Assessor de Estratégia e Planejamento.
DESCRIPTION:
URL:https://www.goiasfomento.com/agenda/rufino-verissimo-diretor-presidente-em-substituicao-reuniao-com-paulo-cesar-paiva-assessor-de-estrategia-e-planejamento-24/
LOCATION:Gabinete da Diretoria de Operações da GoiásFomento – Agência de Fomento de Goiás.
CATEGORIES:Presidência
END:VEVENT
BEGIN:VEVENT
DTSTART;TZID=America/Sao_Paulo:20250507T114500
DTEND;TZID=America/Sao_Paulo:20250507T120000
DTSTAMP:20260425T124452
CREATED:20250507T150122Z
LAST-MODIFIED:20250507T150411Z
UID:42964-1746618300-1746619200@www.goiasfomento.com
SUMMARY:Rufino Veríssimo: Reunião com Paulo Cesar Paiva - Assessor de Estratégia e Planejamento.
DESCRIPTION:
URL:https://www.goiasfomento.com/agenda/rufino-verissimo-reuniao-com-paulo-cesar-paiva-assessor-de-estrategia-e-planejamento-31/
LOCATION:Gabinete da Diretoria de Operações da GoiásFomento – Agência de Fomento de Goiás.
CATEGORIES:Diretoria de Operações
END:VEVENT
BEGIN:VEVENT
DTSTART;TZID=America/Sao_Paulo:20250507T120000
DTEND;TZID=America/Sao_Paulo:20250507T123000
DTSTAMP:20260425T124452
CREATED:20250507T150206Z
LAST-MODIFIED:20250507T150220Z
UID:42966-1746619200-1746621000@www.goiasfomento.com
SUMMARY:Rufino Veríssimo – Diretor Presidente (Em substituição): Reunião com Rafael Soffa Rézio – Gerente de Programas e Políticas Sociais.
DESCRIPTION:
URL:https://www.goiasfomento.com/agenda/rufino-verissimo-diretor-presidente-em-substituicao-reuniao-com-rafael-soffa-rezio-gerente-de-programas-e-politicas-sociais-40/
LOCATION:Gabinete da Diretoria de Operações da GoiásFomento – Agência de Fomento de Goiás.
CATEGORIES:Presidência
END:VEVENT
BEGIN:VEVENT
DTSTART;TZID=America/Sao_Paulo:20250507T120000
DTEND;TZID=America/Sao_Paulo:20250507T123000
DTSTAMP:20260425T124452
CREATED:20250507T150247Z
LAST-MODIFIED:20250507T150247Z
UID:42969-1746619200-1746621000@www.goiasfomento.com
SUMMARY:Rufino Veríssimo: Reunião com Rafael Soffa Rézio – Gerente de Programas e Políticas Sociais.
DESCRIPTION:
URL:https://www.goiasfomento.com/agenda/rufino-verissimo-reuniao-com-rafael-soffa-rezio-gerente-de-programas-e-politicas-sociais-51/
LOCATION:Gabinete da Diretoria de Operações da GoiásFomento – Agência de Fomento de Goiás.
CATEGORIES:Diretoria de Operações
END:VEVENT
BEGIN:VEVENT
DTSTART;TZID=America/Sao_Paulo:20250507T133000
DTEND;TZID=America/Sao_Paulo:20250507T140000
DTSTAMP:20260425T124452
CREATED:20250507T175809Z
LAST-MODIFIED:20250507T193102Z
UID:42992-1746624600-1746626400@www.goiasfomento.com
SUMMARY:Rufino Veríssimo – Diretor Presidente (Em substituição): Despachos Internos.
DESCRIPTION:
URL:https://www.goiasfomento.com/agenda/rufino-verissimo-diretor-presidente-em-substituicao-despachos-internos-71/
LOCATION:Gabinete da Diretoria de Operações da GoiásFomento – Agência de Fomento de Goiás.
CATEGORIES:Presidência
END:VEVENT
BEGIN:VEVENT
DTSTART;TZID=America/Sao_Paulo:20250507T133000
DTEND;TZID=America/Sao_Paulo:20250507T140000
DTSTAMP:20260425T124452
CREATED:20250507T175841Z
LAST-MODIFIED:20250507T175841Z
UID:43000-1746624600-1746626400@www.goiasfomento.com
SUMMARY:Rufino Veríssimo: Despachos Internos.
DESCRIPTION:
URL:https://www.goiasfomento.com/agenda/rufino-verissimo-despachos-internos-283/
LOCATION:Gabinete da Diretoria de Operações da GoiásFomento – Agência de Fomento de Goiás.
CATEGORIES:Diretoria de Operações
END:VEVENT
BEGIN:VEVENT
DTSTART;TZID=America/Sao_Paulo:20250507T140000
DTEND;TZID=America/Sao_Paulo:20250507T143000
DTSTAMP:20260425T124452
CREATED:20250507T180247Z
LAST-MODIFIED:20250507T180247Z
UID:43002-1746626400-1746628200@www.goiasfomento.com
SUMMARY:Rufino Veríssimo – Diretor Presidente (Em substituição): Reunião com Wagner Siqueira Coelho – Gerente de Prospecção de Negócios.
DESCRIPTION:
URL:https://www.goiasfomento.com/agenda/rufino-verissimo-diretor-presidente-em-substituicao-reuniao-com-wagner-siqueira-coelho-gerente-de-prospeccao-de-negocios-10/
LOCATION:Gabinete da Diretoria de Operações da GoiásFomento – Agência de Fomento de Goiás.
CATEGORIES:Presidência
END:VEVENT
BEGIN:VEVENT
DTSTART;TZID=America/Sao_Paulo:20250507T140000
DTEND;TZID=America/Sao_Paulo:20250507T143000
DTSTAMP:20260425T124452
CREATED:20250507T180333Z
LAST-MODIFIED:20250507T180333Z
UID:43004-1746626400-1746628200@www.goiasfomento.com
SUMMARY:Rufino Veríssimo: Reunião com Wagner Siqueira Coelho – Gerente de Prospecção de Negócios.
DESCRIPTION:
URL:https://www.goiasfomento.com/agenda/rufino-verissimo-reuniao-com-wagner-siqueira-coelho-gerente-de-prospeccao-de-negocios-20/
LOCATION:Gabinete da Diretoria de Operações da GoiásFomento – Agência de Fomento de Goiás.
CATEGORIES:Diretoria de Operações
END:VEVENT
BEGIN:VEVENT
DTSTART;TZID=America/Sao_Paulo:20250507T140000
DTEND;TZID=America/Sao_Paulo:20250507T180000
DTSTAMP:20260425T124452
CREATED:20250507T120940Z
LAST-MODIFIED:20250507T120940Z
UID:42920-1746626400-1746640800@www.goiasfomento.com
SUMMARY:Deivison Costa: Despachos Internos.
DESCRIPTION:
URL:https://www.goiasfomento.com/agenda/deivison-costa-despachos-internos-75/
LOCATION:Chefia de Gabinete – Agência de Fomento de Goiás
CATEGORIES:Chefia de Gabinete
END:VEVENT
BEGIN:VEVENT
DTSTART;TZID=America/Sao_Paulo:20250507T143000
DTEND;TZID=America/Sao_Paulo:20250507T153000
DTSTAMP:20260425T124452
CREATED:20250507T180513Z
LAST-MODIFIED:20250507T183538Z
UID:43006-1746628200-1746631800@www.goiasfomento.com
SUMMARY:Rufino Veríssimo – Diretor Presidente (Em substituição): Reunião com os Gerentes da Diretoria de Operações.
DESCRIPTION:
URL:https://www.goiasfomento.com/agenda/rufino-verissimo-diretor-presidente-em-substituicao-reuniao-com-os-gerentes-da-diretoria-de-operacoes-4/
LOCATION:Gabinete da Diretoria de Operações da GoiásFomento – Agência de Fomento de Goiás.
CATEGORIES:Presidência
END:VEVENT
END:VCALENDAR