BEGIN:VCALENDAR
VERSION:2.0
PRODID:-//GoiásFomento - Agência de Fomento - ECPv6.15.20//NONSGML v1.0//EN
CALSCALE:GREGORIAN
METHOD:PUBLISH
X-WR-CALNAME:GoiásFomento - Agência de Fomento
X-ORIGINAL-URL:https://www.goiasfomento.com
X-WR-CALDESC:Eventos para GoiásFomento - Agência de Fomento
REFRESH-INTERVAL;VALUE=DURATION:PT1H
X-Robots-Tag:noindex
X-PUBLISHED-TTL:PT1H
BEGIN:VTIMEZONE
TZID:America/Sao_Paulo
BEGIN:STANDARD
TZOFFSETFROM:-0300
TZOFFSETTO:-0300
TZNAME:-03
DTSTART:20240101T000000
END:STANDARD
END:VTIMEZONE
BEGIN:VEVENT
DTSTART;TZID=America/Sao_Paulo:20250501T080000
DTEND;TZID=America/Sao_Paulo:20250511T170000
DTSTAMP:20260425T124504
CREATED:20250506T195036Z
LAST-MODIFIED:20250506T195554Z
UID:42908-1746086400-1746982800@www.goiasfomento.com
SUMMARY:Cargo Vago desde 19/03/2025.
DESCRIPTION:
URL:https://www.goiasfomento.com/agenda/cargo-vago-desde-19-03-2025-5/
CATEGORIES:Diretoria Administrativa e Financeira
END:VEVENT
BEGIN:VEVENT
DTSTART;TZID=America/Sao_Paulo:20250506T070000
DTEND;TZID=America/Sao_Paulo:20250506T093000
DTSTAMP:20260425T124504
CREATED:20250506T123027Z
LAST-MODIFIED:20250506T123027Z
UID:42863-1746514800-1746523800@www.goiasfomento.com
SUMMARY:Rufino Veríssimo – Diretor Presidente (Em substituição): Despachos Internos.
DESCRIPTION:
URL:https://www.goiasfomento.com/agenda/rufino-verissimo-diretor-presidente-em-substituicao-despachos-internos-68/
LOCATION:Gabinete da Diretoria de Operações da GoiásFomento – Agência de Fomento de Goiás.
CATEGORIES:Presidência
END:VEVENT
BEGIN:VEVENT
DTSTART;TZID=America/Sao_Paulo:20250506T080000
DTEND;TZID=America/Sao_Paulo:20250506T093000
DTSTAMP:20260425T124504
CREATED:20250506T123632Z
LAST-MODIFIED:20250506T123632Z
UID:42865-1746518400-1746523800@www.goiasfomento.com
SUMMARY:Rufino Veríssimo: Despachos Internos.
DESCRIPTION:
URL:https://www.goiasfomento.com/agenda/rufino-verissimo-despachos-internos-281/
LOCATION:Gabinete da Diretoria de Operações da GoiásFomento – Agência de Fomento de Goiás.
CATEGORIES:Diretoria de Operações
END:VEVENT
BEGIN:VEVENT
DTSTART;TZID=America/Sao_Paulo:20250506T080000
DTEND;TZID=America/Sao_Paulo:20250506T120000
DTSTAMP:20260425T124504
CREATED:20250506T195618Z
LAST-MODIFIED:20250506T195618Z
UID:42914-1746518400-1746532800@www.goiasfomento.com
SUMMARY:Deivison Costa: Despachos Internos.
DESCRIPTION:
URL:https://www.goiasfomento.com/agenda/deivison-costa-despachos-internos-72/
LOCATION:Chefia de Gabinete – Agência de Fomento de Goiás
CATEGORIES:Chefia de Gabinete
END:VEVENT
BEGIN:VEVENT
DTSTART;TZID=America/Sao_Paulo:20250506T093000
DTEND;TZID=America/Sao_Paulo:20250506T100000
DTSTAMP:20260425T124504
CREATED:20250506T124124Z
LAST-MODIFIED:20250506T124436Z
UID:42867-1746523800-1746525600@www.goiasfomento.com
SUMMARY:Rufino Veríssimo – Diretor Presidente (Em substituição): Reunião com José Marco Ferreira de Barri - Gerente Financeiro.
DESCRIPTION:
URL:https://www.goiasfomento.com/agenda/rufino-verissimo-diretor-presidente-em-substituicao-reuniao-com-jose-marco-ferreira-de-barri-gerente-financeiro-5/
LOCATION:Gabinete da Diretoria de Operações da GoiásFomento – Agência de Fomento de Goiás.
CATEGORIES:Presidência
END:VEVENT
BEGIN:VEVENT
DTSTART;TZID=America/Sao_Paulo:20250506T093000
DTEND;TZID=America/Sao_Paulo:20250506T100000
DTSTAMP:20260425T124504
CREATED:20250506T184718Z
LAST-MODIFIED:20250506T184718Z
UID:42869-1746523800-1746525600@www.goiasfomento.com
SUMMARY:Rufino Veríssimo: Reunião com José Marco Ferreira de Barri - Gerente Financeiro.
DESCRIPTION:
URL:https://www.goiasfomento.com/agenda/rufino-verissimo-reuniao-com-jose-marco-ferreira-de-barri-gerente-financeiro-8/
LOCATION:Gabinete da Diretoria de Operações da GoiásFomento – Agência de Fomento de Goiás.
CATEGORIES:Diretoria de Operações
END:VEVENT
BEGIN:VEVENT
DTSTART;TZID=America/Sao_Paulo:20250506T100000
DTEND;TZID=America/Sao_Paulo:20250506T123000
DTSTAMP:20260425T124504
CREATED:20250506T185359Z
LAST-MODIFIED:20250506T185359Z
UID:42875-1746525600-1746534600@www.goiasfomento.com
SUMMARY:Rufino Veríssimo – Diretor Presidente (Em substituição): Reunião GF\, SEDS e Empresa Inttegra.
DESCRIPTION:
URL:https://www.goiasfomento.com/agenda/rufino-verissimo-diretor-presidente-em-substituicao-reuniao-gf-seds-e-empresa-inttegra/
LOCATION:Secretaria de Desenvolvimento Social do Estado de Goiás – SEDS.
CATEGORIES:Presidência
END:VEVENT
BEGIN:VEVENT
DTSTART;TZID=America/Sao_Paulo:20250506T100000
DTEND;TZID=America/Sao_Paulo:20250506T123000
DTSTAMP:20260425T124504
CREATED:20250506T185456Z
LAST-MODIFIED:20250506T185456Z
UID:42877-1746525600-1746534600@www.goiasfomento.com
SUMMARY:Rufino Veríssimo: Reunião GF\, SEDS e Empresa Inttegra.
DESCRIPTION:
URL:https://www.goiasfomento.com/agenda/rufino-verissimo-reuniao-gf-seds-e-empresa-inttegra/
LOCATION:Secretaria de Desenvolvimento Social do Estado de Goiás – SEDS.
CATEGORIES:Diretoria de Operações
END:VEVENT
BEGIN:VEVENT
DTSTART;TZID=America/Sao_Paulo:20250506T133000
DTEND;TZID=America/Sao_Paulo:20250506T140000
DTSTAMP:20260425T124504
CREATED:20250506T184849Z
LAST-MODIFIED:20250506T184849Z
UID:42871-1746538200-1746540000@www.goiasfomento.com
SUMMARY:Rufino Veríssimo – Diretor Presidente (Em substituição): Reunião com Wagner Siqueira Coelho – Gerente de Prospecção de Negócios.
DESCRIPTION:
URL:https://www.goiasfomento.com/agenda/rufino-verissimo-diretor-presidente-em-substituicao-reuniao-com-wagner-siqueira-coelho-gerente-de-prospeccao-de-negocios-9/
LOCATION:Gabinete da Diretoria de Operações da GoiásFomento – Agência de Fomento de Goiás.
CATEGORIES:Presidência
END:VEVENT
BEGIN:VEVENT
DTSTART;TZID=America/Sao_Paulo:20250506T133000
DTEND;TZID=America/Sao_Paulo:20250506T140000
DTSTAMP:20260425T124504
CREATED:20250506T184915Z
LAST-MODIFIED:20250506T184915Z
UID:42873-1746538200-1746540000@www.goiasfomento.com
SUMMARY:Rufino Veríssimo: Reunião com Wagner Siqueira Coelho – Gerente de Prospecção de Negócios.
DESCRIPTION:
URL:https://www.goiasfomento.com/agenda/rufino-verissimo-reuniao-com-wagner-siqueira-coelho-gerente-de-prospeccao-de-negocios-19/
LOCATION:Gabinete da Diretoria de Operações da GoiásFomento – Agência de Fomento de Goiás.
CATEGORIES:Diretoria de Operações
END:VEVENT
BEGIN:VEVENT
DTSTART;TZID=America/Sao_Paulo:20250506T140000
DTEND;TZID=America/Sao_Paulo:20250506T150000
DTSTAMP:20260425T124504
CREATED:20250506T185714Z
LAST-MODIFIED:20250506T185714Z
UID:42879-1746540000-1746543600@www.goiasfomento.com
SUMMARY:Rufino Veríssimo – Diretor Presidente (Em substituição): Reunião com Prefeito Flávio Macarrão e  os Secretarios de Parauna - Goiás.
DESCRIPTION:
URL:https://www.goiasfomento.com/agenda/rufino-verissimo-diretor-presidente-em-substituicao-reuniao-com-prefeito-flavio-macarrao-e-os-secretarios-de-parauna-goias/
LOCATION:Sala de Reuniões da Diretoria – Agência de Fomento de Goiás.
CATEGORIES:Presidência
END:VEVENT
BEGIN:VEVENT
DTSTART;TZID=America/Sao_Paulo:20250506T140000
DTEND;TZID=America/Sao_Paulo:20250506T150000
DTSTAMP:20260425T124504
CREATED:20250506T185748Z
LAST-MODIFIED:20250506T185748Z
UID:42881-1746540000-1746543600@www.goiasfomento.com
SUMMARY:Rufino Veríssimo: Reunião com Prefeito Flávio Macarrão e  os Secretarios de Parauna - Goiás.
DESCRIPTION:
URL:https://www.goiasfomento.com/agenda/rufino-verissimo-reuniao-com-prefeito-flavio-macarrao-e-os-secretarios-de-parauna-goias/
LOCATION:Gabinete da Diretoria de Operações da GoiásFomento – Agência de Fomento de Goiás.
CATEGORIES:Diretoria de Operações
END:VEVENT
BEGIN:VEVENT
DTSTART;TZID=America/Sao_Paulo:20250506T140000
DTEND;TZID=America/Sao_Paulo:20250506T180000
DTSTAMP:20260425T124504
CREATED:20250506T195729Z
LAST-MODIFIED:20250506T195729Z
UID:42916-1746540000-1746554400@www.goiasfomento.com
SUMMARY:Deivison Costa: Despachos Internos.
DESCRIPTION:
URL:https://www.goiasfomento.com/agenda/deivison-costa-despachos-internos-73/
LOCATION:Chefia de Gabinete – Agência de Fomento de Goiás
CATEGORIES:Chefia de Gabinete
END:VEVENT
BEGIN:VEVENT
DTSTART;TZID=America/Sao_Paulo:20250506T150000
DTEND;TZID=America/Sao_Paulo:20250506T153000
DTSTAMP:20260425T124504
CREATED:20250506T190339Z
LAST-MODIFIED:20250506T190511Z
UID:42883-1746543600-1746545400@www.goiasfomento.com
SUMMARY:Rufino Veríssimo – Diretor Presidente (Em substituição): Reunião com Kamilla da Silva Vilarinho - Gerente de Cobrança Extrajudicial e Luiz Arthur Medeiros Miguel- Gerente de Licitação e Contratos.
DESCRIPTION:
URL:https://www.goiasfomento.com/agenda/rufino-verissimo-diretor-presidente-em-substituicao-reuniao-kamilla-da-silva-vilarinho-gerente-de-cobranca-extrajudicial-e-luiz-arthur-medeiros-miguel-gerente-de-licitacao-e-contratos/
LOCATION:Gabinete da Diretoria de Operações da GoiásFomento – Agência de Fomento de Goiás.
CATEGORIES:Presidência
END:VEVENT
BEGIN:VEVENT
DTSTART;TZID=America/Sao_Paulo:20250506T150000
DTEND;TZID=America/Sao_Paulo:20250506T153000
DTSTAMP:20260425T124504
CREATED:20250506T190411Z
LAST-MODIFIED:20250506T190526Z
UID:42885-1746543600-1746545400@www.goiasfomento.com
SUMMARY:Rufino Veríssimo: Reunião com Kamilla da Silva Vilarinho - Gerente de Cobrança Extrajudicial e Luiz Arthur Medeiros Miguel- Gerente de Licitação e Contratos.
DESCRIPTION:
URL:https://www.goiasfomento.com/agenda/rufino-verissimo-reuniao-kamilla-da-silva-vilarinho-gerente-de-cobranca-extrajudicial-e-luiz-arthur-medeiros-miguel-gerente-de-licitacao-e-contratos/
LOCATION:Gabinete da Diretoria de Operações da GoiásFomento – Agência de Fomento de Goiás.
CATEGORIES:Diretoria de Operações
END:VEVENT
BEGIN:VEVENT
DTSTART;TZID=America/Sao_Paulo:20250506T153000
DTEND;TZID=America/Sao_Paulo:20250506T160000
DTSTAMP:20260425T124504
CREATED:20250506T191233Z
LAST-MODIFIED:20250506T191233Z
UID:42891-1746545400-1746547200@www.goiasfomento.com
SUMMARY:Rufino Veríssimo – Diretor Presidente (Em substituição): Reunião com Rafael Soffa Rézio – Gerente de Programas e Políticas Sociais e Fernando de Freitas - Assesssor Executivo da Governadoria.
DESCRIPTION:
URL:https://www.goiasfomento.com/agenda/rufino-verissimo-diretor-presidente-em-substituicao-reuniao-com-rafael-soffa-rezio-gerente-de-programas-e-politicas-sociais-e-fernando-de-freitas-assesssor-executivo-da-govern/
LOCATION:Gabinete da Diretoria de Operações da GoiásFomento – Agência de Fomento de Goiás.
END:VEVENT
BEGIN:VEVENT
DTSTART;TZID=America/Sao_Paulo:20250506T153000
DTEND;TZID=America/Sao_Paulo:20250506T160000
DTSTAMP:20260425T124504
CREATED:20250506T191311Z
LAST-MODIFIED:20250506T191418Z
UID:42893-1746545400-1746547200@www.goiasfomento.com
SUMMARY:Rufino Veríssimo: Reunião com Rafael Soffa Rézio – Gerente de Programas e Políticas Sociais e Fernando de Freitas - Assesssor Executivo da Governadoria.
DESCRIPTION:
URL:https://www.goiasfomento.com/agenda/rufino-verissimo-reuniao-com-rafael-soffa-rezio-gerente-de-programas-e-politicas-sociais-e-fernando-de-freitas-assesssor-executivo-da-governadoria/
LOCATION:Gabinete da Diretoria de Operações da GoiásFomento – Agência de Fomento de Goiás.
CATEGORIES:Diretoria de Operações
END:VEVENT
BEGIN:VEVENT
DTSTART;TZID=America/Sao_Paulo:20250506T153000
DTEND;TZID=America/Sao_Paulo:20250506T160000
DTSTAMP:20260425T124504
CREATED:20250506T193508Z
LAST-MODIFIED:20250506T193835Z
UID:42896-1746545400-1746547200@www.goiasfomento.com
SUMMARY:Rufino Veríssimo – Diretor Presidente (Em substituição): Reunião com Rafael Soffa Rézio – Gerente de Programas e Políticas Sociais e Fernando de Freitas - Assesssor Executivo da Governadoria.
DESCRIPTION:
URL:https://www.goiasfomento.com/agenda/rufino-verissimo-diretor-presidente-em-substituicao-reuniao-com-rafael-soffa-rezio-gerente-de-programas-e-politicas-sociais-e-fernando-de-freitas-assesssor-executivo-da-govern-2/
LOCATION:Gabinete da Diretoria de Operações da GoiásFomento – Agência de Fomento de Goiás.
CATEGORIES:Presidência
END:VEVENT
BEGIN:VEVENT
DTSTART;TZID=America/Sao_Paulo:20250506T160000
DTEND;TZID=America/Sao_Paulo:20250506T163000
DTSTAMP:20260425T124504
CREATED:20250506T193551Z
LAST-MODIFIED:20250506T193551Z
UID:42898-1746547200-1746549000@www.goiasfomento.com
SUMMARY:Rufino Veríssimo – Diretor Presidente (Em substituição): Reunião com  Fernando de Freitas - Assesssor Executivo da Governadoria.
DESCRIPTION:
URL:https://www.goiasfomento.com/agenda/rufino-verissimo-diretor-presidente-em-substituicao-reuniao-com-fernando-de-freitas-assesssor-executivo-da-governadoria/
LOCATION:Gabinete da Diretoria de Operações da GoiásFomento – Agência de Fomento de Goiás.
CATEGORIES:Presidência
END:VEVENT
BEGIN:VEVENT
DTSTART;TZID=America/Sao_Paulo:20250506T160000
DTEND;TZID=America/Sao_Paulo:20250506T163000
DTSTAMP:20260425T124504
CREATED:20250506T193625Z
LAST-MODIFIED:20250506T193625Z
UID:42900-1746547200-1746549000@www.goiasfomento.com
SUMMARY:Rufino Veríssimo: Reunião com  Fernando de Freitas - Assesssor Executivo da Governadoria.
DESCRIPTION:
URL:https://www.goiasfomento.com/agenda/rufino-verissimo-reuniao-com-fernando-de-freitas-assesssor-executivo-da-governadoria/
LOCATION:Gabinete da Diretoria de Operações da GoiásFomento – Agência de Fomento de Goiás.
CATEGORIES:Diretoria de Operações
END:VEVENT
BEGIN:VEVENT
DTSTART;TZID=America/Sao_Paulo:20250506T163000
DTEND;TZID=America/Sao_Paulo:20250506T170000
DTSTAMP:20260425T124504
CREATED:20250506T194001Z
LAST-MODIFIED:20250506T194001Z
UID:42902-1746549000-1746550800@www.goiasfomento.com
SUMMARY:Rufino Veríssimo – Diretor Presidente (Em substituição): Reunião com Rafael Soffa Rézio – Gerente de Programas e Políticas Sociais.
DESCRIPTION:
URL:https://www.goiasfomento.com/agenda/rufino-verissimo-diretor-presidente-em-substituicao-reuniao-com-rafael-soffa-rezio-gerente-de-programas-e-politicas-sociais-36/
LOCATION:Gabinete da Diretoria de Operações da GoiásFomento – Agência de Fomento de Goiás.
CATEGORIES:Presidência
END:VEVENT
BEGIN:VEVENT
DTSTART;TZID=America/Sao_Paulo:20250506T163000
DTEND;TZID=America/Sao_Paulo:20250506T170000
DTSTAMP:20260425T124504
CREATED:20250506T194031Z
LAST-MODIFIED:20250506T194031Z
UID:42904-1746549000-1746550800@www.goiasfomento.com
SUMMARY:Rufino Veríssimo: Reunião com Rafael Soffa Rézio – Gerente de Programas e Políticas Sociais.
DESCRIPTION:
URL:https://www.goiasfomento.com/agenda/rufino-verissimo-reuniao-com-rafael-soffa-rezio-gerente-de-programas-e-politicas-sociais-48/
LOCATION:Gabinete da Diretoria de Operações da GoiásFomento – Agência de Fomento de Goiás.
CATEGORIES:Diretoria de Operações
END:VEVENT
BEGIN:VEVENT
DTSTART;TZID=America/Sao_Paulo:20250506T170000
DTEND;TZID=America/Sao_Paulo:20250506T183000
DTSTAMP:20260425T124504
CREATED:20250506T194901Z
LAST-MODIFIED:20250506T195214Z
UID:42906-1746550800-1746556200@www.goiasfomento.com
SUMMARY:Rufino Veríssimo: Despachos Internos.
DESCRIPTION:
URL:https://www.goiasfomento.com/agenda/rufino-verissimo-reuniao-com-rafael-soffa-rezio-gerente-de-programas-e-politicas-sociais-49/
LOCATION:Gabinete da Diretoria de Operações da GoiásFomento – Agência de Fomento de Goiás.
CATEGORIES:Diretoria de Operações
END:VEVENT
BEGIN:VEVENT
DTSTART;TZID=America/Sao_Paulo:20250506T170000
DTEND;TZID=America/Sao_Paulo:20250506T183000
DTSTAMP:20260425T124504
CREATED:20250506T195235Z
LAST-MODIFIED:20250506T195235Z
UID:42912-1746550800-1746556200@www.goiasfomento.com
SUMMARY:Rufino Veríssimo – Diretor Presidente (Em substituição): Despachos Internos.
DESCRIPTION:
URL:https://www.goiasfomento.com/agenda/rufino-verissimo-diretor-presidente-em-substituicao-despachos-internos-69/
LOCATION:Gabinete da Diretoria de Operações da GoiásFomento – Agência de Fomento de Goiás.
CATEGORIES:Presidência
END:VEVENT
END:VCALENDAR