BEGIN:VCALENDAR
VERSION:2.0
PRODID:-//GoiásFomento - Agência de Fomento - ECPv6.15.20//NONSGML v1.0//EN
CALSCALE:GREGORIAN
METHOD:PUBLISH
X-ORIGINAL-URL:https://www.goiasfomento.com
X-WR-CALDESC:Eventos para GoiásFomento - Agência de Fomento
REFRESH-INTERVAL;VALUE=DURATION:PT1H
X-Robots-Tag:noindex
X-PUBLISHED-TTL:PT1H
BEGIN:VTIMEZONE
TZID:America/Sao_Paulo
BEGIN:STANDARD
TZOFFSETFROM:-0300
TZOFFSETTO:-0300
TZNAME:-03
DTSTART:20240101T000000
END:STANDARD
END:VTIMEZONE
BEGIN:VEVENT
DTSTART;VALUE=DATE:20250501
DTEND;VALUE=DATE:20250502
DTSTAMP:20260425T111742
CREATED:20250422T124448Z
LAST-MODIFIED:20250422T124448Z
UID:42287-1746057600-1746143999@www.goiasfomento.com
SUMMARY:Deivison Costa: Feriado Nacional – Dia do Trabalho.
DESCRIPTION:
URL:https://www.goiasfomento.com/agenda/deivison-costa-feriado-nacional-dia-do-trabalho/
LOCATION:Chefia de Gabinete – Agência de Fomento de Goiás
CATEGORIES:Chefia de Gabinete
END:VEVENT
BEGIN:VEVENT
DTSTART;VALUE=DATE:20250501
DTEND;VALUE=DATE:20250502
DTSTAMP:20260425T111742
CREATED:20250422T124555Z
LAST-MODIFIED:20250422T124555Z
UID:42289-1746057600-1746143999@www.goiasfomento.com
SUMMARY:Rufino Veríssimo – Diretor Presidente (Em substituição): Feriado Nacional – Dia do Trabalho.
DESCRIPTION:
URL:https://www.goiasfomento.com/agenda/rufino-verissimo-diretor-presidente-em-substituicao-feriado-nacional-dia-do-trabalho/
LOCATION:Gabinete da Diretoria de Operações da GoiásFomento – Agência de Fomento de Goiás.
CATEGORIES:Presidência
END:VEVENT
BEGIN:VEVENT
DTSTART;VALUE=DATE:20250501
DTEND;VALUE=DATE:20250502
DTSTAMP:20260425T111742
CREATED:20250422T124627Z
LAST-MODIFIED:20250422T124627Z
UID:42291-1746057600-1746143999@www.goiasfomento.com
SUMMARY:Rufino Veríssimo: Feriado Nacional – Dia do Trabalho.
DESCRIPTION:
URL:https://www.goiasfomento.com/agenda/rufino-verissimo-feriado-nacional-dia-do-trabalho/
LOCATION:Gabinete da Diretoria de Operações da GoiásFomento – Agência de Fomento de Goiás.
CATEGORIES:Diretoria de Operações
END:VEVENT
BEGIN:VEVENT
DTSTART;TZID=America/Sao_Paulo:20250501T080000
DTEND;TZID=America/Sao_Paulo:20250511T170000
DTSTAMP:20260425T111742
CREATED:20250506T195036Z
LAST-MODIFIED:20250506T195554Z
UID:42908-1746086400-1746982800@www.goiasfomento.com
SUMMARY:Cargo Vago desde 19/03/2025.
DESCRIPTION:
URL:https://www.goiasfomento.com/agenda/cargo-vago-desde-19-03-2025-5/
CATEGORIES:Diretoria Administrativa e Financeira
END:VEVENT
END:VCALENDAR