BEGIN:VCALENDAR
VERSION:2.0
PRODID:-//GoiásFomento - Agência de Fomento - ECPv6.15.20//NONSGML v1.0//EN
CALSCALE:GREGORIAN
METHOD:PUBLISH
X-WR-CALNAME:GoiásFomento - Agência de Fomento
X-ORIGINAL-URL:https://www.goiasfomento.com
X-WR-CALDESC:Eventos para GoiásFomento - Agência de Fomento
REFRESH-INTERVAL;VALUE=DURATION:PT1H
X-Robots-Tag:noindex
X-PUBLISHED-TTL:PT1H
BEGIN:VTIMEZONE
TZID:America/Sao_Paulo
BEGIN:STANDARD
TZOFFSETFROM:-0300
TZOFFSETTO:-0300
TZNAME:-03
DTSTART:20240101T000000
END:STANDARD
END:VTIMEZONE
BEGIN:VEVENT
DTSTART;TZID=America/Sao_Paulo:20250422T080000
DTEND;TZID=America/Sao_Paulo:20250430T170000
DTSTAMP:20260425T111447
CREATED:20250423T183302Z
LAST-MODIFIED:20250429T141239Z
UID:42400-1745308800-1746032400@www.goiasfomento.com
SUMMARY:Cargo Vago desde 19/03/2025.
DESCRIPTION:
URL:https://www.goiasfomento.com/agenda/cargo-vago-desde-19-03-2025-4/
CATEGORIES:Diretoria Administrativa e Financeira
END:VEVENT
BEGIN:VEVENT
DTSTART;TZID=America/Sao_Paulo:20250425T070000
DTEND;TZID=America/Sao_Paulo:20250425T080000
DTSTAMP:20260425T111447
CREATED:20250425T121646Z
LAST-MODIFIED:20250425T121646Z
UID:42518-1745564400-1745568000@www.goiasfomento.com
SUMMARY:Rufino Veríssimo – Diretor Presidente (Em substituição): Despachos Internos.
DESCRIPTION:
URL:https://www.goiasfomento.com/agenda/rufino-verissimo-diretor-presidente-em-substituicao-despachos-internos-50/
LOCATION:Gabinete da Diretoria de Operações da GoiásFomento – Agência de Fomento de Goiás.
CATEGORIES:Presidência
END:VEVENT
BEGIN:VEVENT
DTSTART;TZID=America/Sao_Paulo:20250425T070000
DTEND;TZID=America/Sao_Paulo:20250425T080000
DTSTAMP:20260425T111447
CREATED:20250425T121727Z
LAST-MODIFIED:20250425T121727Z
UID:42520-1745564400-1745568000@www.goiasfomento.com
SUMMARY:Rufino Veríssimo: Despachos Internos.
DESCRIPTION:
URL:https://www.goiasfomento.com/agenda/rufino-verissimo-despachos-internos-264/
LOCATION:Gabinete da Diretoria de Operações da GoiásFomento – Agência de Fomento de Goiás.
CATEGORIES:Diretoria de Operações
END:VEVENT
BEGIN:VEVENT
DTSTART;TZID=America/Sao_Paulo:20250425T080000
DTEND;TZID=America/Sao_Paulo:20250425T083000
DTSTAMP:20260425T111447
CREATED:20250425T135015Z
LAST-MODIFIED:20250425T135015Z
UID:42522-1745568000-1745569800@www.goiasfomento.com
SUMMARY:Rufino Veríssimo – Diretor Presidente (Em substituição): Reunião com Luiz Arthur Medeiros Miguel - Gerente de Licitação e Contratos.
DESCRIPTION:
URL:https://www.goiasfomento.com/agenda/rufino-verissimo-diretor-presidente-em-substituicao-reuniao-com-luiz-arthur-medeiros-miguel-gerente-de-licitacao-e-contratos-13/
LOCATION:Gabinete da Diretoria de Operações da GoiásFomento – Agência de Fomento de Goiás.
CATEGORIES:Presidência
END:VEVENT
BEGIN:VEVENT
DTSTART;TZID=America/Sao_Paulo:20250425T080000
DTEND;TZID=America/Sao_Paulo:20250425T083000
DTSTAMP:20260425T111447
CREATED:20250425T135055Z
LAST-MODIFIED:20250425T135055Z
UID:42524-1745568000-1745569800@www.goiasfomento.com
SUMMARY:Rufino Veríssimo: Reunião com Luiz Arthur Medeiros Miguel - Gerente de Licitação e Contratos.
DESCRIPTION:
URL:https://www.goiasfomento.com/agenda/rufino-verissimo-reuniao-com-luiz-arthur-medeiros-miguel-gerente-de-licitacao-e-contratos-16/
LOCATION:Gabinete da Diretoria de Operações da GoiásFomento – Agência de Fomento de Goiás.
CATEGORIES:Diretoria de Operações
END:VEVENT
BEGIN:VEVENT
DTSTART;TZID=America/Sao_Paulo:20250425T080000
DTEND;TZID=America/Sao_Paulo:20250425T120000
DTSTAMP:20260425T111447
CREATED:20250425T160623Z
LAST-MODIFIED:20250425T160623Z
UID:42551-1745568000-1745582400@www.goiasfomento.com
SUMMARY:Deivison Costa: Despachos Internos.
DESCRIPTION:
URL:https://www.goiasfomento.com/agenda/deivison-costa-despachos-internos-61/
LOCATION:Chefia de Gabinete – Agência de Fomento de Goiás
CATEGORIES:Chefia de Gabinete
END:VEVENT
BEGIN:VEVENT
DTSTART;TZID=America/Sao_Paulo:20250425T083000
DTEND;TZID=America/Sao_Paulo:20250425T090000
DTSTAMP:20260425T111447
CREATED:20250425T135155Z
LAST-MODIFIED:20250425T135155Z
UID:42526-1745569800-1745571600@www.goiasfomento.com
SUMMARY:Rufino Veríssimo – Diretor Presidente (Em substituição): Reunião com Ariana da Costa Pires Barbosa - Secretaria-Geral.
DESCRIPTION:
URL:https://www.goiasfomento.com/agenda/rufino-verissimo-diretor-presidente-em-substituicao-reuniao-com-ariana-da-costa-pires-barbosa-secretaria-geral-9/
LOCATION:Gabinete da Diretoria de Operações da GoiásFomento – Agência de Fomento de Goiás.
CATEGORIES:Presidência
END:VEVENT
BEGIN:VEVENT
DTSTART;TZID=America/Sao_Paulo:20250425T083000
DTEND;TZID=America/Sao_Paulo:20250425T090000
DTSTAMP:20260425T111447
CREATED:20250425T135225Z
LAST-MODIFIED:20250425T135225Z
UID:42528-1745569800-1745571600@www.goiasfomento.com
SUMMARY:Rufino Veríssimo: Reunião com Ariana da Costa Pires Barbosa - Secretaria-Geral.
DESCRIPTION:
URL:https://www.goiasfomento.com/agenda/rufino-verissimo-reuniao-com-ariana-da-costa-pires-barbosa-secretaria-geral-10/
LOCATION:Gabinete da Diretoria de Operações da GoiásFomento – Agência de Fomento de Goiás.
CATEGORIES:Diretoria de Operações
END:VEVENT
BEGIN:VEVENT
DTSTART;TZID=America/Sao_Paulo:20250425T090000
DTEND;TZID=America/Sao_Paulo:20250425T093000
DTSTAMP:20260425T111447
CREATED:20250425T135333Z
LAST-MODIFIED:20250425T135333Z
UID:42530-1745571600-1745573400@www.goiasfomento.com
SUMMARY:Rufino Veríssimo – Diretor Presidente (Em substituição): Reunião com Rafael Soffa Rézio - Gerente de Programas e Políticas Sociais.
DESCRIPTION:
URL:https://www.goiasfomento.com/agenda/rufino-verissimo-diretor-presidente-em-substituicao-reuniao-com-rafael-soffa-rezio-gerente-de-programas-e-politicas-sociais-31/
LOCATION:Gabinete da Diretoria de Operações da GoiásFomento – Agência de Fomento de Goiás.
CATEGORIES:Presidência
END:VEVENT
BEGIN:VEVENT
DTSTART;TZID=America/Sao_Paulo:20250425T090000
DTEND;TZID=America/Sao_Paulo:20250425T093000
DTSTAMP:20260425T111447
CREATED:20250425T135404Z
LAST-MODIFIED:20250425T135404Z
UID:42532-1745571600-1745573400@www.goiasfomento.com
SUMMARY:Rufino Veríssimo: Reunião com Rafael Soffa Rézio - Gerente de Programas e Políticas Sociais.
DESCRIPTION:
URL:https://www.goiasfomento.com/agenda/rufino-verissimo-reuniao-com-rafael-soffa-rezio-gerente-de-programas-e-politicas-sociais-43/
LOCATION:Gabinete da Diretoria de Operações da GoiásFomento – Agência de Fomento de Goiás.
CATEGORIES:Diretoria de Operações
END:VEVENT
BEGIN:VEVENT
DTSTART;TZID=America/Sao_Paulo:20250425T093000
DTEND;TZID=America/Sao_Paulo:20250425T100000
DTSTAMP:20260425T111447
CREATED:20250425T141148Z
LAST-MODIFIED:20250425T141148Z
UID:42534-1745573400-1745575200@www.goiasfomento.com
SUMMARY:Rufino Veríssimo – Diretor Presidente (Em substituição): Reunião com Porthos R. de Albuquerque Motta - Assessor de Gerenciamento de Riscos e Escritório de Projetos.
DESCRIPTION:
URL:https://www.goiasfomento.com/agenda/rufino-verissimo-diretor-presidente-em-substituicao-reuniao-com-porthos-r-de-albuquerque-motta-assessor-de-gerenciamento-de-riscos-e-escritorio-de-projetos-4/
LOCATION:Gabinete da Diretoria de Operações da GoiásFomento – Agência de Fomento de Goiás.
CATEGORIES:Presidência
END:VEVENT
BEGIN:VEVENT
DTSTART;TZID=America/Sao_Paulo:20250425T093000
DTEND;TZID=America/Sao_Paulo:20250425T100000
DTSTAMP:20260425T111447
CREATED:20250425T141230Z
LAST-MODIFIED:20250425T141230Z
UID:42536-1745573400-1745575200@www.goiasfomento.com
SUMMARY:Rufino Veríssimo: Reunião com Porthos R. de Albuquerque Motta - Assessor de Gerenciamento de Riscos e Escritório de Projetos.
DESCRIPTION:
URL:https://www.goiasfomento.com/agenda/rufino-verissimo-reuniao-com-porthos-r-de-albuquerque-motta-assessor-de-gerenciamento-de-riscos-e-escritorio-de-projetos-5/
LOCATION:Gabinete da Diretoria de Operações da GoiásFomento – Agência de Fomento de Goiás.
CATEGORIES:Diretoria de Operações
END:VEVENT
BEGIN:VEVENT
DTSTART;TZID=America/Sao_Paulo:20250425T100000
DTEND;TZID=America/Sao_Paulo:20250425T103000
DTSTAMP:20260425T111447
CREATED:20250425T141331Z
LAST-MODIFIED:20250425T141618Z
UID:42538-1745575200-1745577000@www.goiasfomento.com
SUMMARY:Rufino Veríssimo – Diretor Presidente (Em substituição): Reunião com Karyna Moral Dall'Agnol - Gerente de Pessoas.
DESCRIPTION:
URL:https://www.goiasfomento.com/agenda/rufino-verissimo-diretor-presidente-em-substituicao-reuniao-com-karyna-moral-dallagnol-gerente-de-pessoas-3/
LOCATION:Gabinete da Diretoria de Operações da GoiásFomento – Agência de Fomento de Goiás.
CATEGORIES:Presidência
END:VEVENT
BEGIN:VEVENT
DTSTART;TZID=America/Sao_Paulo:20250425T100000
DTEND;TZID=America/Sao_Paulo:20250425T103000
DTSTAMP:20260425T111447
CREATED:20250425T141502Z
LAST-MODIFIED:20250425T141558Z
UID:42540-1745575200-1745577000@www.goiasfomento.com
SUMMARY:Rufino Veríssimo: Reunião com Karyna Moral Dall'Agnol - Gerente de Pessoas.
DESCRIPTION:
URL:https://www.goiasfomento.com/agenda/rufino-verissimo-reuniao-com-karyna-moral-dallagnol-gerente-de-pessoas-3/
LOCATION:Gabinete da Diretoria de Operações da GoiásFomento – Agência de Fomento de Goiás.
CATEGORIES:Diretoria de Operações
END:VEVENT
BEGIN:VEVENT
DTSTART;TZID=America/Sao_Paulo:20250425T103000
DTEND;TZID=America/Sao_Paulo:20250425T113000
DTSTAMP:20260425T111447
CREATED:20250425T141752Z
LAST-MODIFIED:20250425T141921Z
UID:42542-1745577000-1745580600@www.goiasfomento.com
SUMMARY:Rufino Veríssimo – Diretor Presidente (Em substituição): Reunião com Luiz Arthur Medeiros Miguel - Gerente de Licitação e Contratos.
DESCRIPTION:
URL:https://www.goiasfomento.com/agenda/rufino-verissimo-reuniao-com-luiz-arthur-medeiros-miguel-gerente-de-licitacao-e-contratos-17/
LOCATION:Gabinete da Diretoria de Operações da GoiásFomento – Agência de Fomento de Goiás.
CATEGORIES:Presidência
END:VEVENT
BEGIN:VEVENT
DTSTART;TZID=America/Sao_Paulo:20250425T103000
DTEND;TZID=America/Sao_Paulo:20250425T113000
DTSTAMP:20260425T111447
CREATED:20250425T141832Z
LAST-MODIFIED:20250425T141832Z
UID:42544-1745577000-1745580600@www.goiasfomento.com
SUMMARY:Rufino Veríssimo: Reunião com Luiz Arthur Medeiros Miguel - Gerente de Licitação e Contratos.
DESCRIPTION:
URL:https://www.goiasfomento.com/agenda/rufino-verissimo-reuniao-com-luiz-arthur-medeiros-miguel-gerente-de-licitacao-e-contratos-18/
LOCATION:Gabinete da Diretoria de Operações da GoiásFomento – Agência de Fomento de Goiás.
CATEGORIES:Diretoria de Operações
END:VEVENT
BEGIN:VEVENT
DTSTART;TZID=America/Sao_Paulo:20250425T113000
DTEND;TZID=America/Sao_Paulo:20250425T123000
DTSTAMP:20260425T111447
CREATED:20250425T144930Z
LAST-MODIFIED:20250425T144930Z
UID:42547-1745580600-1745584200@www.goiasfomento.com
SUMMARY:Rufino Veríssimo – Diretor Presidente (Em substituição): Despachos Internos.
DESCRIPTION:
URL:https://www.goiasfomento.com/agenda/rufino-verissimo-diretor-presidente-em-substituicao-despachos-internos-51/
LOCATION:Gabinete da Diretoria de Operações da GoiásFomento – Agência de Fomento de Goiás.
CATEGORIES:Presidência
END:VEVENT
BEGIN:VEVENT
DTSTART;TZID=America/Sao_Paulo:20250425T113000
DTEND;TZID=America/Sao_Paulo:20250425T123000
DTSTAMP:20260425T111447
CREATED:20250425T145007Z
LAST-MODIFIED:20250425T145007Z
UID:42549-1745580600-1745584200@www.goiasfomento.com
SUMMARY:Rufino Veríssimo:  Despachos Internos.
DESCRIPTION:
URL:https://www.goiasfomento.com/agenda/rufino-verissimo-despachos-internos-265/
LOCATION:Gabinete da Diretoria de Operações da GoiásFomento – Agência de Fomento de Goiás.
CATEGORIES:Diretoria de Operações
END:VEVENT
BEGIN:VEVENT
DTSTART;TZID=America/Sao_Paulo:20250425T130000
DTEND;TZID=America/Sao_Paulo:20250425T140000
DTSTAMP:20260425T111447
CREATED:20250425T165703Z
LAST-MODIFIED:20250425T165703Z
UID:42555-1745586000-1745589600@www.goiasfomento.com
SUMMARY:Rufino Veríssimo – Diretor Presidente (Em substituição): Reunião com Agência de Fomento e a Empresa Inttegra.
DESCRIPTION:
URL:https://www.goiasfomento.com/agenda/rufino-verissimo-diretor-presidente-em-substituicao-reuniao-com-agencia-de-fomento-e-a-empresa-inttegra-2/
LOCATION:Gabinete da Diretoria de Operações da GoiásFomento – Agência de Fomento de Goiás.
CATEGORIES:Presidência
END:VEVENT
BEGIN:VEVENT
DTSTART;TZID=America/Sao_Paulo:20250425T130000
DTEND;TZID=America/Sao_Paulo:20250425T140000
DTSTAMP:20260425T111447
CREATED:20250425T165729Z
LAST-MODIFIED:20250425T165729Z
UID:42557-1745586000-1745589600@www.goiasfomento.com
SUMMARY:Rufino Veríssimo: Reunião com Agência de Fomento e a Empresa Inttegra.
DESCRIPTION:
URL:https://www.goiasfomento.com/agenda/rufino-verissimo-reuniao-com-agencia-de-fomento-e-a-empresa-inttegra-2/
LOCATION:Gabinete da Diretoria de Operações da GoiásFomento – Agência de Fomento de Goiás.
CATEGORIES:Diretoria de Operações
END:VEVENT
BEGIN:VEVENT
DTSTART;TZID=America/Sao_Paulo:20250425T140000
DTEND;TZID=America/Sao_Paulo:20250425T143000
DTSTAMP:20260425T111447
CREATED:20250425T170155Z
LAST-MODIFIED:20250425T170155Z
UID:42559-1745589600-1745591400@www.goiasfomento.com
SUMMARY:Rufino Veríssimo – Diretor Presidente (Em substituição): Reunião com Rafael Soffa Rézio - Gerente de Programas e Políticas Sociais e Luiz Arthur Medeiros Miguel - Gerente de Licitação e Contratos.
DESCRIPTION:
URL:https://www.goiasfomento.com/agenda/rufino-verissimo-diretor-presidente-em-substituicao-reuniao-com-rafael-soffa-rezio-gerente-de-programas-e-politicas-sociais-e-luiz-arthur-medeiros-miguel-gerente-de-licitacao-e-contra-3/
LOCATION:Gabinete da Diretoria de Operações da GoiásFomento – Agência de Fomento de Goiás.
CATEGORIES:Presidência
END:VEVENT
BEGIN:VEVENT
DTSTART;TZID=America/Sao_Paulo:20250425T140000
DTEND;TZID=America/Sao_Paulo:20250425T143000
DTSTAMP:20260425T111447
CREATED:20250425T170227Z
LAST-MODIFIED:20250425T170227Z
UID:42561-1745589600-1745591400@www.goiasfomento.com
SUMMARY:Rufino Veríssimo: Reunião com Rafael Soffa Rézio - Gerente de Programas e Políticas Sociais e Luiz Arthur Medeiros Miguel - Gerente de Licitação e Contratos.
DESCRIPTION:
URL:https://www.goiasfomento.com/agenda/rufino-verissimo-reuniao-com-rafael-soffa-rezio-gerente-de-programas-e-politicas-sociais-e-luiz-arthur-medeiros-miguel-gerente-de-licitacao-e-contratos-3/
LOCATION:Gabinete da Diretoria de Operações da GoiásFomento – Agência de Fomento de Goiás.
CATEGORIES:Diretoria de Operações
END:VEVENT
BEGIN:VEVENT
DTSTART;TZID=America/Sao_Paulo:20250425T140000
DTEND;TZID=America/Sao_Paulo:20250425T180000
DTSTAMP:20260425T111447
CREATED:20250425T160653Z
LAST-MODIFIED:20250425T160653Z
UID:42553-1745589600-1745604000@www.goiasfomento.com
SUMMARY:Deivison Costa: Despachos Internos.
DESCRIPTION:
URL:https://www.goiasfomento.com/agenda/deivison-costa-despachos-internos-62/
LOCATION:Chefia de Gabinete – Agência de Fomento de Goiás
CATEGORIES:Chefia de Gabinete
END:VEVENT
BEGIN:VEVENT
DTSTART;TZID=America/Sao_Paulo:20250425T143000
DTEND;TZID=America/Sao_Paulo:20250425T150000
DTSTAMP:20260425T111447
CREATED:20250425T170256Z
LAST-MODIFIED:20250425T170256Z
UID:42563-1745591400-1745593200@www.goiasfomento.com
SUMMARY:Rufino Veríssimo – Diretor Presidente (Em substituição): Reunião com  Luiz Arthur Medeiros Miguel - Gerente de Licitação e Contratos.
DESCRIPTION:
URL:https://www.goiasfomento.com/agenda/rufino-verissimo-diretor-presidente-em-substituicao-reuniao-com-luiz-arthur-medeiros-miguel-gerente-de-licitacao-e-contratos-14/
LOCATION:Gabinete da Diretoria de Operações da GoiásFomento – Agência de Fomento de Goiás.
CATEGORIES:Presidência
END:VEVENT
BEGIN:VEVENT
DTSTART;TZID=America/Sao_Paulo:20250425T143000
DTEND;TZID=America/Sao_Paulo:20250425T150000
DTSTAMP:20260425T111447
CREATED:20250425T170328Z
LAST-MODIFIED:20250425T170328Z
UID:42565-1745591400-1745593200@www.goiasfomento.com
SUMMARY:Rufino Veríssimo: Reunião com  Luiz Arthur Medeiros Miguel - Gerente de Licitação e Contratos.
DESCRIPTION:
URL:https://www.goiasfomento.com/agenda/rufino-verissimo-reuniao-com-luiz-arthur-medeiros-miguel-gerente-de-licitacao-e-contratos-19/
LOCATION:Gabinete da Diretoria de Operações da GoiásFomento – Agência de Fomento de Goiás.
CATEGORIES:Diretoria de Operações
END:VEVENT
BEGIN:VEVENT
DTSTART;TZID=America/Sao_Paulo:20250425T150000
DTEND;TZID=America/Sao_Paulo:20250425T153000
DTSTAMP:20260425T111447
CREATED:20250425T182039Z
LAST-MODIFIED:20250425T182039Z
UID:42567-1745593200-1745595000@www.goiasfomento.com
SUMMARY:Rufino Veríssimo – Diretor Presidente (Em substituição): Reunião com Gálbia do Amor Divino Rosa - Gerente Jurídica.
DESCRIPTION:
URL:https://www.goiasfomento.com/agenda/rufino-verissimo-diretor-presidente-em-substituicao-reuniao-com-galbia-do-amor-divino-rosa-gerente-juridica-4/
LOCATION:Gabinete da Diretoria de Operações da GoiásFomento – Agência de Fomento de Goiás.
CATEGORIES:Presidência
END:VEVENT
BEGIN:VEVENT
DTSTART;TZID=America/Sao_Paulo:20250425T150000
DTEND;TZID=America/Sao_Paulo:20250425T153000
DTSTAMP:20260425T111447
CREATED:20250425T182111Z
LAST-MODIFIED:20250425T182111Z
UID:42569-1745593200-1745595000@www.goiasfomento.com
SUMMARY:Rufino Veríssimo: Reunião com Gálbia do Amor Divino Rosa - Gerente Jurídica.
DESCRIPTION:
URL:https://www.goiasfomento.com/agenda/rufino-verissimo-reuniao-com-galbia-do-amor-divino-rosa-gerente-juridica-5/
LOCATION:Gabinete da Diretoria de Operações da GoiásFomento – Agência de Fomento de Goiás.
CATEGORIES:Diretoria de Operações
END:VEVENT
BEGIN:VEVENT
DTSTART;TZID=America/Sao_Paulo:20250425T153000
DTEND;TZID=America/Sao_Paulo:20250425T160000
DTSTAMP:20260425T111447
CREATED:20250425T182230Z
LAST-MODIFIED:20250425T182230Z
UID:42571-1745595000-1745596800@www.goiasfomento.com
SUMMARY:Rufino Veríssimo – Diretor Presidente (Em substituição): Reunião com Porthos R. de Albuquerque Motta - Assessor de Gerenciamento de Riscos e Escritório de Projetos.
DESCRIPTION:
URL:https://www.goiasfomento.com/agenda/rufino-verissimo-diretor-presidente-em-substituicao-reuniao-com-porthos-r-de-albuquerque-motta-assessor-de-gerenciamento-de-riscos-e-escritorio-de-projetos-5/
LOCATION:Gabinete da Diretoria de Operações da GoiásFomento – Agência de Fomento de Goiás.
CATEGORIES:Presidência
END:VEVENT
BEGIN:VEVENT
DTSTART;TZID=America/Sao_Paulo:20250425T153000
DTEND;TZID=America/Sao_Paulo:20250425T160000
DTSTAMP:20260425T111447
CREATED:20250425T182308Z
LAST-MODIFIED:20250425T182308Z
UID:42573-1745595000-1745596800@www.goiasfomento.com
SUMMARY:Rufino Veríssimo: Reunião com Porthos R. de Albuquerque Motta - Assessor de Gerenciamento de Riscos e Escritório de Projetos.
DESCRIPTION:
URL:https://www.goiasfomento.com/agenda/rufino-verissimo-reuniao-com-porthos-r-de-albuquerque-motta-assessor-de-gerenciamento-de-riscos-e-escritorio-de-projetos-6/
LOCATION:Gabinete da Diretoria de Operações da GoiásFomento – Agência de Fomento de Goiás.
CATEGORIES:Diretoria de Operações
END:VEVENT
BEGIN:VEVENT
DTSTART;TZID=America/Sao_Paulo:20250425T160000
DTEND;TZID=America/Sao_Paulo:20250425T163000
DTSTAMP:20260425T111447
CREATED:20250425T182357Z
LAST-MODIFIED:20250425T182357Z
UID:42575-1745596800-1745598600@www.goiasfomento.com
SUMMARY:Rufino Veríssimo – Diretor Presidente (Em substituição): Reunião com Maria Terezinha da Mota Batista - Assessora Técnica de Contabilidade.
DESCRIPTION:
URL:https://www.goiasfomento.com/agenda/rufino-verissimo-diretor-presidente-em-substituicao-reuniao-com-maria-terezinha-da-mota-batista-assessora-tecnica-de-contabilidade-19/
LOCATION:Gabinete da Diretoria de Operações da GoiásFomento – Agência de Fomento de Goiás.
CATEGORIES:Presidência
END:VEVENT
END:VCALENDAR